Back to Build/check report for BioC 3.13 experimental data |
|
This page was generated on 2021-10-16 15:58:42 -0400 (Sat, 16 Oct 2021).
To the developers/maintainers of the PasillaTranscriptExpr package: Make sure to use the following settings in order to reproduce any error or warning you see on this page. |
Package 272/406 | Hostname | OS / Arch | INSTALL | BUILD | CHECK | ||||||||
PasillaTranscriptExpr 1.20.0 (landing page) Malgorzata Nowicka
| malbec2 | Linux (Ubuntu 20.04.2 LTS) / x86_64 | OK | OK | OK | ![]() | |||||||
Package: PasillaTranscriptExpr |
Version: 1.20.0 |
Command: /home/biocbuild/bbs-3.13-bioc/R/bin/R CMD build --keep-empty-dirs --no-resave-data PasillaTranscriptExpr |
StartedAt: 2021-10-16 12:26:01 -0400 (Sat, 16 Oct 2021) |
EndedAt: 2021-10-16 12:26:12 -0400 (Sat, 16 Oct 2021) |
EllapsedTime: 11.6 seconds |
RetCode: 0 |
Status: OK |
PackageFile: PasillaTranscriptExpr_1.20.0.tar.gz |
PackageFileSize: 777.2 KiB |
############################################################################## ############################################################################## ### ### Running command: ### ### /home/biocbuild/bbs-3.13-bioc/R/bin/R CMD build --keep-empty-dirs --no-resave-data PasillaTranscriptExpr ### ############################################################################## ############################################################################## * checking for file ‘PasillaTranscriptExpr/DESCRIPTION’ ... OK * preparing ‘PasillaTranscriptExpr’: * checking DESCRIPTION meta-information ... OK * installing the package to build vignettes * creating vignettes ... OK * checking for LF line-endings in source and make files and shell scripts * checking for empty or unneeded directories Omitted ‘LazyData’ from DESCRIPTION * building ‘PasillaTranscriptExpr_1.20.0.tar.gz’