| Back to Build/check report for BioC 3.13 experimental data |
|
This page was generated on 2021-10-16 15:58:43 -0400 (Sat, 16 Oct 2021).
|
To the developers/maintainers of the rcellminerData package: Make sure to use the following settings in order to reproduce any error or warning you see on this page. |
| Package 303/406 | Hostname | OS / Arch | INSTALL | BUILD | CHECK | ||||||||
| rcellminerData 2.14.0 (landing page) Augustin Luna
| malbec2 | Linux (Ubuntu 20.04.2 LTS) / x86_64 | OK | OK | WARNINGS | ||||||||
| Package: rcellminerData |
| Version: 2.14.0 |
| Command: /home/biocbuild/bbs-3.13-bioc/R/bin/R CMD build --keep-empty-dirs --no-resave-data rcellminerData |
| StartedAt: 2021-10-16 12:28:38 -0400 (Sat, 16 Oct 2021) |
| EndedAt: 2021-10-16 12:31:54 -0400 (Sat, 16 Oct 2021) |
| EllapsedTime: 195.9 seconds |
| RetCode: 0 |
| Status: OK |
| PackageFile: rcellminerData_2.14.0.tar.gz |
| PackageFileSize: 215.6 MiB |
##############################################################################
##############################################################################
###
### Running command:
###
### /home/biocbuild/bbs-3.13-bioc/R/bin/R CMD build --keep-empty-dirs --no-resave-data rcellminerData
###
##############################################################################
##############################################################################
* checking for file ‘rcellminerData/DESCRIPTION’ ... OK
* preparing ‘rcellminerData’:
* checking DESCRIPTION meta-information ... OK
* installing the package to build vignettes
* creating vignettes ... OK
* checking for LF line-endings in source and make files and shell scripts
* checking for empty or unneeded directories
NB: this package now depends on R (>= 3.5.0)
WARNING: Added dependency on R >= 3.5.0 because serialized objects in
serialize/load version 3 cannot be read in older versions of R.
File(s) containing such objects:
‘rcellminerData/data/drugData.RData’
‘rcellminerData/data/molData.RData’
* building ‘rcellminerData_2.14.0.tar.gz’