| Back to Build/check report for BioC 3.13 experimental data | 
 | 
This page was generated on 2021-10-16 15:58:43 -0400 (Sat, 16 Oct 2021).
| To the developers/maintainers of the tcgaWGBSData.hg19 package: Make sure to use the following settings in order to reproduce any error or warning you see on this page. | 
| Package 379/406 | Hostname | OS / Arch | INSTALL | BUILD | CHECK | ||||||||
| tcgaWGBSData.hg19 1.10.0  (landing page) Divy Kangeyan 
 | malbec2 | Linux (Ubuntu 20.04.2 LTS) / x86_64 | OK | OK | OK |  | |||||||
| Package: tcgaWGBSData.hg19 | 
| Version: 1.10.0 | 
| Command: /home/biocbuild/bbs-3.13-bioc/R/bin/R CMD build --keep-empty-dirs --no-resave-data tcgaWGBSData.hg19 | 
| StartedAt: 2021-10-16 12:41:01 -0400 (Sat, 16 Oct 2021) | 
| EndedAt: 2021-10-16 12:41:26 -0400 (Sat, 16 Oct 2021) | 
| EllapsedTime: 24.1 seconds | 
| RetCode: 0 | 
| Status: OK | 
| PackageFile: tcgaWGBSData.hg19_1.10.0.tar.gz | 
| PackageFileSize: 10.44 KiB | 
############################################################################## ############################################################################## ### ### Running command: ### ### /home/biocbuild/bbs-3.13-bioc/R/bin/R CMD build --keep-empty-dirs --no-resave-data tcgaWGBSData.hg19 ### ############################################################################## ############################################################################## * checking for file ‘tcgaWGBSData.hg19/DESCRIPTION’ ... OK * preparing ‘tcgaWGBSData.hg19’: * checking DESCRIPTION meta-information ... OK * installing the package to build vignettes * creating vignettes ... OK * checking for LF line-endings in source and make files and shell scripts * checking for empty or unneeded directories * building ‘tcgaWGBSData.hg19_1.10.0.tar.gz’