Back to Build/check report for BioC 3.13 experimental data |
|
This page was generated on 2021-10-16 15:58:43 -0400 (Sat, 16 Oct 2021).
To the developers/maintainers of the scpdata package: Make sure to use the following settings in order to reproduce any error or warning you see on this page. |
Package 339/406 | Hostname | OS / Arch | INSTALL | BUILD | CHECK | ||||||||
scpdata 1.0.0 (landing page) Christophe Vanderaa
| malbec2 | Linux (Ubuntu 20.04.2 LTS) / x86_64 | OK | OK | OK | ||||||||
Package: scpdata |
Version: 1.0.0 |
Command: /home/biocbuild/bbs-3.13-bioc/R/bin/R CMD build --keep-empty-dirs --no-resave-data scpdata |
StartedAt: 2021-10-16 12:34:25 -0400 (Sat, 16 Oct 2021) |
EndedAt: 2021-10-16 12:35:24 -0400 (Sat, 16 Oct 2021) |
EllapsedTime: 58.5 seconds |
RetCode: 0 |
Status: OK |
PackageFile: scpdata_1.0.0.tar.gz |
PackageFileSize: 313.7 KiB |
############################################################################## ############################################################################## ### ### Running command: ### ### /home/biocbuild/bbs-3.13-bioc/R/bin/R CMD build --keep-empty-dirs --no-resave-data scpdata ### ############################################################################## ############################################################################## * checking for file ‘scpdata/DESCRIPTION’ ... OK * preparing ‘scpdata’: * checking DESCRIPTION meta-information ... OK * installing the package to build vignettes * creating vignettes ... OK * checking for LF line-endings in source and make files and shell scripts * checking for empty or unneeded directories Omitted ‘LazyData’ from DESCRIPTION * building ‘scpdata_1.0.0.tar.gz’