Back to Build/check report for BioC 3.13 experimental data |
|
This page was generated on 2021-10-16 15:58:40 -0400 (Sat, 16 Oct 2021).
To the developers/maintainers of the facsDorit package: Make sure to use the following settings in order to reproduce any error or warning you see on this page. |
Package 121/406 | Hostname | OS / Arch | INSTALL | BUILD | CHECK | ||||||||
Florian Hahne
| malbec2 | Linux (Ubuntu 20.04.2 LTS) / x86_64 | ERROR | OK | ERROR | ||||||||
Package: facsDorit |
Version: 1.34.0 |
Command: /home/biocbuild/bbs-3.13-bioc/R/bin/R CMD build --keep-empty-dirs --no-resave-data facsDorit |
StartedAt: 2021-10-16 11:52:58 -0400 (Sat, 16 Oct 2021) |
EndedAt: 2021-10-16 11:53:06 -0400 (Sat, 16 Oct 2021) |
EllapsedTime: 7.6 seconds |
RetCode: 0 |
Status: OK |
PackageFile: facsDorit_1.34.0.tar.gz |
PackageFileSize: 21.58 MiB |
############################################################################## ############################################################################## ### ### Running command: ### ### /home/biocbuild/bbs-3.13-bioc/R/bin/R CMD build --keep-empty-dirs --no-resave-data facsDorit ### ############################################################################## ############################################################################## * checking for file ‘facsDorit/DESCRIPTION’ ... OK * preparing ‘facsDorit’: * checking DESCRIPTION meta-information ... OK * checking for LF line-endings in source and make files and shell scripts * checking for empty or unneeded directories * building ‘facsDorit_1.34.0.tar.gz’