| Back to Build/check report for BioC 3.13 experimental data |
|
This page was generated on 2021-10-16 15:58:43 -0400 (Sat, 16 Oct 2021).
|
To the developers/maintainers of the Single.mTEC.Transcriptomes package: Make sure to use the following settings in order to reproduce any error or warning you see on this page. |
| Package 352/406 | Hostname | OS / Arch | INSTALL | BUILD | CHECK | ||||||||
| Single.mTEC.Transcriptomes 1.20.0 (landing page) Alejandro Reyes
| malbec2 | Linux (Ubuntu 20.04.2 LTS) / x86_64 | OK | OK | OK | ||||||||
| Package: Single.mTEC.Transcriptomes |
| Version: 1.20.0 |
| Command: /home/biocbuild/bbs-3.13-bioc/R/bin/R CMD build --keep-empty-dirs --no-resave-data Single.mTEC.Transcriptomes |
| StartedAt: 2021-10-16 12:36:41 -0400 (Sat, 16 Oct 2021) |
| EndedAt: 2021-10-16 12:42:55 -0400 (Sat, 16 Oct 2021) |
| EllapsedTime: 373.7 seconds |
| RetCode: 0 |
| Status: OK |
| PackageFile: Single.mTEC.Transcriptomes_1.20.0.tar.gz |
| PackageFileSize: 903.9 MiB |
##############################################################################
##############################################################################
###
### Running command:
###
### /home/biocbuild/bbs-3.13-bioc/R/bin/R CMD build --keep-empty-dirs --no-resave-data Single.mTEC.Transcriptomes
###
##############################################################################
##############################################################################
* checking for file ‘Single.mTEC.Transcriptomes/DESCRIPTION’ ... OK
* preparing ‘Single.mTEC.Transcriptomes’:
* checking DESCRIPTION meta-information ... OK
* installing the package to build vignettes
* creating vignettes ... OK
* checking for LF line-endings in source and make files and shell scripts
* checking for empty or unneeded directories
* looking to see if a ‘data/datalist’ file should be added
NB: this package now depends on R (>= 3.5.0)
WARNING: Added dependency on R >= 3.5.0 because serialized objects in
serialize/load version 3 cannot be read in older versions of R.
File(s) containing such objects:
‘Single.mTEC.Transcriptomes/data/coexpressionGroupList.RData’
* building ‘Single.mTEC.Transcriptomes_1.20.0.tar.gz’