| Back to Build/check report for BioC 3.13 experimental data |
|
This page was generated on 2021-10-16 15:58:39 -0400 (Sat, 16 Oct 2021).
|
To the developers/maintainers of the chipseqDBData package: Make sure to use the following settings in order to reproduce any error or warning you see on this page. |
| Package 63/406 | Hostname | OS / Arch | INSTALL | BUILD | CHECK | ||||||||
| chipseqDBData 1.8.1 (landing page) Aaron Lun
| malbec2 | Linux (Ubuntu 20.04.2 LTS) / x86_64 | OK | OK | OK | ||||||||
| Package: chipseqDBData |
| Version: 1.8.1 |
| Command: /home/biocbuild/bbs-3.13-bioc/R/bin/R CMD build --keep-empty-dirs --no-resave-data chipseqDBData |
| StartedAt: 2021-10-16 11:36:58 -0400 (Sat, 16 Oct 2021) |
| EndedAt: 2021-10-16 11:38:41 -0400 (Sat, 16 Oct 2021) |
| EllapsedTime: 102.4 seconds |
| RetCode: 0 |
| Status: OK |
| PackageFile: chipseqDBData_1.8.1.tar.gz |
| PackageFileSize: 285.8 KiB |
############################################################################## ############################################################################## ### ### Running command: ### ### /home/biocbuild/bbs-3.13-bioc/R/bin/R CMD build --keep-empty-dirs --no-resave-data chipseqDBData ### ############################################################################## ############################################################################## * checking for file ‘chipseqDBData/DESCRIPTION’ ... OK * preparing ‘chipseqDBData’: * checking DESCRIPTION meta-information ... OK * installing the package to build vignettes * creating vignettes ... OK * checking for LF line-endings in source and make files and shell scripts * checking for empty or unneeded directories * building ‘chipseqDBData_1.8.1.tar.gz’