| Back to Build/check report for BioC 3.13 experimental data |
|
This page was generated on 2021-10-16 15:58:39 -0400 (Sat, 16 Oct 2021).
|
To the developers/maintainers of the affydata package: Make sure to use the following settings in order to reproduce any error or warning you see on this page. |
| Package 4/406 | Hostname | OS / Arch | INSTALL | BUILD | CHECK | ||||||||
| affydata 1.40.0 (landing page) Harris Jaffee
| malbec2 | Linux (Ubuntu 20.04.2 LTS) / x86_64 | OK | OK | WARNINGS | ||||||||
| Package: affydata |
| Version: 1.40.0 |
| Command: /home/biocbuild/bbs-3.13-bioc/R/bin/R CMD INSTALL affydata |
| StartedAt: 2021-10-16 11:07:36 -0400 (Sat, 16 Oct 2021) |
| EndedAt: 2021-10-16 11:07:40 -0400 (Sat, 16 Oct 2021) |
| EllapsedTime: 3.9 seconds |
| RetCode: 0 |
| Status: OK |
##############################################################################
##############################################################################
###
### Running command:
###
### /home/biocbuild/bbs-3.13-bioc/R/bin/R CMD INSTALL affydata
###
##############################################################################
##############################################################################
* installing to library ‘/home/biocbuild/bbs-3.13-bioc/R/library’
* installing *source* package ‘affydata’ ...
** using staged installation
** R
** data
** inst
** byte-compile and prepare package for lazy loading
** help
*** installing help indices
** building package indices
** installing vignettes
** testing if installed package can be loaded from temporary location
Package LibPath
[1,] "affydata" "/home/biocbuild/bbs-3.13-bioc/R/library/00LOCK-affydata/00new"
Item Title
[1,] "Dilution" "AffyBatch instance Dilution"
** testing if installed package can be loaded from final location
Package LibPath Item
[1,] "affydata" "/home/biocbuild/bbs-3.13-bioc/R/library" "Dilution"
Title
[1,] "AffyBatch instance Dilution"
** testing if installed package keeps a record of temporary installation path
* DONE (affydata)