| Back to Build/check report for BioC 3.13 experimental data | 
 | 
This page was generated on 2021-10-16 15:58:39 -0400 (Sat, 16 Oct 2021).
| To the developers/maintainers of the chromstaRData package: Make sure to use the following settings in order to reproduce any error or warning you see on this page. | 
| Package 65/406 | Hostname | OS / Arch | INSTALL | BUILD | CHECK | ||||||||
| chromstaRData 1.18.0  (landing page) Aaron Taudt 
 | malbec2 | Linux (Ubuntu 20.04.2 LTS) / x86_64 | OK | OK | OK |  | |||||||
| Package: chromstaRData | 
| Version: 1.18.0 | 
| Command: /home/biocbuild/bbs-3.13-bioc/R/bin/R CMD build --keep-empty-dirs --no-resave-data chromstaRData | 
| StartedAt: 2021-10-16 11:37:19 -0400 (Sat, 16 Oct 2021) | 
| EndedAt: 2021-10-16 11:38:06 -0400 (Sat, 16 Oct 2021) | 
| EllapsedTime: 46.3 seconds | 
| RetCode: 0 | 
| Status: OK | 
| PackageFile: chromstaRData_1.18.0.tar.gz | 
| PackageFileSize: 140.2 MiB | 
############################################################################## ############################################################################## ### ### Running command: ### ### /home/biocbuild/bbs-3.13-bioc/R/bin/R CMD build --keep-empty-dirs --no-resave-data chromstaRData ### ############################################################################## ############################################################################## * checking for file ‘chromstaRData/DESCRIPTION’ ... OK * preparing ‘chromstaRData’: * checking DESCRIPTION meta-information ... OK * checking for LF line-endings in source and make files and shell scripts * checking for empty or unneeded directories * looking to see if a ‘data/datalist’ file should be added * building ‘chromstaRData_1.18.0.tar.gz’