| Back to Build/check report for BioC 3.13 experimental data |
|
This page was generated on 2021-10-16 15:58:40 -0400 (Sat, 16 Oct 2021).
|
To the developers/maintainers of the hapmapsnp5 package: Make sure to use the following settings in order to reproduce any error or warning you see on this page. |
| Package 163/406 | Hostname | OS / Arch | INSTALL | BUILD | CHECK | ||||||||
| hapmapsnp5 1.34.0 (landing page) Benilton Carvalho
| malbec2 | Linux (Ubuntu 20.04.2 LTS) / x86_64 | OK | OK | OK | ||||||||
| Package: hapmapsnp5 |
| Version: 1.34.0 |
| Command: /home/biocbuild/bbs-3.13-bioc/R/bin/R CMD build --keep-empty-dirs --no-resave-data hapmapsnp5 |
| StartedAt: 2021-10-16 12:07:42 -0400 (Sat, 16 Oct 2021) |
| EndedAt: 2021-10-16 12:09:24 -0400 (Sat, 16 Oct 2021) |
| EllapsedTime: 101.5 seconds |
| RetCode: 0 |
| Status: OK |
| PackageFile: hapmapsnp5_1.34.0.tar.gz |
| PackageFileSize: 59.41 MiB |
############################################################################## ############################################################################## ### ### Running command: ### ### /home/biocbuild/bbs-3.13-bioc/R/bin/R CMD build --keep-empty-dirs --no-resave-data hapmapsnp5 ### ############################################################################## ############################################################################## * checking for file ‘hapmapsnp5/DESCRIPTION’ ... OK * preparing ‘hapmapsnp5’: * checking DESCRIPTION meta-information ... OK * checking for LF line-endings in source and make files and shell scripts * checking for empty or unneeded directories * building ‘hapmapsnp5_1.34.0.tar.gz’