| Back to Build/check report for BioC 3.13 experimental data |
|
This page was generated on 2021-10-16 15:58:43 -0400 (Sat, 16 Oct 2021).
|
To the developers/maintainers of the yeastGSData package: Make sure to use the following settings in order to reproduce any error or warning you see on this page. |
| Package 402/406 | Hostname | OS / Arch | INSTALL | BUILD | CHECK | ||||||||
| yeastGSData 0.30.0 (landing page) R. Gentleman
| malbec2 | Linux (Ubuntu 20.04.2 LTS) / x86_64 | OK | OK | WARNINGS | ||||||||
| Package: yeastGSData |
| Version: 0.30.0 |
| Command: /home/biocbuild/bbs-3.13-bioc/R/bin/R CMD build --keep-empty-dirs --no-resave-data yeastGSData |
| StartedAt: 2021-10-16 12:45:17 -0400 (Sat, 16 Oct 2021) |
| EndedAt: 2021-10-16 12:45:33 -0400 (Sat, 16 Oct 2021) |
| EllapsedTime: 15.4 seconds |
| RetCode: 0 |
| Status: OK |
| PackageFile: yeastGSData_0.30.0.tar.gz |
| PackageFileSize: 8.124 MiB |
############################################################################## ############################################################################## ### ### Running command: ### ### /home/biocbuild/bbs-3.13-bioc/R/bin/R CMD build --keep-empty-dirs --no-resave-data yeastGSData ### ############################################################################## ############################################################################## * checking for file ‘yeastGSData/DESCRIPTION’ ... OK * preparing ‘yeastGSData’: * checking DESCRIPTION meta-information ... OK * checking for LF line-endings in source and make files and shell scripts * checking for empty or unneeded directories * looking to see if a ‘data/datalist’ file should be added * building ‘yeastGSData_0.30.0.tar.gz’