Back to Build/check report for BioC 3.13 experimental data |
|
This page was generated on 2021-10-16 15:58:39 -0400 (Sat, 16 Oct 2021).
To the developers/maintainers of the chipenrich.data package: Make sure to use the following settings in order to reproduce any error or warning you see on this page. |
Package 61/406 | Hostname | OS / Arch | INSTALL | BUILD | CHECK | ||||||||
chipenrich.data 2.16.0 (landing page) Raymond G. Cavalcante
| malbec2 | Linux (Ubuntu 20.04.2 LTS) / x86_64 | OK | OK | WARNINGS | ![]() | |||||||
Package: chipenrich.data |
Version: 2.16.0 |
Command: /home/biocbuild/bbs-3.13-bioc/R/bin/R CMD build --keep-empty-dirs --no-resave-data chipenrich.data |
StartedAt: 2021-10-16 11:36:34 -0400 (Sat, 16 Oct 2021) |
EndedAt: 2021-10-16 11:38:54 -0400 (Sat, 16 Oct 2021) |
EllapsedTime: 140.1 seconds |
RetCode: 0 |
Status: OK |
PackageFile: chipenrich.data_2.16.0.tar.gz |
PackageFileSize: 123.7 MiB |
############################################################################## ############################################################################## ### ### Running command: ### ### /home/biocbuild/bbs-3.13-bioc/R/bin/R CMD build --keep-empty-dirs --no-resave-data chipenrich.data ### ############################################################################## ############################################################################## * checking for file ‘chipenrich.data/DESCRIPTION’ ... OK * preparing ‘chipenrich.data’: * checking DESCRIPTION meta-information ... OK * installing the package to build vignettes * creating vignettes ... OK Warning: ‘inst/doc’ files ‘chipenrich.data-vignette.Rmd’, ‘chipenrich.data-vignette.html’, ‘chipenrich.data-vignette.R’ ignored as vignettes have been rebuilt. Run R CMD build with --no-build-vignettes to prevent rebuilding. * checking for LF line-endings in source and make files and shell scripts * checking for empty or unneeded directories NB: this package now depends on R (>= 3.5.0) WARNING: Added dependency on R >= 3.5.0 because serialized objects in serialize/load version 3 cannot be read in older versions of R. File(s) containing such objects: ‘chipenrich.data/data/enhancer.hg19.RData’ ‘chipenrich.data/data/enhancer.hg38.RData’ ‘chipenrich.data/data/enhancer.mm10.RData’ ‘chipenrich.data/data/enhancer.mm9.RData’ ‘chipenrich.data/data/gene.enh.desc.hg19.RData’ ‘chipenrich.data/data/gene.enh.desc.mm10.RData’ ‘chipenrich.data/data/gene.enh.desc.mm9.RData’ ‘chipenrich.data/data/locusdef.hg19.enhancer.RData’ ‘chipenrich.data/data/locusdef.hg19.enhancer_plus5kb.RData’ ‘chipenrich.data/data/locusdef.hg38.enhancer.RData’ ‘chipenrich.data/data/locusdef.hg38.enhancer_plus5kb.RData’ * building ‘chipenrich.data_2.16.0.tar.gz’