| Back to Build/check report for BioC 3.13 experimental data |
|
This page was generated on 2021-10-16 15:58:40 -0400 (Sat, 16 Oct 2021).
|
To the developers/maintainers of the CONFESSdata package: Make sure to use the following settings in order to reproduce any error or warning you see on this page. |
| Package 74/406 | Hostname | OS / Arch | INSTALL | BUILD | CHECK | ||||||||
| CONFESSdata 1.20.0 (landing page) Diana LOW
| malbec2 | Linux (Ubuntu 20.04.2 LTS) / x86_64 | OK | OK | OK | ||||||||
| Package: CONFESSdata |
| Version: 1.20.0 |
| Command: /home/biocbuild/bbs-3.13-bioc/R/bin/R CMD INSTALL CONFESSdata |
| StartedAt: 2021-10-16 11:05:19 -0400 (Sat, 16 Oct 2021) |
| EndedAt: 2021-10-16 11:05:25 -0400 (Sat, 16 Oct 2021) |
| EllapsedTime: 5.5 seconds |
| RetCode: 0 |
| Status: OK |
############################################################################## ############################################################################## ### ### Running command: ### ### /home/biocbuild/bbs-3.13-bioc/R/bin/R CMD INSTALL CONFESSdata ### ############################################################################## ############################################################################## * installing to library ‘/home/biocbuild/bbs-3.13-bioc/R/library’ * installing *source* package ‘CONFESSdata’ ... ** using staged installation ** data *** moving datasets to lazyload DB ** inst ** help *** installing help indices ** building package indices ** testing if installed package can be loaded from temporary location ** testing if installed package can be loaded from final location ** testing if installed package keeps a record of temporary installation path * DONE (CONFESSdata)