| Back to Build/check report for BioC 3.13 experimental data |
|
This page was generated on 2021-10-16 15:58:40 -0400 (Sat, 16 Oct 2021).
|
To the developers/maintainers of the EGSEAdata package: Make sure to use the following settings in order to reproduce any error or warning you see on this page. |
| Package 113/406 | Hostname | OS / Arch | INSTALL | BUILD | CHECK | ||||||||
| EGSEAdata 1.20.0 (landing page) Monther Alhamdoosh
| malbec2 | Linux (Ubuntu 20.04.2 LTS) / x86_64 | OK | OK | OK | ||||||||
| Package: EGSEAdata |
| Version: 1.20.0 |
| Command: /home/biocbuild/bbs-3.13-bioc/R/bin/R CMD INSTALL EGSEAdata |
| StartedAt: 2021-10-16 11:08:04 -0400 (Sat, 16 Oct 2021) |
| EndedAt: 2021-10-16 11:08:15 -0400 (Sat, 16 Oct 2021) |
| EllapsedTime: 10.6 seconds |
| RetCode: 0 |
| Status: OK |
############################################################################## ############################################################################## ### ### Running command: ### ### /home/biocbuild/bbs-3.13-bioc/R/bin/R CMD INSTALL EGSEAdata ### ############################################################################## ############################################################################## * installing to library ‘/home/biocbuild/bbs-3.13-bioc/R/library’ * installing *source* package ‘EGSEAdata’ ... ** using staged installation ** R ** data ** byte-compile and prepare package for lazy loading ** help *** installing help indices ** building package indices ** testing if installed package can be loaded from temporary location ** testing if installed package can be loaded from final location ** testing if installed package keeps a record of temporary installation path * DONE (EGSEAdata)