| Back to Build/check report for BioC 3.13 experimental data |
|
This page was generated on 2021-10-16 15:58:40 -0400 (Sat, 16 Oct 2021).
|
To the developers/maintainers of the gatingMLData package: Make sure to use the following settings in order to reproduce any error or warning you see on this page. |
| Package 142/406 | Hostname | OS / Arch | INSTALL | BUILD | CHECK | ||||||||
| gatingMLData 2.32.0 (landing page) J. Spidlen
| malbec2 | Linux (Ubuntu 20.04.2 LTS) / x86_64 | OK | OK | OK | ||||||||
| Package: gatingMLData |
| Version: 2.32.0 |
| Command: /home/biocbuild/bbs-3.13-bioc/R/bin/R CMD build --keep-empty-dirs --no-resave-data gatingMLData |
| StartedAt: 2021-10-16 12:02:42 -0400 (Sat, 16 Oct 2021) |
| EndedAt: 2021-10-16 12:03:33 -0400 (Sat, 16 Oct 2021) |
| EllapsedTime: 50.6 seconds |
| RetCode: 0 |
| Status: OK |
| PackageFile: gatingMLData_2.32.0.tar.gz |
| PackageFileSize: 8.113 MiB |
############################################################################## ############################################################################## ### ### Running command: ### ### /home/biocbuild/bbs-3.13-bioc/R/bin/R CMD build --keep-empty-dirs --no-resave-data gatingMLData ### ############################################################################## ############################################################################## * checking for file ‘gatingMLData/DESCRIPTION’ ... OK * preparing ‘gatingMLData’: * checking DESCRIPTION meta-information ... OK * checking for LF line-endings in source and make files and shell scripts * checking for empty or unneeded directories * building ‘gatingMLData_2.32.0.tar.gz’