| Back to Build/check report for BioC 3.13 experimental data |
|
This page was generated on 2021-10-16 15:58:40 -0400 (Sat, 16 Oct 2021).
|
To the developers/maintainers of the dsQTL package: Make sure to use the following settings in order to reproduce any error or warning you see on this page. |
| Package 107/406 | Hostname | OS / Arch | INSTALL | BUILD | CHECK | ||||||||
VJ Carey
| malbec2 | Linux (Ubuntu 20.04.2 LTS) / x86_64 | ERROR | ERROR | skipped | ||||||||
| Package: dsQTL |
| Version: 0.30.0 |
| Command: /home/biocbuild/bbs-3.13-bioc/R/bin/R CMD build --keep-empty-dirs --no-resave-data dsQTL |
| StartedAt: 2021-10-16 11:49:36 -0400 (Sat, 16 Oct 2021) |
| EndedAt: 2021-10-16 11:49:43 -0400 (Sat, 16 Oct 2021) |
| EllapsedTime: 6.7 seconds |
| RetCode: 1 |
| Status: ERROR |
| PackageFile: None |
| PackageFileSize: NA |
##############################################################################
##############################################################################
###
### Running command:
###
### /home/biocbuild/bbs-3.13-bioc/R/bin/R CMD build --keep-empty-dirs --no-resave-data dsQTL
###
##############################################################################
##############################################################################
* checking for file ‘dsQTL/DESCRIPTION’ ... OK
* preparing ‘dsQTL’:
* checking DESCRIPTION meta-information ... OK
* installing the package to build vignettes
-----------------------------------
ERROR: dependency ‘GGBase’ is not available for package ‘dsQTL’
* removing ‘/tmp/RtmpJEfCgV/Rinst17db31a0ae229/dsQTL’
-----------------------------------
ERROR: package installation failed