| Back to Build/check report for BioC 3.13 experimental data | 
 | 
This page was generated on 2021-10-16 15:58:41 -0400 (Sat, 16 Oct 2021).
| To the developers/maintainers of the lungExpression package: Make sure to use the following settings in order to reproduce any error or warning you see on this page. | 
| Package 210/406 | Hostname | OS / Arch | INSTALL | BUILD | CHECK | ||||||||
| lungExpression 0.30.0  (landing page) Robert Scharpf 
 | malbec2 | Linux (Ubuntu 20.04.2 LTS) / x86_64 | OK | OK | OK |  | |||||||
| Package: lungExpression | 
| Version: 0.30.0 | 
| Command: /home/biocbuild/bbs-3.13-bioc/R/bin/R CMD build --keep-empty-dirs --no-resave-data lungExpression | 
| StartedAt: 2021-10-16 12:17:18 -0400 (Sat, 16 Oct 2021) | 
| EndedAt: 2021-10-16 12:17:19 -0400 (Sat, 16 Oct 2021) | 
| EllapsedTime: 1.2 seconds | 
| RetCode: 0 | 
| Status: OK | 
| PackageFile: lungExpression_0.30.0.tar.gz | 
| PackageFileSize: 5.682 MiB | 
############################################################################## ############################################################################## ### ### Running command: ### ### /home/biocbuild/bbs-3.13-bioc/R/bin/R CMD build --keep-empty-dirs --no-resave-data lungExpression ### ############################################################################## ############################################################################## * checking for file ‘lungExpression/DESCRIPTION’ ... OK * preparing ‘lungExpression’: * checking DESCRIPTION meta-information ... OK * checking for LF line-endings in source and make files and shell scripts * checking for empty or unneeded directories * looking to see if a ‘data/datalist’ file should be added * building ‘lungExpression_0.30.0.tar.gz’