| Back to Build/check report for BioC 3.13 experimental data | 
 | 
This page was generated on 2021-10-16 15:58:39 -0400 (Sat, 16 Oct 2021).
| To the developers/maintainers of the bsseqData package: Make sure to use the following settings in order to reproduce any error or warning you see on this page. | 
| Package 45/406 | Hostname | OS / Arch | INSTALL | BUILD | CHECK | ||||||||
| bsseqData 0.30.0  (landing page) Kasper Daniel Hansen 
 | malbec2 | Linux (Ubuntu 20.04.2 LTS) / x86_64 | OK | OK | WARNINGS |  | |||||||
| Package: bsseqData | 
| Version: 0.30.0 | 
| Command: /home/biocbuild/bbs-3.13-bioc/R/bin/R CMD build --keep-empty-dirs --no-resave-data bsseqData | 
| StartedAt: 2021-10-16 11:30:51 -0400 (Sat, 16 Oct 2021) | 
| EndedAt: 2021-10-16 11:31:01 -0400 (Sat, 16 Oct 2021) | 
| EllapsedTime: 9.7 seconds | 
| RetCode: 0 | 
| Status: OK | 
| PackageFile: bsseqData_0.30.0.tar.gz | 
| PackageFileSize: 128.4 MiB | 
############################################################################## ############################################################################## ### ### Running command: ### ### /home/biocbuild/bbs-3.13-bioc/R/bin/R CMD build --keep-empty-dirs --no-resave-data bsseqData ### ############################################################################## ############################################################################## * checking for file ‘bsseqData/DESCRIPTION’ ... OK * preparing ‘bsseqData’: * checking DESCRIPTION meta-information ... OK * checking for LF line-endings in source and make files and shell scripts * checking for empty or unneeded directories * building ‘bsseqData_0.30.0.tar.gz’