Back to Build/check report for BioC 3.13 experimental data |
|
This page was generated on 2021-10-16 15:58:40 -0400 (Sat, 16 Oct 2021).
To the developers/maintainers of the GSE13015 package: Make sure to use the following settings in order to reproduce any error or warning you see on this page. |
Package 153/406 | Hostname | OS / Arch | INSTALL | BUILD | CHECK | ||||||||
GSE13015 1.0.0 (landing page) Darawan Rinchai
| malbec2 | Linux (Ubuntu 20.04.2 LTS) / x86_64 | OK | OK | OK | ![]() | |||||||
Package: GSE13015 |
Version: 1.0.0 |
Command: /home/biocbuild/bbs-3.13-bioc/R/bin/R CMD build --keep-empty-dirs --no-resave-data GSE13015 |
StartedAt: 2021-10-16 12:05:29 -0400 (Sat, 16 Oct 2021) |
EndedAt: 2021-10-16 12:07:29 -0400 (Sat, 16 Oct 2021) |
EllapsedTime: 120.3 seconds |
RetCode: 0 |
Status: OK |
PackageFile: GSE13015_1.0.0.tar.gz |
PackageFileSize: 218.2 KiB |
############################################################################## ############################################################################## ### ### Running command: ### ### /home/biocbuild/bbs-3.13-bioc/R/bin/R CMD build --keep-empty-dirs --no-resave-data GSE13015 ### ############################################################################## ############################################################################## * checking for file ‘GSE13015/DESCRIPTION’ ... OK * preparing ‘GSE13015’: * checking DESCRIPTION meta-information ... OK * installing the package to build vignettes * creating vignettes ... OK * checking for LF line-endings in source and make files and shell scripts * checking for empty or unneeded directories * building ‘GSE13015_1.0.0.tar.gz’