| Back to Build/check report for BioC 3.13 experimental data |
|
This page was generated on 2021-10-16 15:58:43 -0400 (Sat, 16 Oct 2021).
|
To the developers/maintainers of the rRDPData package: Make sure to use the following settings in order to reproduce any error or warning you see on this page. |
| Package 324/406 | Hostname | OS / Arch | INSTALL | BUILD | CHECK | ||||||||
| rRDPData 1.12.0 (landing page) Michael Hahsler
| malbec2 | Linux (Ubuntu 20.04.2 LTS) / x86_64 | OK | OK | OK | ||||||||
| Package: rRDPData |
| Version: 1.12.0 |
| Command: /home/biocbuild/bbs-3.13-bioc/R/bin/R CMD build --keep-empty-dirs --no-resave-data rRDPData |
| StartedAt: 2021-10-16 12:30:44 -0400 (Sat, 16 Oct 2021) |
| EndedAt: 2021-10-16 12:31:00 -0400 (Sat, 16 Oct 2021) |
| EllapsedTime: 16.0 seconds |
| RetCode: 0 |
| Status: OK |
| PackageFile: rRDPData_1.12.0.tar.gz |
| PackageFileSize: 17.27 MiB |
############################################################################## ############################################################################## ### ### Running command: ### ### /home/biocbuild/bbs-3.13-bioc/R/bin/R CMD build --keep-empty-dirs --no-resave-data rRDPData ### ############################################################################## ############################################################################## * checking for file ‘rRDPData/DESCRIPTION’ ... OK * preparing ‘rRDPData’: * checking DESCRIPTION meta-information ... OK * checking for LF line-endings in source and make files and shell scripts * checking for empty or unneeded directories * building ‘rRDPData_1.12.0.tar.gz’