Back to Build/check report for BioC 3.13 experimental data |
|
This page was generated on 2021-10-16 15:58:39 -0400 (Sat, 16 Oct 2021).
To the developers/maintainers of the AshkenazimSonChr21 package: Make sure to use the following settings in order to reproduce any error or warning you see on this page. |
Package 19/406 | Hostname | OS / Arch | INSTALL | BUILD | CHECK | ||||||||
AshkenazimSonChr21 1.22.0 (landing page) Who to complain to
| malbec2 | Linux (Ubuntu 20.04.2 LTS) / x86_64 | OK | OK | OK | ||||||||
Package: AshkenazimSonChr21 |
Version: 1.22.0 |
Command: /home/biocbuild/bbs-3.13-bioc/R/bin/R CMD build --keep-empty-dirs --no-resave-data AshkenazimSonChr21 |
StartedAt: 2021-10-16 11:28:30 -0400 (Sat, 16 Oct 2021) |
EndedAt: 2021-10-16 11:28:55 -0400 (Sat, 16 Oct 2021) |
EllapsedTime: 25.2 seconds |
RetCode: 0 |
Status: OK |
PackageFile: AshkenazimSonChr21_1.22.0.tar.gz |
PackageFileSize: 9.753 MiB |
############################################################################## ############################################################################## ### ### Running command: ### ### /home/biocbuild/bbs-3.13-bioc/R/bin/R CMD build --keep-empty-dirs --no-resave-data AshkenazimSonChr21 ### ############################################################################## ############################################################################## * checking for file ‘AshkenazimSonChr21/DESCRIPTION’ ... OK * preparing ‘AshkenazimSonChr21’: * checking DESCRIPTION meta-information ... OK * installing the package to build vignettes * creating vignettes ... OK * checking for LF line-endings in source and make files and shell scripts * checking for empty or unneeded directories * building ‘AshkenazimSonChr21_1.22.0.tar.gz’