Back to Build/check report for BioC 3.13 experimental data |
|
This page was generated on 2021-10-16 15:58:42 -0400 (Sat, 16 Oct 2021).
To the developers/maintainers of the pRolocdata package: Make sure to use the following settings in order to reproduce any error or warning you see on this page. |
Package 286/406 | Hostname | OS / Arch | INSTALL | BUILD | CHECK | ||||||||
pRolocdata 1.30.0 (landing page) Laurent Gatto
| malbec2 | Linux (Ubuntu 20.04.2 LTS) / x86_64 | OK | OK | OK | ||||||||
Package: pRolocdata |
Version: 1.30.0 |
Command: /home/biocbuild/bbs-3.13-bioc/R/bin/R CMD check --install=check:pRolocdata.install-out.txt --library=/home/biocbuild/bbs-3.13-bioc/R/library --no-vignettes --timings pRolocdata_1.30.0.tar.gz |
StartedAt: 2021-10-16 13:46:26 -0400 (Sat, 16 Oct 2021) |
EndedAt: 2021-10-16 13:50:13 -0400 (Sat, 16 Oct 2021) |
EllapsedTime: 227.7 seconds |
RetCode: 0 |
Status: OK |
CheckDir: pRolocdata.Rcheck |
Warnings: 0 |
############################################################################## ############################################################################## ### ### Running command: ### ### /home/biocbuild/bbs-3.13-bioc/R/bin/R CMD check --install=check:pRolocdata.install-out.txt --library=/home/biocbuild/bbs-3.13-bioc/R/library --no-vignettes --timings pRolocdata_1.30.0.tar.gz ### ############################################################################## ############################################################################## * using log directory ‘/home/biocbuild/bbs-3.13-data-experiment/meat/pRolocdata.Rcheck’ * using R version 4.1.1 (2021-08-10) * using platform: x86_64-pc-linux-gnu (64-bit) * using session charset: UTF-8 * using option ‘--no-vignettes’ * checking for file ‘pRolocdata/DESCRIPTION’ ... OK * checking extension type ... Package * this is package ‘pRolocdata’ version ‘1.30.0’ * package encoding: UTF-8 * checking package namespace information ... OK * checking package dependencies ... OK * checking if this is a source package ... OK * checking if there is a namespace ... OK * checking for hidden files and directories ... NOTE Found the following hidden files and directories: .git_fetch_output.txt .git_merge_output.txt These were most likely included in error. See section ‘Package structure’ in the ‘Writing R Extensions’ manual. * checking for portable file names ... OK * checking for sufficient/correct file permissions ... OK * checking whether package ‘pRolocdata’ can be installed ... OK * checking installed package size ... NOTE installed size is 304.2Mb sub-directories of 1Mb or more: data 70.3Mb extdata 233.4Mb * checking package directory ... OK * checking DESCRIPTION meta-information ... OK * checking top-level files ... OK * checking for left-over files ... OK * checking index information ... OK * checking package subdirectories ... OK * checking R files for non-ASCII characters ... OK * checking R files for syntax errors ... OK * checking whether the package can be loaded ... OK * checking whether the package can be loaded with stated dependencies ... OK * checking whether the package can be unloaded cleanly ... OK * checking whether the namespace can be loaded with stated dependencies ... OK * checking whether the namespace can be unloaded cleanly ... OK * checking dependencies in R code ... OK * checking S3 generic/method consistency ... OK * checking replacement functions ... OK * checking foreign function calls ... OK * checking R code for possible problems ... OK * checking Rd files ... OK * checking Rd metadata ... OK * checking Rd cross-references ... OK * checking for missing documentation entries ... OK * checking for code/documentation mismatches ... OK * checking Rd \usage sections ... OK * checking Rd contents ... OK * checking for unstated dependencies in examples ... OK * checking contents of ‘data’ directory ... OK * checking data for non-ASCII characters ... OK * checking data for ASCII and uncompressed saves ... OK * checking examples ... OK Examples with CPU (user + system) or elapsed time > 5s user system elapsed krahmer2018pcp 10.586 0.212 10.798 Shin2020 6.024 0.165 6.911 * checking for unstated dependencies in ‘tests’ ... OK * checking tests ... Running ‘testthat.R’ OK * checking PDF version of manual ... OK * DONE Status: 2 NOTEs See ‘/home/biocbuild/bbs-3.13-data-experiment/meat/pRolocdata.Rcheck/00check.log’ for details.
pRolocdata.Rcheck/00install.out
############################################################################## ############################################################################## ### ### Running command: ### ### /home/biocbuild/bbs-3.13-bioc/R/bin/R CMD INSTALL pRolocdata ### ############################################################################## ############################################################################## * installing to library ‘/home/biocbuild/bbs-3.13-bioc/R/library’ * installing *source* package ‘pRolocdata’ ... ** using staged installation ** R ** data ** inst ** byte-compile and prepare package for lazy loading ** help *** installing help indices ** building package indices ** testing if installed package can be loaded from temporary location ** testing if installed package can be loaded from final location ** testing if installed package keeps a record of temporary installation path * DONE (pRolocdata)
pRolocdata.Rcheck/tests/testthat.Rout
R version 4.1.1 (2021-08-10) -- "Kick Things" Copyright (C) 2021 The R Foundation for Statistical Computing Platform: x86_64-pc-linux-gnu (64-bit) R is free software and comes with ABSOLUTELY NO WARRANTY. You are welcome to redistribute it under certain conditions. Type 'license()' or 'licence()' for distribution details. R is a collaborative project with many contributors. Type 'contributors()' for more information and 'citation()' on how to cite R or R packages in publications. Type 'demo()' for some demos, 'help()' for on-line help, or 'help.start()' for an HTML browser interface to help. Type 'q()' to quit R. > # setting R_TESTS to empty string because of > # https://github.com/hadley/testthat/issues/144 > # revert this when that issue in R is fixed. > Sys.setenv("R_TESTS" = "") > library(testthat) > library(MSnbase) Loading required package: BiocGenerics Loading required package: parallel Attaching package: 'BiocGenerics' The following objects are masked from 'package:parallel': clusterApply, clusterApplyLB, clusterCall, clusterEvalQ, clusterExport, clusterMap, parApply, parCapply, parLapply, parLapplyLB, parRapply, parSapply, parSapplyLB The following objects are masked from 'package:stats': IQR, mad, sd, var, xtabs The following objects are masked from 'package:base': Filter, Find, Map, Position, Reduce, anyDuplicated, append, as.data.frame, basename, cbind, colnames, dirname, do.call, duplicated, eval, evalq, get, grep, grepl, intersect, is.unsorted, lapply, mapply, match, mget, order, paste, pmax, pmax.int, pmin, pmin.int, rank, rbind, rownames, sapply, setdiff, sort, table, tapply, union, unique, unsplit, which.max, which.min Loading required package: Biobase Welcome to Bioconductor Vignettes contain introductory material; view with 'browseVignettes()'. To cite Bioconductor, see 'citation("Biobase")', and for packages 'citation("pkgname")'. Loading required package: mzR Loading required package: Rcpp Loading required package: S4Vectors Loading required package: stats4 Attaching package: 'S4Vectors' The following objects are masked from 'package:base': I, expand.grid, unname Loading required package: ProtGenerics Attaching package: 'ProtGenerics' The following object is masked from 'package:stats': smooth This is MSnbase version 2.18.0 Visit https://lgatto.github.io/MSnbase/ to get started. Attaching package: 'MSnbase' The following object is masked from 'package:base': trimws > library(pRolocdata) This is pRolocdata version 1.30.0. Use 'pRolocdata()' to list available data sets. > > test_check("pRolocdata") [ FAIL 0 | WARN 0 | SKIP 0 | PASS 108 ] > > proc.time() user system elapsed 16.666 0.397 17.049
pRolocdata.Rcheck/pRolocdata-Ex.timings
name | user | system | elapsed | |
E14TG2a | 0.038 | 0.004 | 0.042 | |
Shin2020 | 6.024 | 0.165 | 6.911 | |
ToxoLopit | 0.591 | 0.004 | 0.595 | |
andreyev2010 | 0.628 | 0.008 | 0.635 | |
andy2011 | 0.060 | 0.004 | 0.064 | |
at_chloro | 0.104 | 0.000 | 0.104 | |
baers2018 | 0.403 | 0.000 | 0.403 | |
beltran2016 | 0.632 | 0.000 | 0.633 | |
davies2018 | 0.324 | 0.004 | 0.328 | |
dunkley2006 | 0.008 | 0.004 | 0.011 | |
fabre2015 | 0.332 | 0.000 | 0.333 | |
foster2006 | 0.027 | 0.004 | 0.030 | |
groen2014 | 1.087 | 0.068 | 1.154 | |
hall2009 | 0.197 | 0.000 | 0.197 | |
havugimana2012 | 0.144 | 0.008 | 0.151 | |
hirst2018 | 1.085 | 0.012 | 1.097 | |
hyperLOPIT2015 | 3.343 | 0.036 | 3.379 | |
hyperLOPITU2OS2017 | 1.304 | 0.028 | 1.348 | |
itzhak2016 | 1.266 | 0.012 | 1.279 | |
itzhak2017 | 1.759 | 0.008 | 1.767 | |
itzhak2017dynamic | 1.255 | 0.012 | 1.266 | |
kirkwood2013 | 0.042 | 0.000 | 0.042 | |
kozik2020 | 0.257 | 0.000 | 0.258 | |
krahmer2018pcp | 10.586 | 0.212 | 10.798 | |
kristensen2012 | 0.023 | 0.000 | 0.023 | |
lopimsSyn2 | 0.667 | 0.012 | 0.679 | |
mulvey2015 | 2.692 | 0.016 | 2.720 | |
nikolovski2012 | 0.412 | 0.000 | 0.413 | |
nikolovski2014 | 0.393 | 0.004 | 0.397 | |
orre2019 | 0.459 | 0.004 | 0.463 | |
pRolocdata | 0.015 | 0.010 | 0.268 | |
pRolocmetadata | 0.022 | 0.000 | 0.022 | |
rodriguez2012r1 | 0.715 | 0.008 | 0.732 | |
stekhoven2014 | 0.235 | 0.008 | 0.243 | |
tan2009 | 0.016 | 0.000 | 0.016 | |
trotter2010 | 0.330 | 0.008 | 0.338 | |
yeast | 0.397 | 0.004 | 0.401 | |