| Back to Build/check report for BioC 3.13 experimental data |
|
This page was generated on 2021-10-16 15:58:39 -0400 (Sat, 16 Oct 2021).
|
To the developers/maintainers of the adductData package: Make sure to use the following settings in order to reproduce any error or warning you see on this page. |
| Package 2/406 | Hostname | OS / Arch | INSTALL | BUILD | CHECK | ||||||||
| adductData 1.8.0 (landing page) Josie Hayes
| malbec2 | Linux (Ubuntu 20.04.2 LTS) / x86_64 | OK | OK | OK | ||||||||
| Package: adductData |
| Version: 1.8.0 |
| Command: /home/biocbuild/bbs-3.13-bioc/R/bin/R CMD build --keep-empty-dirs --no-resave-data adductData |
| StartedAt: 2021-10-16 11:27:41 -0400 (Sat, 16 Oct 2021) |
| EndedAt: 2021-10-16 11:28:05 -0400 (Sat, 16 Oct 2021) |
| EllapsedTime: 23.6 seconds |
| RetCode: 0 |
| Status: OK |
| PackageFile: adductData_1.8.0.tar.gz |
| PackageFileSize: 7.366 KiB |
############################################################################## ############################################################################## ### ### Running command: ### ### /home/biocbuild/bbs-3.13-bioc/R/bin/R CMD build --keep-empty-dirs --no-resave-data adductData ### ############################################################################## ############################################################################## * checking for file ‘adductData/DESCRIPTION’ ... OK * preparing ‘adductData’: * checking DESCRIPTION meta-information ... OK * installing the package to build vignettes * creating vignettes ... OK * checking for LF line-endings in source and make files and shell scripts * checking for empty or unneeded directories Omitted ‘LazyData’ from DESCRIPTION * building ‘adductData_1.8.0.tar.gz’