| Back to Build/check report for BioC 3.13 experimental data |
|
This page was generated on 2021-10-16 15:58:41 -0400 (Sat, 16 Oct 2021).
|
To the developers/maintainers of the MethylSeqData package: Make sure to use the following settings in order to reproduce any error or warning you see on this page. |
| Package 231/406 | Hostname | OS / Arch | INSTALL | BUILD | CHECK | ||||||||
| MethylSeqData 1.2.0 (landing page) Peter Hickey
| malbec2 | Linux (Ubuntu 20.04.2 LTS) / x86_64 | OK | OK | OK | ||||||||
| Package: MethylSeqData |
| Version: 1.2.0 |
| Command: /home/biocbuild/bbs-3.13-bioc/R/bin/R CMD build --keep-empty-dirs --no-resave-data MethylSeqData |
| StartedAt: 2021-10-16 12:20:29 -0400 (Sat, 16 Oct 2021) |
| EndedAt: 2021-10-16 12:21:19 -0400 (Sat, 16 Oct 2021) |
| EllapsedTime: 49.8 seconds |
| RetCode: 0 |
| Status: OK |
| PackageFile: MethylSeqData_1.2.0.tar.gz |
| PackageFileSize: 226.7 KiB |
############################################################################## ############################################################################## ### ### Running command: ### ### /home/biocbuild/bbs-3.13-bioc/R/bin/R CMD build --keep-empty-dirs --no-resave-data MethylSeqData ### ############################################################################## ############################################################################## * checking for file ‘MethylSeqData/DESCRIPTION’ ... OK * preparing ‘MethylSeqData’: * checking DESCRIPTION meta-information ... OK * installing the package to build vignettes * creating vignettes ... OK * checking for LF line-endings in source and make files and shell scripts * checking for empty or unneeded directories * building ‘MethylSeqData_1.2.0.tar.gz’