This page was generated on 2019-10-16 13:05:14 -0400 (Wed, 16 Oct 2019).
| [malbec2] |
Linux (Ubuntu 18.04.2 LTS) / x86_64 | | | | | |
| tokay2 |
Windows Server 2012 R2 Standard / x64 | | | | | |
| celaya2 |
OS X 10.11.6 El Capitan / x86_64 | | | | | |
|
|
| |
| a4 1.32.0 | Tobias Verbeke | OK | OK | OK | |  |
| a4Base 1.32.0 | Tobias Verbeke | OK | OK | OK | |  |
| a4Classif 1.32.0 | Tobias Verbeke | OK | OK | OK | |  |
| a4Core 1.32.0 | Tobias Verbeke | OK | OK | OK | |  |
| a4Preproc 1.32.0 | Tobias Verbeke | OK | OK | OK | |  |
| a4Reporting 1.32.0 | Tobias Verbeke , Willem Ligtenberg | OK | OK | OK | |  |
| ABAEnrichment 1.14.1 | Steffi Grote | OK | OK | OK | |  |
| ABarray 1.52.0 | Yongming Andrew Sun | OK | OK | OK | |  |
| abseqR 1.2.0 | JiaHong Fong | OK | OK | OK | |  |
| ABSSeq 1.38.0 | Wentao Yang | OK | OK | OK | |  |
| acde 1.14.0 | Juan Pablo Acosta | OK | OK | OK | |  |
| ACE 1.2.0 | Jos B Poell | OK | OK | OK | |  |
| aCGH 1.62.0 | Peter Dimitrov | OK | OK | OK | |  |
| ACME 2.40.0 | Sean Davis | OK | OK | WARNINGS | |  |
| ADaCGH2 2.24.0 | Ramon Diaz-Uriarte | OK | OK | OK | |  |
| ADAM 1.0.0 | Jose Luiz Rybarczyk Filho | OK | OK | OK | |  |
| ADAMgui 1.0.0 | Jose Luiz Rybarczyk Filho | OK | OK | OK | |  |
| adaptest 1.4.0 | Weixin Cai | OK | OK | ERROR | | |
| adductomicsR 1.0.0 | Josie Hayes | OK | OK | OK | |  |
| adSplit 1.54.0 | Claudio Lottaz | OK | OK | WARNINGS | |  |
| AffiXcan 1.2.0 | Alessandro Lussana | OK | OK | OK | |  |
| affxparser 1.56.0 | Kasper Daniel Hansen | OK | OK | WARNINGS | |  |
| affy 1.62.0 | Rafael A. Irizarry | OK | OK | WARNINGS | |  |
| affycomp 1.60.0 | Rafael A. Irizarry | OK | OK | OK | |  |
| AffyCompatible 1.44.0 | Martin Morgan | OK | OK | OK | |  |
| affyContam 1.42.0 | V. Carey | OK | OK | OK | |  |
| affycoretools 1.56.0 | James W. MacDonald | OK | OK | OK | |  |
| AffyExpress 1.50.0 | Xuejun Arthur Li | OK | OK | OK | |  |
| affyILM 1.36.0 | Myriam Kroll and Fabrice Berger | OK | OK | OK | |  |
| affyio 1.54.0 | Ben Bolstad | OK | OK | OK | |  |
| affylmGUI 1.58.0 | Gordon Smyth | OK | OK | OK | |  |
| affyPara 1.44.0 | Markus Schmidberger | OK | OK | OK | |  |
| affypdnn 1.58.0 | Laurent Gautier | OK | OK | OK | |  |
| affyPLM 1.60.0 | Ben Bolstad | OK | OK | OK | |  |
| affyQCReport 1.62.0 | Craig Parman | OK | OK | OK | |  |
| AffyRNADegradation 1.30.0 | Mario Fasold | OK | OK | OK | |  |
| AGDEX 1.32.0 | Cuilan lani Gao | OK | OK | OK | |  |
| agilp 3.16.0 | Benny Chain | OK | OK | OK | |  |
| AgiMicroRna 2.34.0 | Pedro Lopez-Romero | OK | OK | OK | |  |
| AIMS 1.16.0 | Eric R Paquet | OK | OK | OK | |  |
| ALDEx2 1.16.0 | Greg Gloor | OK | OK | OK | |  |
| alevinQC 1.0.0 | Charlotte Soneson | OK | OK | OK | |  |
| AllelicImbalance 1.22.0 | Jesper R Gadin | OK | OK | OK | |  |
| alpine 1.10.0 | Michael Love | OK | OK | OK | |  |
| alsace 1.20.0 | Ron Wehrens | OK | OK | OK | |  |
| altcdfenvs 2.46.0 | Laurent Gautier | OK | OK | OK | |  |
| AMARETTO 1.0.0 | Olivier Gevaert | OK | OK | OK | |  |
| AMOUNTAIN 1.10.0 | Dong Li | OK | OK | OK | |  |
| amplican 1.6.2 | Eivind Valen | OK | OK | OK | |  |
| AnalysisPageServer 1.18.1 | Brad Friedman | OK | OK | OK | |  |
| anamiR 1.12.0 | Ti-Tai Wang | OK | OK | OK | |  |
| Anaquin 2.8.0 | Ted Wong | OK | OK | OK | |  |
| AneuFinder 1.12.1 | Aaron Taudt | OK | OK | OK | |  |
| ANF 1.6.0 | Tianle Ma | OK | OK | OK | |  |
| animalcules 1.0.6 | Yue Zhao | OK | OK | OK | |  |
| annaffy 1.56.0 | Colin A. Smith | OK | OK | OK | |  |
| annmap 1.26.0 | Chris Wirth | OK | OK | WARNINGS | |  |
| annotate 1.62.0 | Bioconductor Package Maintainer | OK | OK | OK | |  |
| AnnotationDbi 1.46.1 | Bioconductor Package Maintainer | OK | OK | OK | |  |
| AnnotationFilter 1.8.0 | Bioconductor Package Maintainer | OK | OK | OK | |  |
| AnnotationForge 1.26.0 | Bioconductor Package Maintainer | OK | OK | OK | |  |
| AnnotationFuncs 1.34.0 | Stefan McKinnon Edwards | OK | OK | OK | |  |
| AnnotationHub 2.16.1 | Bioconductor Package Maintainer | OK | OK | WARNINGS | |  |
| AnnotationHubData 1.14.0 | Bioconductor Package Maintainer | OK | OK | OK | |  |
| annotationTools 1.58.0 | Alexandre Kuhn | OK | OK | OK | |  |
| annotatr 1.10.0 | Raymond G. Cavalcante | OK | OK | OK | |  |
| anota 1.32.0 | Ola Larsson | OK | OK | OK | |  |
| anota2seq 1.6.0 | Christian Oertlin , Julie Lorent | OK | OK | OK | |  |
| antiProfiles 1.24.0 | Hector Corrada Bravo | OK | OK | OK | |  |
| apComplex 2.50.0 | Denise Scholtens | OK | OK | OK | |  |
| apeglm 1.6.0 | Anqi Zhu | OK | OK | OK | |  |
| appreci8R 1.2.2 | Sarah Sandmann | OK | OK | OK | |  |
| aroma.light 3.14.0 | Henrik Bengtsson | OK | OK | OK | |  |
| ArrayExpress 1.44.0 | Suhaib Mohammed | OK | OK | OK | |  |
| ArrayExpressHTS 1.34.2 | Angela Goncalves , Andrew Tikhonov | OK | OK | WARNINGS | |  |
| arrayMvout 1.42.0 | V. Carey | OK | OK | OK | |  |
| arrayQuality 1.62.0 | Agnes Paquet | OK | OK | WARNINGS | |  |
| arrayQualityMetrics 3.40.0 | Mike Smith | OK | OK | OK | |  |
| ArrayTools 1.44.0 | Arthur Li | OK | OK | OK | |  |
| ArrayTV 1.22.0 | Eitan Halper-Stromberg | OK | OK | OK | |  |
| ARRmNormalization 1.24.0 | Jean-Philippe Fortin | OK | OK | OK | |  |
| artMS 1.2.7 | David Jimenez-Morales | OK | OK | OK | |  |
| ASAFE 1.10.0 | Qian Zhang | OK | OK | OK | |  |
| ASEB 1.28.0 | Likun Wang | OK | OK | OK | |  |
| ASGSCA 1.18.0 | Hela Romdhani | OK | OK | OK | |  |
| ASICS 2.0.1 | Gaëlle Lefort | OK | OK | OK | |  |
| ASpli 1.10.0 | Estefania Mancini | OK | OK | OK | |  |
| AssessORF 1.2.0 | Deepank Korandla | OK | OK | OK | |  |
| ASSET 2.2.0 | Samsiddhi Bhattacharjee | OK | OK | WARNINGS | |  |
| ASSIGN 1.20.1 | Ying Shen , W. Evan Johnson | OK | OK | OK | |  |
| ATACseqQC 1.8.5 | Jianhong Ou | OK | OK | OK | |  |
| atSNP 1.0.0 | Sunyoung Shin | OK | OK | OK | |  |
| attract 1.36.0 | Samuel Zimmerman | OK | OK | OK | |  |
| AUCell 1.6.1 | Sara Aibar | OK | OK | OK | |  |
|
| |
| BaalChIP 1.10.0 | Ines de Santiago | OK | OK | WARNINGS | |  |
| BAC 1.44.0 | Raphael Gottardo | OK | OK | OK | |  |
| bacon 1.12.0 | Maarten van Iterson | OK | OK | OK | |  |
| BADER 1.22.0 | Andreas Neudecker | OK | OK | OK | |  |
| BadRegionFinder 1.12.0 | Sarah Sandmann | OK | OK | OK | |  |
| BAGS 2.24.0 | Alejandro Quiroz-Zarate | OK | OK | OK | |  |
| ballgown 2.16.0 | Jack Fu | OK | OK | OK | |  |
| bamsignals 1.16.0 | Alessandro Mammana | OK | OK | WARNINGS | |  |
| BANDITS 1.0.0 | Simone Tiberi | OK | OK | OK | |  |
| banocc 1.8.1 | George Weingart | OK | OK | OK | |  |
| basecallQC 1.8.0 | Thomas Carroll | OK | OK | OK | |  |
| BaseSpaceR 1.28.0 | Jared O'Connell | OK | OK | OK | |  |
| Basic4Cseq 1.20.0 | Carolin Walter | OK | OK | OK | |  |
| BASiCS 1.6.0 | Catalina Vallejos | OK | OK | OK | |  |
| BasicSTARRseq 1.12.0 | Annika Buerger | OK | OK | OK | |  |
| batchelor 1.0.1 | Aaron Lun | OK | OK | OK | |  |
| BatchQC 1.12.1 | Solaiappan Manimaran | OK | OK | OK | |  |
| BayesKnockdown 1.10.0 | William Chad Young | OK | OK | OK | |  |
| BayesPeak 1.36.0 | Jonathan Cairns | OK | OK | OK | |  |
| bayNorm 1.2.0 | Wenhao Tang | OK | OK | OK | |  |
| baySeq 2.18.0 | Thomas J. Hardcastle | OK | OK | OK | |  |
| BBCAnalyzer 1.14.0 | Sarah Sandmann | OK | OK | OK | |  |
| BCRANK 1.46.0 | Adam Ameur | OK | OK | OK | |  |
| bcSeq 1.6.0 | Jiaxing Lin | OK | OK | OK | |  |
| BDMMAcorrect 1.2.0 | ZHENWEI DAI | OK | OK | OK | |  |
| beachmat 2.0.0 | Aaron Lun | OK | OK | OK | |  |
| beadarray 2.34.0 | Mark Dunning | OK | OK | OK | |  |
| beadarraySNP 1.50.0 | Jan Oosting | OK | OK | OK | |  |
| BeadDataPackR 1.36.0 | Mike Smith | OK | OK | OK | |  |
| BEARscc 1.4.0 | Benjamin Schuster-Boeckler | OK | OK | WARNINGS | |  |
| BEAT 1.22.0 | Kemal Akman | OK | OK | OK | |  |
| BEclear 2.0.0 | David Rasp | OK | OK | OK | |  |
| bgafun 1.46.0 | Iain Wallace | OK | OK | OK | |  |
| BgeeDB 2.10.0 | Julien Wollbrett , Julien Roux , Andrea Komljenovic , Frederic Bastian | OK | OK | OK | |  |
| BGmix 1.44.0 | Alex Lewin | OK | OK | WARNINGS | |  |
| bgx 1.50.0 | Ernest Turro | OK | OK | OK | |  |
| BHC 1.36.0 | Rich Savage | OK | OK | OK | |  |
| BicARE 1.42.0 | Pierre Gestraud | OK | OK | OK | |  |
| BiFET 1.4.0 | Ahrim Youn | OK | OK | OK | |  |
| BiGGR 1.20.0 | Anand K. Gavai | OK | OK | OK | |  |
| bigmelon 1.10.0 | Tyler J. Gorrie-Stone | OK | OK | OK | |  |
| bigmemoryExtras 1.32.0 | Peter M. Haverty | OK | OK | WARNINGS | |  |
| bigPint 1.0.0 | Lindsay Rutter | OK | OK | OK | |  |
| bioassayR 1.22.0 | Tyler Backman | OK | OK | OK | |  |
| Biobase 2.44.0 | Bioconductor Package Maintainer | OK | OK | WARNINGS | |  |
| biobroom 1.16.0 | John D. Storey and Andrew J. Bass | OK | OK | OK | |  |
| bioCancer 1.12.0 | Karim Mezhoud | OK | OK | OK | |  |
| BiocCaseStudies 1.46.0 | Bioconductor Package Maintainer | OK | OK | OK | |  |
| BiocCheck 1.20.0 | Bioconductor Package Maintainer | OK | OK | OK | |  |
| BiocFileCache 1.8.0 | Lori Shepherd | OK | OK | OK | |  |
| BiocGenerics 0.30.0 | Bioconductor Package Maintainer | OK | OK | WARNINGS | |  |
| biocGraph 1.46.0 | Florian Hahne | OK | OK | OK | |  |
| BiocNeighbors 1.2.0 | Aaron Lun | OK | OK | OK | |  |
| BiocOncoTK 1.4.0 | VJ Carey | OK | OK | OK | |  |
| BioCor 1.8.1 | Lluís Revilla Sancho | OK | OK | OK | |  |
| BiocParallel 1.18.1 | Bioconductor Package Maintainer | OK | OK | OK | |  |
| BiocPkgTools 1.2.0 | Sean Davis | OK | OK | OK | |  |
| BiocSingular 1.0.0 | Aaron Lun | OK | OK | OK | |  |
| BiocSklearn 1.6.0 | VJ Carey | OK | OK | OK | |  |
| BiocStyle 2.12.0 | Bioconductor Package Maintainer | OK | OK | OK | |  |
| BiocVersion 3.9.0 | Bioconductor Package Maintainer | OK | OK | WARNINGS | |  |
| biocViews 1.52.2 | Bioconductor Package Maintainer | OK | OK | OK | |  |
| BiocWorkflowTools 1.10.0 | Mike Smith | OK | OK | OK | |  |
| bioDist 1.56.0 | Bioconductor Package Maintainer | OK | OK | OK | |  |
| biomaRt 2.40.5 | Mike Smith | OK | OK | OK | |  |
| biomformat 1.12.0 | Paul J. McMurdie | OK | OK | OK | |  |
| BioMM 1.0.0 | Junfang Chen | OK | OK | OK | |  |
| BioMVCClass 1.52.0 | Elizabeth Whalen | OK | OK | OK | |  |
| biomvRCNS 1.24.0 | Yang Du | OK | OK | OK | |  |
| BioNet 1.44.0 | Marcus Dittrich | OK | OK | OK | |  |
| BioNetStat 1.4.3 | Vinicius Jardim | OK | OK | OK | |  |
| BioQC 1.12.0 | Jitao David Zhang | OK | ERROR | skipped | | |
| BioSeqClass 1.42.0 | Li Hong | OK | OK | OK | |  |
| biosigner 1.12.0 | Philippe Rinaudo , Etienne Thevenot | OK | OK | OK | |  |
| Biostrings 2.52.0 | H. Pagès | OK | OK | WARNINGS | |  |
| biosvd 2.20.0 | Anneleen Daemen , Matthew Brauer | OK | OK | OK | |  |
| biotmle 1.8.0 | Nima Hejazi | OK | OK | ERROR | | |
| biovizBase 1.32.0 | Michael Lawrence | OK | OK | WARNINGS | |  |
| BiRewire 3.16.0 | Andrea Gobbi | OK | OK | WARNINGS | |  |
| birta 1.28.0 | Benedikt Zacher | OK | OK | OK | |  |
| birte 1.20.0 | Holger Froehlich | OK | ERROR | skipped | | |
| BiSeq 1.24.0 | Katja Hebestreit | OK | OK | OK | |  |
| BitSeq 1.28.0 | Antti Honkela , Panagiotis Papastamoulis | OK | OK | WARNINGS | |  |
| blima 1.18.0 | Vojtěch Kulvait | OK | OK | WARNINGS | |  |
| BLMA 1.8.0 | Tin Nguyen | OK | OK | OK | |  |
| bnbc 1.6.0 | Kipper Fletez-Brant | OK | OK | OK | |  |
| BPRMeth 1.10.0 | Chantriolnt-Andreas Kapourani | OK | OK | OK | |  |
| BRAIN 1.30.0 | Piotr Dittwald | OK | OK | WARNINGS | |  |
| brainImageR 1.2.0 | Sara B Linker | OK | ERROR | skipped | | |
| BrainStars 1.28.0 | Itoshi NIKAIDO | OK | OK | OK | |  |
| branchpointer 1.10.0 | Beth Signal | OK | OK | OK | |  |
| breakpointR 1.2.0 | David Porubsky | OK | OK | OK | |  |
| bridge 1.48.0 | Raphael Gottardo | OK | OK | WARNINGS | |  |
| BridgeDbR 1.18.0 | Egon Willighagen | OK | OK | OK | |  |
| BrowserViz 2.6.0 | Paul Shannon | OK | OK | OK | |  |
| BSgenome 1.52.0 | H. Pagès | OK | OK | WARNINGS | |  |
| bsseq 1.20.0 | Kasper Daniel Hansen | OK | OK | OK | |  |
| BubbleTree 2.14.0 | Todd Creasy , Wei Zhu | OK | OK | OK | |  |
| BufferedMatrix 1.48.0 | Ben Bolstad | OK | OK | OK | |  |
| BufferedMatrixMethods 1.48.0 | Ben Bolstad | OK | OK | OK | |  |
| BUMHMM 1.8.0 | Alina Selega | OK | OK | OK | |  |
| bumphunter 1.26.0 | Rafael A. Irizarry | OK | OK | OK | |  |
| BUS 1.40.0 | Yuanhua Liu | OK | OK | OK | |  |
| BUScorrect 1.2.1 | Xiangyu Luo | OK | OK | OK | |  |
|
| |
| CAFE 1.20.0 | Sander Bollen | OK | OK | WARNINGS | |  |
| CAGEfightR 1.4.0 | Malte Thodberg | OK | OK | OK | |  |
| CAGEr 1.26.0 | Vanja Haberle , Charles Plessy | OK | OK | OK | |  |
| CALIB 1.50.0 | Hui Zhao | OK | OK | WARNINGS | |  |
| CAMERA 1.40.0 | Steffen Neumann | OK | OK | OK | |  |
| CAMTHC 1.2.0 | Lulu Chen | OK | OK | OK | |  |
| canceR 1.18.6 | Karim Mezhoud | OK | OK | OK | |  |
| cancerclass 1.28.0 | Daniel Kosztyla | OK | OK | OK | |  |
| CancerInSilico 2.4.0 | Thomas D. Sherman | OK | OK | WARNINGS | |  |
| CancerMutationAnalysis 1.26.0 | Simina M. Boca | OK | OK | OK | |  |
| CancerSubtypes 1.10.0 | Taosheng Xu | OK | OK | OK | |  |
| CAnD 1.16.0 | Caitlin McHugh | OK | OK | OK | |  |
| caOmicsV 1.14.0 | Henry Zhang | OK | OK | OK | |  |
| Cardinal 2.2.6 | Kylie A. Bemis | OK | OK | OK | |  |
| casper 2.18.0 | David Rossell | OK | OK | WARNINGS | |  |
| CATALYST 1.8.7 | Helena L. Crowell | OK | OK | OK | |  |
| Category 2.50.0 | Bioconductor Package Maintainer | OK | OK | OK | |  |
| categoryCompare 1.28.0 | Robert M. Flight | OK | OK | OK | |  |
| CausalR 1.16.0 | Glyn Bradley , Steven Barrett | OK | OK | OK | |  |
| cbaf 1.6.0 | Arman Shahrisa | OK | OK | OK | |  |
| ccfindR 1.4.2 | Jun Woo | OK | OK | OK | |  |
| ccmap 1.10.0 | Alex Pickering | OK | OK | OK | |  |
| CCPROMISE 1.10.0 | Xueyuan Cao | OK | OK | WARNINGS | |  |
| ccrepe 1.20.0 | Emma Schwager ,Craig Bielski, George Weingart | OK | OK | OK | |  |
| celaref 1.2.0 | Sarah Williams | OK | OK | OK | |  |
| celda 1.0.4 | Joshua Campbell | OK | OK | OK | |  |
| cellbaseR 1.8.1 | Mohammed OE Abdallah | OK | OK | OK | |  |
| CellBench 1.0.1 | Shian Su | OK | OK | OK | |  |
| cellGrowth 1.28.0 | Julien Gagneur | OK | OK | OK | |  |
| cellHTS2 2.48.0 | Joseph Barry | OK | OK | WARNINGS | |  |
| cellity 1.12.0 | Tomislav Ilicic | OK | OK | OK | |  |
| CellMapper 1.10.0 | Brad Nelms | OK | OK | WARNINGS | |  |
| CellMixS 1.0.2 | Almut Lütge | OK | OK | OK | |  |
| CellNOptR 1.30.0 | A.Gabor | OK | OK | WARNINGS | |  |
| cellscape 1.8.0 | Maia Smith | OK | OK | WARNINGS | |  |
| CellScore 1.4.0 | Nancy Mah | OK | OK | OK | |  |
| CellTrails 1.2.0 | Daniel Ellwanger | OK | OK | OK | |  |
| cellTree 1.14.0 | David duVerle | OK | OK | OK | |  |
| CEMiTool 1.8.3 | Helder Nakaya | OK | OK | OK | |  |
| CexoR 1.22.0 | Pedro Madrigal | OK | OK | OK | |  |
| CFAssay 1.18.0 | Herbert Braselmann | OK | OK | OK | |  |
| CGEN 3.20.0 | William Wheeler | OK | OK | OK | |  |
| CGHbase 1.44.0 | Mark van de Wiel | OK | OK | OK | |  |
| CGHcall 2.46.0 | Mark van de Wiel | OK | OK | OK | |  |
| cghMCR 1.42.0 | J. Zhang | OK | OK | WARNINGS | |  |
| CGHnormaliter 1.38.0 | Bart P.P. van Houte | OK | OK | OK | |  |
| CGHregions 1.42.0 | Sjoerd Vosse | OK | OK | OK | |  |
| ChAMP 2.14.0 | Yuan Tian | OK | OK | WARNINGS | |  |
| CHARGE 1.4.0 | Benjamin Mayne | OK | OK | OK | |  |
| charm 2.30.0 | Peter Murakami | ERROR | ERROR | skipped | | |
| ChemmineOB 1.22.0 | Thomas Girke | OK | OK | OK | |  |
| ChemmineR 3.36.0 | Thomas Girke | OK | OK | OK | |  |
| CHETAH 1.0.5 | Jurrian de Kanter | OK | OK | OK | |  |
| ChIC 1.4.0 | Carmen Maria Livi | OK | ERROR | skipped | | |
| Chicago 1.12.0 | Mikhail Spivakov | OK | OK | OK | |  |
| chimera 1.26.0 | Raffaele A Calogero | OK | OK | OK | |  |
| chimeraviz 1.10.0 | Stian Lågstad | OK | OK | OK | |  |
| ChIPanalyser 1.6.0 | Patrick C.N. Martin | OK | OK | OK | |  |
| ChIPComp 1.14.0 | Li Chen | OK | OK | OK | |  |
| chipenrich 2.8.0 | Raymond G. Cavalcante | OK | OK | OK | |  |
| ChIPexoQual 1.8.0 | Rene Welch | OK | OK | OK | |  |
| ChIPpeakAnno 3.18.2 | Lihua Julie Zhu | OK | OK | OK | |  |
| ChIPQC 1.20.0 | Tom Carroll , Rory Stark | OK | OK | WARNINGS | |  |
| ChIPseeker 1.20.0 | Guangchuang Yu | OK | OK | OK | |  |
| chipseq 1.34.0 | Bioconductor Package Maintainer | OK | OK | WARNINGS | |  |
| ChIPseqR 1.38.0 | Peter Humburg | OK | OK | WARNINGS | |  |
| ChIPSeqSpike 1.4.0 | Nicolas Descostes | OK | OK | OK | |  |
| ChIPsim 1.38.0 | Peter Humburg | OK | OK | OK | |  |
| ChIPXpress 1.28.0 | George Wu | OK | OK | OK | |  |
| chopsticks 1.50.0 | Hin-Tak Leung | OK | OK | WARNINGS | |  |
| chroGPS 2.2.0 | Oscar Reina | OK | OK | OK | |  |
| chromDraw 2.14.0 | Jan Janecka | OK | OK | WARNINGS | |  |
| ChromHeatMap 1.38.0 | Tim F. Rayner | OK | OK | OK | |  |
| chromPlot 1.12.0 | Karen Y. Orostica | OK | OK | OK | |  |
| chromstaR 1.10.0 | Aaron Taudt | OK | OK | OK | |  |
| chromswitch 1.6.0 | Selin Jessa | OK | OK | OK | |  |
| chromVAR 1.6.0 | Alicia Schep | OK | OK | OK | |  |
| CHRONOS 1.12.0 | Panos Balomenos | OK | OK | OK | |  |
| cicero 1.2.0 | Hannah Pliner | OK | OK | OK | |  |
| CINdex 1.12.0 | Yuriy Gusev | OK | OK | OK | |  |
| cisPath 1.24.0 | Likun Wang | OK | OK | OK | |  |
| ClassifyR 2.4.4 | Dario Strbenac | OK | OK | OK | |  |
| cleanUpdTSeq 1.22.2 | Jianhong Ou ; Lihua Julie Zhu | OK | OK | OK | |  |
| cleaver 1.22.0 | Sebastian Gibb | OK | OK | OK | |  |
| clippda 1.34.0 | Stephen Nyangoma | OK | OK | WARNINGS | |  |
| clipper 1.24.0 | Paolo Martini | OK | OK | OK | |  |
| Clomial 1.20.0 | Habil Zare | OK | OK | OK | |  |
| Clonality 1.32.0 | Irina Ostrovnaya | OK | OK | OK | |  |
| clonotypeR 1.22.0 | Charles Plessy | OK | OK | OK | |  |
| clst 1.32.0 | Noah Hoffman | OK | OK | WARNINGS | |  |
| clstutils 1.32.0 | Noah Hoffman | OK | OK | WARNINGS | |  |
| CluMSID 1.0.0 | Tobias Depke | OK | OK | OK | |  |
| clustComp 1.12.0 | Aurora Torrente | OK | OK | OK | |  |
| clusterExperiment 2.4.4 | Elizabeth Purdom | OK | OK | WARNINGS | |  |
| ClusterJudge 1.6.0 | Adrian Pasculescu | OK | OK | OK | |  |
| clusterProfiler 3.12.0 | Guangchuang Yu | OK | OK | OK | |  |
| clusterSeq 1.8.0 | Thomas J. Hardcastle | OK | OK | OK | |  |
| ClusterSignificance 1.12.0 | Jason T Serviss | OK | OK | OK | |  |
| clusterStab 1.56.0 | James W. MacDonald | OK | OK | OK | |  |
| CMA 1.42.0 | Roman Hornung | OK | OK | OK | |  |
| cn.farms 1.32.0 | Andreas Mitterecker | OK | OK | OK | |  |
| cn.mops 1.30.0 | Guenter Klambauer | OK | OK | OK | |  |
| CNAnorm 1.30.0 | Stefano Berri | OK | OK | OK | |  |
| CNEr 1.20.0 | Ge Tan | OK | OK | OK | |  |
| CNORdt 1.26.0 | A. MacNamara | OK | OK | OK | |  |
| CNORfeeder 1.24.0 | F.Eduati | OK | OK | OK | |  |
| CNORfuzzy 1.26.0 | T. Cokelaer | OK | OK | OK | |  |
| CNORode 1.26.0 | David Henriques | OK | OK | OK | |  |
| CNPBayes 1.14.0 | Jacob Carey | OK | ERROR | skipped | | |
| CNTools 1.40.0 | J. Zhang | OK | OK | OK | |  |
| cnvGSA 1.28.0 | Joseph Lugo | OK | OK | OK | |  |
| CNVPanelizer 1.16.0 | Thomas Wolf | OK | OK | OK | |  |
| CNVRanger 1.0.3 | Ludwig Geistlinger | OK | OK | OK | |  |
| CNVrd2 1.22.0 | Hoang Tan Nguyen | OK | OK | OK | |  |
| CNVtools 1.78.0 | Chris Barnes | OK | OK | OK | |  |
| cobindR 1.22.0 | Manuela Benary | OK | OK | WARNINGS | |  |
| CoCiteStats 1.56.0 | Bioconductor Package Maintainer | OK | OK | OK | |  |
| COCOA 1.2.0 | John Lawson | OK | OK | OK | |  |
| codelink 1.52.0 | Diego Diez | OK | OK | OK | |  |
| CODEX 1.16.0 | Yuchao Jiang | OK | OK | OK | |  |
| coexnet 1.6.0 | Juan David Henao | OK | OK | OK | |  |
| CoGAPS 3.4.1 | Elana J. Fertig | OK | OK | OK | |  |
| cogena 1.18.0 | Zhilong Jia | OK | OK | WARNINGS | |  |
| coGPS 1.28.0 | Yingying Wei | OK | OK | OK | |  |
| COHCAP 1.30.0 | Charles Warden | OK | OK | OK | |  |
| cola 1.0.1 | Zuguang Gu | OK | OK | OK | |  |
| coMET 1.16.0 | Tiphaine Martin | OK | OK | OK | |  |
| compartmap 1.2.0 | Benjamin Johnson | OK | OK | WARNINGS | |  |
| COMPASS 1.22.0 | Greg Finak | OK | OK | OK | |  |
| compcodeR 1.20.1 | Charlotte Soneson | OK | OK | OK | |  |
| compEpiTools 1.18.0 | Kamal Kishore | OK | OK | OK | |  |
| CompGO 1.20.0 | Ashley J. Waardenberg | OK | OK | OK | |  |
| ComplexHeatmap 2.0.0 | Zuguang Gu | OK | OK | OK | |  |
| condcomp 1.2.0 | Diogo P. P. Branco | OK | ERROR | skipped | | |
| CONFESS 1.12.0 | Diana LOW | OK | OK | WARNINGS | |  |
| consensus 1.2.2 | Tim Peters | OK | OK | OK | |  |
| ConsensusClusterPlus 1.48.0 | Matt Wilkerson | OK | OK | OK | |  |
| consensusDE 1.2.1 | Ashley J. Waardenberg | OK | OK | OK | |  |
| consensusOV 1.6.0 | Benjamin Haibe-Kains | OK | OK | OK | |  |
| consensusSeekeR 1.12.0 | Astrid Deschenes | OK | OK | OK | |  |
| contiBAIT 1.12.0 | Kieran O'Neill | OK | OK | OK | |  |
| conumee 1.18.0 | Volker Hovestadt | OK | OK | OK | |  |
| convert 1.60.0 | Yee Hwa (Jean) Yang | OK | OK | OK | |  |
| copa 1.52.0 | James W. MacDonald | OK | OK | OK | |  |
| copynumber 1.24.0 | Gro Nilsen | OK | OK | OK | |  |
| CopyNumberPlots 1.0.1 | Bernat Gel | OK | OK | OK | |  |
| CopywriteR 2.16.0 | Oscar Krijgsman | OK | OK | OK | |  |
| coRdon 1.2.0 | Anamaria Elek | OK | OK | OK | |  |
| CoRegFlux 1.0.0 | Pauline Trébulle and Mohamed Elati | OK | OK | OK | |  |
| CoRegNet 1.22.0 | Remy Nicolle | OK | OK | WARNINGS | |  |
| Cormotif 1.30.0 | Yingying Wei | OK | OK | OK | |  |
| CorMut 1.26.0 | Zhenpeng Li | OK | OK | OK | |  |
| CORREP 1.50.0 | Dongxiao Zhu | OK | OK | OK | |  |
| coseq 1.8.0 | Andrea Rau | OK | OK | OK | |  |
| cosmiq 1.18.0 | David Fischer , Christian Panse | OK | OK | OK | |  |
| COSNet 1.18.0 | Marco Frasca | OK | OK | OK | |  |
| CountClust 1.12.0 | Kushal Dey | OK | OK | OK | |  |
| countsimQC 1.2.0 | Charlotte Soneson | OK | OK | OK | |  |
| covEB 1.10.0 | C. Pacini | OK | OK | OK | |  |
| CoverageView 1.22.0 | Ernesto Lowy | OK | OK | OK | |  |
| covRNA 1.10.0 | Lara Urban | OK | OK | OK | |  |
| cpvSNP 1.16.0 | Caitlin McHugh | OK | OK | OK | |  |
| cqn 1.30.0 | Kasper Daniel Hansen | OK | OK | OK | |  |
| CRImage 1.32.0 | Henrik Failmezger , Yinyin Yuan | OK | OK | OK | |  |
| CRISPRseek 1.24.0 | Lihua Julie Zhu | OK | OK | OK | |  |
| crisprseekplus 1.10.0 | Alper Kucukural | OK | OK | OK | |  |
| CrispRVariants 1.12.0 | Helen Lindsay | OK | OK | WARNINGS | |  |
| crlmm 1.42.0 | Benilton S Carvalho | OK | OK | OK | |  |
| crossmeta 1.10.0 | Alex Pickering | OK | OK | OK | |  |
| CSAR 1.36.0 | Jose M Muino | OK | OK | OK | |  |
| csaw 1.18.0 | Aaron Lun | OK | OK | OK | |  |
| CSSP 1.22.0 | Chandler Zuo | OK | OK | OK | |  |
| ctc 1.58.0 | Antoine Lucas | OK | OK | OK | |  |
| CTDquerier 1.4.3 | Carles Hernandez-Ferrer | OK | ERROR | skipped | | |
| cTRAP 1.2.0 | Nuno Saraiva-Agostinho | OK | OK | OK | |  |
| ctsGE 1.10.0 | Michal Sharabi-Schwager | OK | OK | OK | |  |
| cummeRbund 2.26.0 | Loyal A. Goff | OK | OK | OK | |  |
| customProDB 1.24.0 | Xiaojing Wang | OK | OK | OK | |  |
| CVE 1.10.0 | Andreas Mock | OK | OK | ERROR | | |
| cycle 1.38.0 | Matthias Futschik | OK | OK | OK | |  |
| cydar 1.8.0 | Aaron Lun | OK | OK | OK | |  |
| CytoDx 1.4.0 | Zicheng Hu | OK | OK | OK | |  |
| cytofast 1.0.0 | K.A. Stam | OK | OK | OK | |  |
| cytolib 1.6.0 | Mike Jiang | OK | OK | OK | |  |
| CytoML 1.10.0 | Mike Jiang | OK | OK | OK | |  |
|
| |
| dada2 1.12.1 | Benjamin Callahan | OK | OK | OK | |  |
| dagLogo 1.22.3 | Jianhong Ou | OK | OK | OK | |  |
| daMA 1.56.0 | Jobst Landgrebe | OK | OK | OK | |  |
| DaMiRseq 1.8.0 | Mattia Chiesa | OK | OK | OK | |  |
| DAPAR 1.16.11 | Samuel Wieczorek | OK | OK | OK | |  |
| DART 1.32.0 | Charles Shijie Zheng | OK | OK | OK | |  |
| DBChIP 1.28.0 | Kun Liang | OK | OK | OK | |  |
| dcanr 1.0.0 | Dharmesh D. Bhuva | OK | OK | OK | |  |
| dcGSA 1.12.0 | Jiehuan sun | OK | OK | WARNINGS | |  |
| DChIPRep 1.14.0 | Bernd Klaus | OK | OK | OK | |  |
| ddCt 1.40.0 | Jitao David Zhang | OK | OK | OK | |  |
| ddPCRclust 1.4.0 | Benedikt G. Brink | OK | OK | OK | |  |
| debrowser 1.12.3 | Alper Kucukural | OK | OK | OK | |  |
| DECIPHER 2.12.0 | Erik Wright | OK | OK | OK | |  |
| deco 1.0.0 | Francisco Jose Campos Laborie | OK | OK | OK | |  |
| DEComplexDisease 1.4.0 | Guofeng Meng | OK | OK | OK | |  |
| decompTumor2Sig 2.0.0 | Rosario M. Piro | OK | OK | OK | |  |
| DeconRNASeq 1.26.0 | Ting Gong | OK | OK | OK | |  |
| decontam 1.4.0 | Benjamin Callahan | OK | OK | OK | |  |
| DEDS 1.58.0 | Yuanyuan Xiao | OK | OK | OK | |  |
| DeepBlueR 1.10.0 | Felipe Albrecht , Markus List | OK | OK | OK | |  |
| deepSNV 1.30.0 | Moritz Gerstung | OK | OK | OK | |  |
| DEFormats 1.12.0 | Andrzej Oleś | OK | OK | OK | |  |
| DEGraph 1.36.0 | Laurent Jacob | OK | OK | OK | |  |
| DEGreport 1.20.0 | Lorena Pantano | OK | OK | OK | |  |
| DEGseq 1.38.0 | Likun Wang | OK | OK | OK | |  |
| DelayedArray 0.10.0 | Hervé Pagès | OK | OK | WARNINGS | |  |
| DelayedDataFrame 1.0.0 | Qian Liu | OK | OK | OK | |  |
| DelayedMatrixStats 1.6.1 | Peter Hickey | OK | OK | OK | |  |
| deltaGseg 1.24.0 | Diana Low | OK | OK | OK | |  |
| DeMAND 1.14.0 | Jung Hoon Woo , Mariano Alvarez | OK | OK | OK | |  |
| DeMixT 1.0.4 | Zeya Wang , Fan Gao | OK | OK | WARNINGS | |  |
| DEP 1.6.1 | Arne Smits | OK | OK | OK | |  |
| DepecheR 1.0.3 | Jakob Theorell | OK | OK | OK | |  |
| DEqMS 1.2.0 | Yafeng Zhu | OK | OK | OK | |  |
| derfinder 1.18.9 | Leonardo Collado-Torres | OK | OK | OK | |  |
| derfinderHelper 1.18.1 | Leonardo Collado-Torres | OK | OK | OK | |  |
| derfinderPlot 1.18.1 | Leonardo Collado-Torres | OK | OK | OK | |  |
| DEScan2 1.4.0 | Dario Righelli | OK | OK | OK | |  |
| DESeq 1.36.0 | Simon Anders | OK | OK | OK | |  |
| DESeq2 1.24.0 | Michael Love | OK | OK | OK | |  |
| DEsingle 1.4.0 | Zhun Miao | OK | OK | OK | |  |
| destiny 2.14.0 | Philipp Angerer | OK | OK | OK | |  |
| DEsubs 1.10.0 | Aristidis G. Vrahatis , Panos Balomenos | OK | OK | OK | |  |
| DEXSeq 1.30.0 | Alejandro Reyes | OK | OK | OK | |  |
| dexus 1.24.0 | Guenter Klambauer | OK | OK | OK | |  |
| DFP 1.42.0 | Rodrigo Alvarez-Glez | OK | OK | OK | |  |
| DiffBind 2.12.0 | Rory Stark | OK | OK | OK | |  |
| diffcoexp 1.4.0 | Wenbin Wei | OK | OK | OK | |  |
| diffcyt 1.4.4 | Lukas M. Weber | OK | OK | OK | |  |
| diffGeneAnalysis 1.66.0 | Choudary Jagarlamudi | OK | OK | OK | |  |
| diffHic 1.16.0 | Aaron Lun | OK | OK | OK | |  |
| DiffLogo 2.8.0 | Hendrik Treutler | OK | OK | OK | |  |
| diffloop 1.12.0 | Caleb Lareau | OK | OK | OK | |  |
| diffuStats 1.4.0 | Sergio Picart-Armada | OK | OK | OK | |  |
| diggit 1.16.0 | Mariano J Alvarez | OK | OK | WARNINGS | |  |
| Director 1.10.0 | Katherine Icay | OK | OK | OK | |  |
| DirichletMultinomial 1.26.0 | Martin Morgan | OK | OK | OK | |  |
| discordant 1.8.0 | Charlotte Siska | OK | OK | WARNINGS | |  |
| DiscoRhythm 1.0.0 | Matthew Carlucci | OK | OK | OK | |  |
| divergence 1.0.0 | Wikum Dinalankara , Luigi Marchionni | OK | OK | OK | |  |
| dks 1.30.0 | Jeffrey T. Leek | OK | OK | OK | |  |
| DMCHMM 1.6.0 | Farhad Shokoohi | OK | OK | WARNINGS | |  |
| DMRcaller 1.16.0 | Nicolae Radu Zabet | OK | OK | OK | |  |
| DMRcate 1.20.0 | Tim Peters | OK | OK | OK | |  |
| DMRforPairs 1.20.0 | Martin Rijlaarsdam | OK | OK | OK | |  |
| DMRScan 1.10.0 | Christian M Page | OK | OK | OK | |  |
| dmrseq 1.4.9 | Keegan Korthauer | OK | OK | OK | |  |
| DNABarcodeCompatibility 1.0.2 | Céline Trébeau | OK | OK | OK | |  |
| DNABarcodes 1.14.0 | Tilo Buschmann | OK | OK | OK | |  |
| DNAcopy 1.58.0 | Venkatraman E. Seshan | OK | OK | OK | |  |
| DNAshapeR 1.12.0 | Tsu-Pei Chiu | OK | OK | OK | |  |
| DominoEffect 1.4.0 | Marija Buljan | OK | OK | OK | |  |
| doppelgangR 1.12.0 | Levi Waldron | OK | OK | OK | |  |
DOQTL 1.20.0 | Daniel Gatti | OK | OK | ERROR | | |
| Doscheda 1.6.0 | Bruno Contrino | OK | OK | OK | |  |
| DOSE 3.10.2 | Guangchuang Yu | OK | OK | OK | |  |
| doseR 1.0.0 | ake.vastermark | OK | OK | OK | |  |
| drawProteins 1.4.0 | Paul Brennan | OK | OK | OK | |  |
| DRIMSeq 1.12.0 | Malgorzata Nowicka | OK | OK | OK | |  |
| DriverNet 1.24.0 | Jiarui Ding | OK | OK | OK | |  |
| DropletUtils 1.4.3 | Aaron Lun | OK | OK | OK | |  |
| DrugVsDisease 2.26.0 | j. Saez-Rodriguez | OK | OK | OK | |  |
| dSimer 1.10.0 | Peng Ni | ERROR | ERROR | skipped | | |
| DSS 2.32.0 | Hao Wu | OK | OK | OK | |  |
| DTA 2.30.0 | Bjoern Schwalb | OK | OK | OK | |  |
| dualKS 1.44.0 | Eric J. Kort | OK | OK | OK | |  |
| DupChecker 1.22.0 | "Quanhu SHENG" | OK | OK | OK | |  |
| dupRadar 1.14.0 | Sergi Sayols , Holger Klein | OK | OK | OK | |  |
| dyebias 1.44.0 | Philip Lijnzaad | OK | OK | OK | |  |
| DynDoc 1.62.0 | Bioconductor Package Maintainer | OK | OK | OK | |  |
|
| |
| EasyqpcR 1.26.0 | Le Pape Sylvain | OK | OK | OK | |  |
| easyRNASeq 2.20.0 | Nicolas Delhomme | OK | OK | OK | |  |
| EBarrays 2.48.0 | Ming Yuan | OK | OK | OK | |  |
| EBcoexpress 1.28.0 | John A. Dawson | OK | OK | WARNINGS | |  |
| EBImage 4.26.0 | Andrzej Oleś | OK | OK | OK | |  |
| EBSEA 1.12.0 | Arfa Mehmood | OK | OK | OK | |  |
| EBSeq 1.24.0 | Ning Leng | OK | OK | OK | |  |
| EBSeqHMM 1.18.0 | Ning Leng | OK | OK | OK | |  |
| ecolitk 1.56.0 | Laurent Gautier | OK | OK | WARNINGS | |  |
| EDASeq 2.18.0 | Davide Risso | OK | OK | OK | |  |
| EDDA 1.22.0 | Chia Kuan Hui Burton , Niranjan Nagarajan | OK | OK | WARNINGS | |  |
| edge 2.16.0 | John D. Storey , Andrew J. Bass | OK | OK | OK | |  |
| edgeR 3.26.8 | Yunshun Chen , Aaron Lun , Davis McCarthy , Mark Robinson , Gordon Smyth | OK | OK | OK | |  |
| eegc 1.10.0 | Xiaoyuan Zhou | OK | OK | WARNINGS | |  |
| EGAD 1.12.0 | Sara Ballouz | OK | OK | OK | |  |
| EGSEA 1.12.0 | Monther Alhamdoosh | OK | OK | OK | |  |
| eiR 1.24.0 | Thomas Girke | OK | OK | OK | |  |
| eisa 1.36.0 | Gabor Csardi | OK | OK | OK | |  |
| ELBOW 1.20.0 | Graham Alvare , Xiangli Zhang | OK | ERROR | skipped | | |
| ELMER 2.8.3 | Tiago Chedraoui Silva | OK | OK | WARNINGS | |  |
| EMDomics 2.14.0 | Sadhika Malladi and Daniel Schmolze | OK | OK | OK | |  |
| EmpiricalBrownsMethod 1.12.0 | David Gibbs | OK | OK | OK | |  |
| ENCODExplorer 2.10.0 | Charles Joly Beauparlant | OK | OK | OK | |  |
| EnhancedVolcano 1.2.0 | Kevin Blighe | OK | OK | OK | |  |
| ENmix 1.21.6 | Zongli Xu | OK | OK | OK | |  |
| EnrichedHeatmap 1.14.0 | Zuguang Gu | OK | OK | OK | |  |
| EnrichmentBrowser 2.14.3 | Ludwig Geistlinger | OK | OK | OK | |  |
| enrichplot 1.4.0 | Guangchuang Yu | OK | OK | OK | |  |
| enrichTF 1.0.0 | Zheng Wei | OK | OK | OK | |  |
| ensembldb 2.8.1 | Johannes Rainer | OK | OK | OK | |  |
| ensemblVEP 1.26.1 | Bioconductor Package Maintainer | OK | OK | OK | |  |
| ENVISIONQuery 1.32.0 | Alex Lisovich , Roger Day | OK | OK | OK | |  |
| EpiDISH 2.0.2 | Shijie Charles Zheng | OK | OK | OK | |  |
| epigenomix 1.24.0 | Hans-Ulrich Klein | OK | OK | OK | |  |
| epihet 1.0.0 | Xiaowen Chen | OK | OK | OK | |  |
| epiNEM 1.8.0 | Martin Pirkl | OK | OK | OK | |  |
| epivizr 2.14.0 | Hector Corrada Bravo | OK | OK | OK | |  |
| epivizrChart 1.6.0 | Hector Corrada Bravo | OK | OK | OK | |  |
| epivizrData 1.12.0 | Hector Corrada Bravo | OK | OK | OK | |  |
| epivizrServer 1.12.0 | Hector Corrada Bravo | OK | OK | OK | |  |
| epivizrStandalone 1.12.0 | Hector Corrada Bravo | OK | OK | OK | |  |
| erccdashboard 1.18.0 | Sarah Munro | OK | OK | OK | |  |
| erma 1.0.0 | VJ Carey | OK | OK | OK | |  |
| ERSSA 1.2.0 | Zixuan Shao | OK | OK | OK | |  |
| esATAC 1.6.1 | Zheng Wei | OK | OK | OK | |  |
| esetVis 1.10.0 | Laure Cougnaud | OK | OK | OK | |  |
| eudysbiome 1.14.0 | Xiaoyuan Zhou | OK | OK | OK | |  |
| evaluomeR 1.0.63 | José Antonio Bernabé-Díaz | OK | OK | OK | |  |
| EventPointer 2.2.4 | Juan Pablo Romero | OK | OK | OK | |  |
| ExCluster 1.2.0 | R. Matthew Tanner | OK | OK | OK | |  |
| ExiMiR 2.26.0 | Sylvain Gubian | OK | OK | OK | |  |
| exomeCopy 1.30.0 | Michael Love | OK | OK | OK | |  |
| exomePeak 2.18.0 | Lin Zhang , Lian Liu , Jia Meng | OK | OK | ERROR | | |
| ExperimentHub 1.10.0 | Bioconductor Package Maintainer | OK | OK | OK | |  |
| ExperimentHubData 1.10.0 | Bioconductor Package Maintainer | OK | OK | OK | |  |
| explorase 1.48.0 | Michael Lawrence | OK | OK | OK | |  |
| ExpressionAtlas 1.12.0 | Suhaib Mohammed | OK | OK | OK | |  |
| ExpressionView 1.36.0 | Gabor Csardi | OK | OK | OK | |  |
|
| |
| fabia 2.30.0 | Andreas Mitterecker | OK | OK | OK | |  |
| factDesign 1.60.0 | Denise Scholtens | OK | OK | OK | |  |
| FamAgg 1.12.0 | Johannes Rainer | OK | OK | OK | |  |
| farms 1.36.0 | Djork-Arne Clevert | OK | OK | OK | |  |
| fastLiquidAssociation 1.20.0 | Tina Gunderson | OK | OK | WARNINGS | |  |
| FastqCleaner 1.2.0 | Leandro Roser | OK | OK | OK | |  |
| fastseg 1.30.0 | Guenter Klambauer | OK | OK | OK | |  |
| FCBF 1.2.5 | Tiago Lubiana | OK | OK | WARNINGS | |  |
| fCCAC 1.10.0 | Pedro Madrigal | OK | OK | OK | |  |
| fCI 1.14.0 | Shaojun Tang | OK | OK | OK | |  |
| fdrame 1.56.0 | Effi Kenigsberg | OK | OK | OK | |  |
| FELLA 1.4.1 | Sergio Picart-Armada | OK | ERROR | skipped | | |
| FEM 3.12.0 | Zhen Yang | OK | OK | WARNINGS | |  |
| ffpe 1.28.0 | Levi Waldron | OK | OK | OK | |  |
| FGNet 3.18.0 | Sara Aibar | OK | OK | OK | |  |
| fgsea 1.10.1 | Alexey Sergushichev | OK | OK | OK | |  |
| FindMyFriends 1.14.0 | Thomas Lin Pedersen | OK | OK | WARNINGS | |  |
| FISHalyseR 1.18.0 | Karesh Arunakirinathan | OK | OK | WARNINGS | |  |
| fishpond 1.0.2 | Michael Love | OK | OK | OK | |  |
| FitHiC 1.10.0 | Ruyu Tan | OK | OK | OK | |  |
| flagme 1.40.0 | Mark Robinson , Riccardo Romoli | OK | OK | WARNINGS | |  |
| flipflop 1.22.0 | Elsa Bernard | ERROR | ERROR | skipped | | |
| flowAI 1.14.0 | Gianni Monaco | OK | OK | OK | |  |
| flowBeads 1.22.0 | Nikolas Pontikos | OK | OK | OK | |  |
| flowBin 1.20.0 | Kieran O'Neill | OK | OK | OK | |  |
| flowcatchR 1.18.0 | Federico Marini | OK | OK | OK | |  |
| flowCHIC 1.18.0 | Author: Joachim Schumann | OK | OK | OK | |  |
| flowCL 1.22.0 | Justin Meskas | OK | OK | OK | |  |
| flowClean 1.22.0 | Kipper Fletez-Brant | OK | OK | WARNINGS | |  |
| flowClust 3.22.0 | Greg Finak , Mike Jiang | OK | OK | OK | |  |
| flowCore 1.50.0 | Mike Jiang | OK | OK | OK | |  |
| flowCyBar 1.20.0 | Joachim Schumann | OK | OK | OK | |  |
| flowDensity 1.18.0 | Mehrnoush Malek | OK | OK | WARNINGS | |  |
| flowFit 1.22.0 | Davide Rambaldi | OK | OK | OK | |  |
| flowFP 1.42.0 | Herb Holyst | OK | OK | OK | |  |
| flowMap 1.22.0 | Chiaowen Joyce Hsiao | OK | OK | WARNINGS | |  |
| flowMatch 1.20.0 | Ariful Azad | OK | OK | OK | |  |
| flowMeans 1.44.0 | Nima Aghaeepour | OK | OK | OK | |  |
| flowMerge 2.32.0 | Greg Finak | OK | OK | OK | |  |
| flowPeaks 1.30.0 | Yongchao Ge | OK | OK | OK | |  |
| flowPloidy 1.10.0 | Tyler Smith | OK | OK | OK | |  |
| flowPlots 1.32.0 | N. Hawkins | OK | OK | OK | |  |
flowQ 1.44.0 | Mike Jiang | ERROR | ERROR | skipped | | |
flowQB 2.12.0 | Josef Spidlen | ERROR | ERROR | skipped | | |
| FlowRepositoryR 1.16.0 | Josef Spidlen | OK | OK | OK | |  |
| FlowSOM 1.16.0 | Sofie Van Gassen | OK | OK | OK | |  |
| flowStats 3.42.0 | Greg Finak and Mike Jiang | OK | OK | OK | |  |
| flowTime 1.8.0 | R. Clay Wright | OK | OK | OK | |  |
| flowTrans 1.36.0 | Greg Finak | OK | OK | OK | |  |
| flowType 2.22.0 | Nima Aghaeepour | OK | OK | OK | |  |
| flowUtils 1.48.0 | Josef Spidlen | OK | OK | OK | |  |
| flowViz 1.48.0 | Mike Jiang | OK | OK | OK | |  |
| flowVS 1.16.0 | Ariful Azad | OK | OK | OK | |  |
| flowWorkspace 3.32.0 | Greg Finak ,Mike Jiang | OK | OK | OK | |  |
| fmcsR 1.26.0 | Thomas Girke | OK | OK | OK | |  |
| focalCall 1.18.0 | Oscar Krijgsman | OK | OK | OK | |  |
| FoldGO 1.2.3 | Daniil Wiebe | OK | OK | OK | |  |
| FourCSeq 1.18.0 | Felix A. Klein | OK | OK | WARNINGS | |  |
| FRGEpistasis 1.20.0 | Futao Zhang | OK | OK | OK | |  |
| frma 1.36.0 | Matthew N. McCall | OK | OK | OK | |  |
| frmaTools 1.36.0 | Matthew N. McCall | OK | OK | OK | |  |
| FunChIP 1.10.0 | Alice Parodi | OK | OK | WARNINGS | |  |
| FunciSNP 1.28.0 | Simon G. Coetzee | OK | OK | OK | |  |
| funtooNorm 1.8.0 | Kathleen Klein | OK | OK | OK | |  |
|
| |
| GA4GHclient 1.8.0 | Welliton Souza | OK | OK | OK | |  |
| GA4GHshiny 1.6.0 | Welliton Souza | OK | OK | OK | |  |
| gaga 2.30.0 | David Rossell | OK | OK | OK | |  |
| gage 2.34.0 | Weijun Luo | OK | OK | WARNINGS | |  |
| gaggle 1.52.0 | Christopher Bare | OK | OK | OK | |  |
| gaia 2.28.0 | S. Morganella | OK | OK | OK | |  |
| GAPGOM 1.0.0 | Casper Peters | OK | OK | OK | |  |
| GAprediction 1.10.0 | Jon Bohlin | OK | OK | OK | |  |
| garfield 1.12.0 | Valentina Iotchkova | OK | OK | OK | |  |
| GARS 1.4.0 | Mattia Chiesa | OK | OK | OK | |  |
| GateFinder 1.4.0 | Nima Aghaeepour | OK | OK | OK | |  |
| gcapc 1.8.0 | Mingxiang Teng | OK | OK | OK | |  |
| gcatest 1.14.0 | Wei Hao , John D. Storey | OK | OK | OK | |  |
| gCMAP 1.28.0 | Thomas Sandmann | OK | OK | OK | |  |
| gCMAPWeb 1.24.0 | Thomas Sandmann | OK | OK | OK | |  |
| gCrisprTools 1.12.0 | Peter Haverty | OK | OK | OK | |  |
| gcrma 2.56.0 | Z. Wu | OK | OK | OK | |  |
| GDCRNATools 1.4.1 | Ruidong Li | OK | OK | OK | |  |
| GDSArray 1.4.2 | Qian Liu | OK | OK | OK | |  |
| gdsfmt 1.20.0 | Xiuwen Zheng | OK | OK | OK | |  |
| geecc 1.18.0 | Markus Boenn | OK | OK | OK | |  |
| GEM 1.10.0 | Hong Pan | OK | OK | OK | |  |
| genArise 1.60.0 | IFC Development Team | OK | OK | WARNINGS | |  |
| genbankr 1.12.0 | Gabriel Becker | OK | OK | OK | |  |
| GeneAccord 1.2.0 | Ariane L. Moore | OK | OK | OK | |  |
| GeneAnswers 2.26.0 | Lei Huang and Gang Feng | OK | OK | WARNINGS | |  |
| geneAttribution 1.10.0 | Arthur Wuster | OK | OK | OK | |  |
| GeneBreak 1.14.0 | Evert van den Broek | OK | OK | OK | |  |
| geneClassifiers 1.8.0 | R Kuiper | OK | OK | OK | |  |
| GeneExpressionSignature 1.30.0 | Yang Cao , Fei Li | OK | OK | OK | |  |
| genefilter 1.66.0 | Bioconductor Package Maintainer | OK | OK | WARNINGS | |  |
| genefu 2.16.0 | Benjamin Haibe-Kains | OK | OK | OK | |  |
| GeneGA 1.34.0 | Zhenpeng Li | OK | OK | OK | |  |
| GeneGeneInteR 1.10.0 | Mathieu Emily , Magalie Houee-Bigot | OK | OK | OK | |  |
| GeneMeta 1.56.0 | Bioconductor Package Maintainer | OK | OK | OK | |  |
| GeneNetworkBuilder 1.26.1 | Jianhong Ou | OK | OK | OK | |  |
| GeneOverlap 1.20.0 | Li Shen, Mount Sinai | OK | OK | OK | |  |
| geneplast 1.10.3 | Mauro Castro | OK | OK | OK | |  |
| geneplotter 1.62.0 | Bioconductor Package Maintainer | OK | OK | OK | |  |
| geneRecommender 1.56.0 | Greg Hather | OK | OK | OK | |  |
| GeneRegionScan 1.40.0 | Lasse Folkersen | OK | OK | OK | |  |
| geneRxCluster 1.20.0 | Charles Berry | OK | OK | OK | |  |
| GeneSelectMMD 2.28.0 | Weiliang Qiu | OK | OK | WARNINGS | |  |
| GENESIS 2.14.4 | Stephanie M. Gogarten | OK | OK | OK | |  |
| GeneStructureTools 1.4.0 | Beth Signal | OK | OK | OK | |  |
| geNetClassifier 1.24.0 | Sara Aibar | OK | OK | OK | |  |
| GeneticsDesign 1.52.0 | The R Genetics Project | OK | OK | OK | |  |
| GeneticsPed 1.46.0 | David Henderson | OK | OK | OK | |  |
| geneXtendeR 1.10.0 | Bohdan Khomtchouk | OK | OK | WARNINGS | |  |
| GENIE3 1.6.0 | Van Anh Huynh-Thu | OK | OK | OK | |  |
| genoCN 1.36.0 | Wei Sun | OK | OK | WARNINGS | |  |
| GenoGAM 2.2.0 | Georg Stricker | OK | OK | WARNINGS | |  |
| genomation 1.16.0 | Altuna Akalin , Vedran Franke | OK | OK | OK | |  |
| GenomeGraphs 1.44.0 | Steffen Durinck | OK | OK | OK | |  |
| GenomeInfoDb 1.20.0 | Bioconductor Package Maintainer | OK | OK | OK | |  |
| genomeIntervals 1.40.0 | Julien Gagneur | OK | OK | OK | |  |
| genomes 3.14.0 | Chris Stubben | OK | OK | OK | |  |
| GenomicAlignments 1.20.1 | Bioconductor Package Maintainer | OK | OK | WARNINGS | |  |
| GenomicDataCommons 1.8.0 | Sean Davis | OK | OK | WARNINGS | |  |
| GenomicFeatures 1.36.4 | Bioconductor Package Maintainer | OK | OK | ERROR | | |
| GenomicFiles 1.20.0 | Bioconductor Package Maintainer | OK | OK | OK | |  |
| GenomicInteractions 1.18.1 | Liz Ing-Simmons | OK | OK | OK | |  |
| GenomicRanges 1.36.1 | Bioconductor Package Maintainer | OK | OK | WARNINGS | |  |
| GenomicScores 1.8.1 | Robert Castelo | OK | OK | WARNINGS | |  |
| GenomicTuples 1.18.1 | Peter Hickey | OK | OK | OK | |  |
| Genominator 1.38.0 | James Bullard | OK | OK | OK | |  |
| genoset 1.40.0 | Peter M. Haverty | OK | OK | WARNINGS | |  |
| genotypeeval 1.16.0 | Jennifer Tom | OK | OK | OK | |  |
| genphen 1.12.1 | Simo Kitanovski | OK | OK | OK | |  |
| GenRank 1.12.0 | Chakravarthi Kanduri | OK | OK | OK | |  |
| GenVisR 1.16.1 | Zachary Skidmore | OK | OK | OK | |  |
| GEOmetadb 1.46.0 | Jack Zhu | OK | OK | OK | |  |
| GEOquery 2.52.0 | Sean Davis | OK | ERROR | skipped | | |
| GEOsubmission 1.36.0 | Alexandre Kuhn | OK | OK | OK | |  |
| gep2pep 1.4.0 | Francesco Napolitano | OK | OK | OK | |  |
| gespeR 1.16.0 | Fabian Schmich | OK | OK | WARNINGS | |  |
| GEWIST 1.28.0 | Wei Q. Deng | OK | OK | OK | |  |
| GGBase 3.46.0 | VJ Carey | OK | OK | OK | |  |
| ggbio 1.32.0 | Michael Lawrence | OK | OK | WARNINGS | |  |
| ggcyto 1.12.0 | Mike Jiang | OK | OK | WARNINGS | |  |
| GGtools 5.20.0 | VJ Carey | OK | OK | OK | |  |
| ggtree 1.16.6 | Guangchuang Yu | OK | OK | OK | |  |
| GIGSEA 1.2.0 | Shijia Zhu | OK | OK | OK | |  |
| girafe 1.36.0 | J. Toedling | OK | OK | OK | |  |
| GISPA 1.8.0 | Bhakti Dwivedi | OK | OK | OK | |  |
| GLAD 2.48.0 | Philippe Hupe | OK | OK | OK | |  |
| GladiaTOX 1.0.0 | PMP S.A. R Support | OK | OK | OK | |  |
| Glimma 1.12.0 | Shian Su | OK | OK | OK | |  |
| glmSparseNet 1.2.0 | André Veríssimo | OK | OK | OK | |  |
| GlobalAncova 4.2.0 | Manuela Hummel | OK | OK | OK | |  |
| globalSeq 1.12.0 | Armin Rauschenberger | OK | OK | OK | |  |
| globaltest 5.38.0 | Jelle Goeman | OK | OK | OK | |  |
| gmapR 1.26.0 | Michael Lawrence | OK | OK | WARNINGS | |  |
| GMRP 1.12.0 | Yuan-De Tan | OK | OK | WARNINGS | |  |
| GNET2 1.0.0 | Chen Chen | OK | OK | OK | |  |
| GOexpress 1.18.0 | Kevin Rue-Albrecht | OK | OK | OK | |  |
| GOfuncR 1.4.0 | Steffi Grote | OK | OK | OK | |  |
| GOFunction 1.32.0 | Jing Wang | OK | OK | OK | |  |
| GOpro 1.10.0 | Lidia Chrabaszcz | OK | OK | WARNINGS | |  |
| goProfiles 1.46.0 | Alex Sanchez | OK | OK | OK | |  |
| GOSemSim 2.10.0 | Guangchuang Yu | OK | OK | OK | |  |
| goseq 1.36.0 | Matthew Young , Nadia Davidson | OK | OK | OK | |  |
| GOSim 1.22.0 | Holger Froehlich | OK | OK | OK | |  |
| goSTAG 1.8.0 | Brian D. Bennett | OK | OK | OK | |  |
| GOstats 2.50.0 | Bioconductor Package Maintainer | OK | OK | OK | |  |
| GOsummaries 2.20.0 | Raivo Kolde | OK | OK | OK | |  |
| GOTHiC 1.20.6 | Borbala Mifsud | OK | OK | OK | |  |
| goTools 1.58.0 | Agnes Paquet | OK | OK | OK | |  |
| gpart 1.2.0 | Sun Ah Kim | OK | OK | OK | |  |
| gpls 1.56.0 | Bioconductor Package Maintainer | OK | OK | WARNINGS | |  |
| gprege 1.28.0 | Alfredo Kalaitzis | OK | OK | OK | |  |
| gpuMagic 1.0.0 | Jiefei Wang | OK | ERROR | skipped | | |
| gQTLBase 1.16.0 | VJ Carey | OK | OK | OK | |  |
| gQTLstats 1.16.0 | VJ Carey | OK | OK | OK | |  |
| graper 1.0.0 | Britta Velten | OK | OK | OK | |  |
| graph 1.62.0 | Bioconductor Package Maintainer | OK | OK | OK | |  |
| GraphAlignment 1.48.0 | Joern P. Meier | OK | OK | WARNINGS | |  |
| GraphAT 1.56.0 | Thomas LaFramboise | OK | OK | OK | |  |
| graphite 1.30.0 | Gabriele Sales | OK | OK | OK | |  |
| GraphPAC 1.26.0 | Gregory Ryslik | OK | OK | OK | |  |
| GRENITS 1.36.0 | Edward Morrissey | OK | OK | OK | |  |
| GreyListChIP 1.16.0 | Gordon Brown | OK | OK | OK | |  |
| GRmetrics 1.10.0 | Nicholas Clark , Mario Medvedovic | OK | OK | OK | |  |
| groHMM 1.18.0 | Anusha Nagari , Tulip Nandu , W. Lee Kraus | OK | OK | OK | |  |
| GRridge 1.8.0 | Mark A. van de Wiel | OK | OK | WARNINGS | |  |
| GSALightning 1.12.0 | Billy Heung Wing Chang | OK | OK | OK | |  |
| GSAR 1.18.0 | Yasir Rahmatallah , Galina Glazko | OK | OK | OK | |  |
| GSCA 2.14.0 | Zhicheng Ji | OK | OK | OK | |  |
| GSEABase 1.46.0 | Bioconductor Package Maintainer | OK | OK | OK | |  |
| GSEABenchmarkeR 1.4.0 | Ludwig Geistlinger | OK | OK | OK | |  |
| GSEAlm 1.44.0 | Assaf Oron | OK | OK | OK | |  |
| gsean 1.4.0 | Dongmin Jung | OK | OK | OK | |  |
| GSReg 1.18.0 | Bahman Afsari , Elana J. Fertig | OK | OK | WARNINGS | |  |
| GSRI 2.32.0 | Julian Gehring | OK | OK | OK | |  |
| GSVA 1.32.0 | Justin Guinney | OK | OK | OK | |  |
| gtrellis 1.16.1 | Zuguang Gu | OK | OK | OK | |  |
| GUIDEseq 1.14.0 | Lihua Julie Zhu | OK | OK | OK | |  |
| Guitar 2.0.0 | Jia Meng | OK | OK | OK | |  |
| Gviz 1.28.3 | Robert Ivanek | OK | OK | OK | |  |
| gwascat 2.16.1 | VJ Carey | OK | OK | WARNINGS | |  |
| GWASTools 1.30.1 | Stephanie M. Gogarten | OK | OK | OK | |  |
| gwasurvivr 1.2.0 | Abbas Rizvi | OK | OK | OK | |  |
|
| |
| h5vc 2.18.0 | Paul Theodor Pyl | OK | OK | OK | |  |
| hapFabia 1.26.0 | Andreas Mitterecker | OK | OK | OK | |  |
| Harman 1.12.0 | Jason Ross | OK | OK | OK | |  |
| Harshlight 1.56.0 | Maurizio Pellegrino | OK | OK | OK | |  |
| HCABrowser 1.0.1 | Bioconductor Package Maintainer | OK | OK | OK | |  |
| HDF5Array 1.12.3 | Hervé Pagès | OK | OK | OK | |  |
| HDTD 1.18.0 | Anestis Touloumis | OK | OK | OK | |  |
| heatmaps 1.8.0 | Malcolm Perry | OK | OK | OK | |  |
| Heatplus 2.30.0 | Alexander Ploner | OK | OK | OK | |  |
| HelloRanges 1.10.0 | Michael Lawrence | OK | OK | OK | |  |
| HELP 1.42.0 | Reid F. Thompson | OK | OK | OK | |  |
| HEM 1.56.0 | HyungJun Cho | OK | OK | OK | |  |
| hiAnnotator 1.18.0 | Nirav V Malani | OK | OK | OK | |  |
| HIBAG 1.20.0 | Xiuwen Zheng | OK | OK | OK | |  |
| HiCBricks 1.2.0 | Koustav Pal | OK | OK | OK | |  |
| HiCcompare 1.6.0 | John Stansfield | OK | OK | OK | |  |
| hicrep 1.8.0 | Tao Yang | OK | OK | OK | |  |
| hierGWAS 1.14.0 | Laura Buzdugan | OK | OK | OK | |  |
| hierinf 1.2.0 | Claude Renaux | OK | OK | OK | |  |
| HilbertCurve 1.14.0 | Zuguang Gu | OK | OK | OK | |  |
| HilbertVis 1.42.0 | Simon Anders | OK | OK | OK | |  |
| HilbertVisGUI 1.42.0 | Simon Anders | OK | OK | OK | |  |
| hipathia 2.0.0 | Marta R. Hidalgo | OK | OK | OK | |  |
| hiReadsProcessor 1.20.1 | Nirav V Malani | OK | OK | OK | |  |
| HIREewas 1.2.1 | Xiangyu Luo | OK | OK | OK | |  |
| HiTC 1.28.0 | Nicolas Servant | OK | OK | OK | |  |
| hmdbQuery 1.4.0 | VJ Carey | OK | OK | OK | |  |
| HMMcopy 1.26.0 | Daniel Lai , Sohrab Shah | OK | OK | OK | |  |
| hopach 2.44.0 | Katherine S. Pollard | OK | OK | OK | |  |
| HPAanalyze 1.2.1 | Anh Nhat Tran | OK | OK | OK | |  |
| hpar 1.26.0 | Laurent Gatto | OK | OK | OK | |  |
| HTqPCR 1.38.0 | Heidi Dvinge | OK | OK | OK | |  |
| HTSanalyzeR 2.36.0 | Xin Wang | OK | OK | WARNINGS | |  |
| HTSeqGenie 4.14.0 | Jens Reeder | OK | OK | OK | |  |
htSeqTools 1.32.0 | Oscar Reina | OK | ERROR | skipped | | |
| HTSFilter 1.24.0 | Andrea Rau | OK | OK | OK | |  |
| HumanTranscriptomeCompendium 1.0.1 | VJ Carey | OK | OK | OK | |  |
| HybridMTest 1.28.0 | Demba Fofana | OK | OK | OK | |  |
| hypeR 1.0.0 | Anthony Federico | OK | OK | OK | |  |
| hyperdraw 1.36.0 | Paul Murrell | OK | OK | OK | |  |
| hypergraph 1.56.0 | Bioconductor Package Maintainer | OK | OK | OK | |  |
|
| |
| iASeq 1.28.0 | Yingying Wei | OK | OK | OK | |  |
| iasva 1.2.0 | Donghyung Lee , Anthony Cheng | OK | OK | OK | |  |
| iBBiG 1.28.0 | Aedin Culhane | OK | OK | OK | |  |
| ibh 1.32.0 | Kircicegi Korkmaz | OK | OK | OK | |  |
| iBMQ 1.24.0 | Greg Imholte | OK | OK | OK | |  |
| iCARE 1.12.0 | Bill Wheeler | OK | OK | WARNINGS | |  |
| Icens 1.56.0 | Bioconductor Package Maintainer | OK | OK | OK | |  |
| icetea 1.2.0 | Vivek Bhardwaj | OK | OK | OK | |  |
| iCheck 1.14.0 | Weiliang Qiu | OK | OK | OK | |  |
| iChip 1.38.0 | Qianxing Mo | OK | OK | OK | |  |
| iClusterPlus 1.20.0 | Qianxing Mo , Ronglai Shen | OK | OK | OK | |  |
| iCNV 1.4.0 | Zilu Zhou | OK | OK | WARNINGS | |  |
| iCOBRA 1.12.1 | Charlotte Soneson | OK | OK | OK | |  |
| ideal 1.8.1 | Federico Marini | OK | OK | OK | |  |
| IdeoViz 1.20.0 | Shraddha Pai | OK | OK | WARNINGS | |  |
| idiogram 1.60.0 | Karl J. Dykema | OK | OK | OK | |  |
| IdMappingAnalysis 1.28.0 | Alex Lisovich , Roger Day | OK | OK | OK | |  |
| IdMappingRetrieval 1.32.0 | Alex Lisovich , Roger Day | OK | OK | OK | |  |
| iGC 1.14.0 | Liang-Bo Wang | OK | OK | OK | |  |
| igvR 1.4.0 | Paul Shannon | OK | OK | WARNINGS | |  |
| IHW 1.12.0 | Nikos Ignatiadis | OK | OK | OK | |  |
| illuminaio 0.26.0 | Kasper Daniel Hansen | OK | OK | WARNINGS | |  |
| imageHTS 1.34.0 | Joseph Barry | OK | OK | OK | |  |
| IMAS 1.8.0 | Seonggyun Han | OK | OK | OK | |  |
| Imetagene 1.14.0 | Audrey Lemacon | OK | OK | OK | |  |
| IMMAN 1.4.0 | Minoo Ashtiani | OK | OK | OK | |  |
| ImmuneSpaceR 1.12.2 | ImmuneSpace Package Maintainer | OK | OK | OK | |  |
| immunoClust 1.16.0 | Till Soerensen | OK | OK | OK | |  |
| IMPCdata 1.20.0 | Jeremy Mason | OK | OK | OK | |  |
| ImpulseDE 1.10.0 | Jil Sander , Nir Yosef | OK | OK | OK | |  |
| ImpulseDE2 1.8.0 | David S Fischer | OK | OK | OK | |  |
| impute 1.58.0 | Balasubramanian Narasimhan | OK | OK | OK | |  |
| INDEED 1.2.0 | Zhenzhi Li | OK | OK | OK | |  |
| infercnv 1.0.4 | Christophe Georgescu | OK | OK | OK | |  |
| InPAS 1.16.3 | Jianhong Ou | OK | OK | OK | |  |
| INPower 1.20.0 | Bill Wheeler | OK | OK | OK | |  |
| INSPEcT 1.14.0 | Stefano de Pretis | OK | OK | OK | |  |
| InTAD 1.4.0 | Konstantin Okonechnikov | OK | OK | OK | |  |
| intansv 1.24.0 | Wen Yao | OK | OK | OK | |  |
| InteractionSet 1.12.0 | Aaron Lun | OK | OK | OK | |  |
| interactiveDisplay 1.22.0 | Shawn Balcome | OK | OK | WARNINGS | |  |
| interactiveDisplayBase 1.22.0 | Shawn Balcome | OK | OK | WARNINGS | |  |
| IntEREst 1.8.0 | Ali Oghabian , Mikko Frilander | OK | OK | OK | |  |
| InterMineR 1.6.1 | InterMine Team | OK | ERROR | skipped | | |
| IntramiRExploreR 1.6.0 | Surajit Bhattacharya | OK | OK | OK | |  |
| inveRsion 1.32.0 | Alejandro Caceres | OK | OK | WARNINGS | |  |
| IONiseR 2.8.0 | Mike Smith | OK | OK | OK | |  |
| iPAC 1.28.0 | Gregory Ryslik | OK | OK | OK | |  |
| ipdDb 1.2.0 | Steffen Klasberg | OK | OK | OK | |  |
| IPO 1.10.0 | Thomas Riebenbauer | OK | OK | OK | |  |
| IPPD 1.32.0 | Martin Slawski | OK | OK | OK | |  |
| IRanges 2.18.3 | Bioconductor Package Maintainer | OK | OK | WARNINGS | |  |
| iSEE 1.4.0 | Charlotte Soneson | OK | OK | OK | |  |
| iSeq 1.36.0 | Qianxing Mo | OK | OK | OK | |  |
| isobar 1.30.0 | Florian P Breitwieser | OK | OK | WARNINGS | |  |
| IsoCorrectoR 1.2.1 | Christian Kohler | OK | OK | OK | |  |
| IsoCorrectoRGUI 1.0.2 | Christian Kohler | OK | OK | OK | |  |
| IsoformSwitchAnalyzeR 1.6.0 | Kristoffer Vitting-Seerup | OK | OK | OK | |  |
| IsoGeneGUI 2.20.0 | Setia Pramana | OK | OK | OK | |  |
| ISoLDE 1.12.0 | Christelle Reynès | OK | OK | WARNINGS | |  |
| isomiRs 1.12.0 | Lorena Pantano | OK | OK | OK | |  |
| ITALICS 2.44.0 | Guillem Rigaill | OK | OK | OK | |  |
| iterativeBMA 1.42.0 | Ka Yee Yeung | OK | OK | OK | |  |
| iterativeBMAsurv 1.42.0 | Ka Yee Yeung | OK | OK | OK | |  |
| iterClust 1.6.0 | Hongxu Ding | OK | OK | OK | |  |
| iteremoval 1.4.0 | Jiacheng Chuan | OK | OK | OK | |  |
| IVAS 2.4.0 | Seonggyun Han | OK | OK | WARNINGS | |  |
| ivygapSE 1.6.0 | VJ Carey | OK | OK | OK | |  |
| IWTomics 1.8.0 | Marzia A Cremona | OK | OK | WARNINGS | |  |
|
| |
| joda 1.32.0 | Ewa Szczurek | OK | OK | OK | |  |
| JunctionSeq 1.14.0 | Stephen Hartley | OK | OK | OK | |  |
|
| |
| karyoploteR 1.10.5 | Bernat Gel | OK | OK | OK | |  |
| KCsmart 2.42.0 | Jorma de Ronde | OK | OK | WARNINGS | |  |
| kebabs 1.18.0 | Ulrich Bodenhofer | OK | OK | WARNINGS | |  |
| KEGGgraph 1.44.0 | Jitao David Zhang | OK | OK | OK | |  |
| KEGGlincs 1.10.0 | Shana White , Mario Medvedovic | OK | OK | OK | |  |
| keggorthology 2.36.0 | VJ Carey | OK | OK | OK | |  |
| KEGGprofile 1.26.0 | Shilin Zhao | OK | ERROR | skipped | | |
| KEGGREST 1.24.1 | Bioconductor Package Maintainer | OK | OK | OK | |  |
| kimod 1.12.0 | M L Zingaretti | OK | OK | OK | |  |
| KinSwingR 1.2.0 | Ashley J. Waardenberg | OK | OK | OK | |  |
| kissDE 1.4.0 | Aurélie Siberchicot | OK | OK | OK | |  |
|
| |
| lapmix 1.50.0 | Yann Ruffieux | OK | OK | OK | |  |
| LBE 1.52.0 | Cyril Dalmasso | OK | OK | OK | |  |
| ldblock 1.14.3 | VJ Carey | OK | OK | OK | |  |
| LEA 2.6.0 | Eric Frichot , Olivier Francois | OK | OK | OK | |  |
| LedPred 1.18.0 | Aitor Gonzalez | OK | OK | OK | |  |
| les 1.34.0 | Julian Gehring | OK | OK | OK | |  |
| levi 1.2.0 | Jose Luiz Rybarczyk Filho | OK | OK | OK | |  |
| lfa 1.14.0 | Wei Hao , John D. Storey | OK | OK | WARNINGS | |  |
| limma 3.40.6 | Gordon Smyth | OK | OK | OK | |  |
| limmaGUI 1.60.0 | Gordon Smyth | OK | OK | OK | |  |
| LINC 1.12.0 | Manuel Goepferich | OK | OK | OK | |  |
| LineagePulse 1.4.0 | David S Fischer | OK | OK | WARNINGS | |  |
| Linnorm 2.8.0 | Ken Shun Hang Yip | OK | OK | WARNINGS | |  |
| lipidr 1.0.0 | Ahmed Mohamed | OK | OK | OK | |  |
| LiquidAssociation 1.38.0 | Yen-Yi Ho | OK | OK | OK | |  |
| lmdme 1.26.0 | Cristobal Fresno | OK | OK | OK | |  |
| LMGene 2.40.0 | Blythe Durbin-Johnson | OK | OK | OK | |  |
| LOBSTAHS 1.10.0 | James Collins | OK | OK | WARNINGS | |  |
| loci2path 1.4.0 | Tianlei Xu | OK | OK | OK | |  |
| logicFS 2.4.0 | Holger Schwender | OK | OK | OK | |  |
| logitT 1.42.0 | Tobias Guennel | OK | OK | OK | |  |
| Logolas 1.8.0 | Kushal Dey | OK | OK | OK | |  |
| lol 1.32.0 | Yinyin Yuan | OK | OK | OK | |  |
| LOLA 1.14.0 | Nathan Sheffield | OK | OK | OK | |  |
| LoomExperiment 1.2.0 | Bioconductor Package Maintainer | OK | OK | OK | |  |
| LowMACA 1.14.1 | Stefano de Pretis , Giorgio Melloni | OK | OK | OK | |  |
| LPE 1.58.0 | Nitin Jain | OK | OK | OK | |  |
| LPEadj 1.44.0 | Carl Murie | OK | OK | OK | |  |
| lpNet 2.16.0 | Lars Kaderali | OK | OK | OK | |  |
| lpsymphony 1.12.0 | Vladislav Kim | OK | OK | WARNINGS | |  |
| LRBaseDbi 1.2.0 | Koki Tsuyuzaki | OK | OK | OK | |  |
| lumi 2.36.0 | Pan Du , Lei Huang , Gang Feng | OK | OK | WARNINGS | |  |
| LVSmiRNA 1.34.0 | Stefano Calza | OK | OK | WARNINGS | |  |
| LymphoSeq 1.12.0 | David Coffey | OK | OK | OK | |  |
|
| |
| M3C 1.6.0 | Christopher John | OK | OK | OK | |  |
| M3D 1.18.0 | Tom Mayo | OK | OK | OK | |  |
| M3Drop 1.10.0 | Tallulah Andrews | OK | OK | OK | |  |
| maanova 1.54.0 | Keith Sheppard | OK | OK | OK | |  |
| macat 1.58.0 | Joern Toedling | OK | OK | WARNINGS | |  |
| maCorrPlot 1.54.0 | Alexander Ploner | OK | OK | OK | |  |
| MACPET 1.4.0 | Ioannis Vardaxis | OK | OK | OK | |  |
| made4 1.58.0 | Aedin Culhane | OK | OK | WARNINGS | |  |
| MADSEQ 1.10.0 | Yu Kong | OK | OK | OK | |  |
| maftools 2.0.16 | Anand Mayakonda | OK | OK | OK | |  |
| MAGeCKFlute 1.4.3 | Wubing Zhang | OK | OK | OK | |  |
| maigesPack 1.48.0 | Gustavo H. Esteves | OK | OK | OK | |  |
| MAIT 1.18.0 | Pol Sola-Santos | OK | OK | OK | |  |
| makecdfenv 1.60.0 | James W. MacDonald | OK | OK | WARNINGS | |  |
| MANOR 1.56.0 | Pierre Neuvial | OK | OK | OK | |  |
| manta 1.30.0 | Chris Berthiaume , Adrian Marchetti | OK | OK | OK | |  |
| MantelCorr 1.54.0 | Brian Steinmeyer | OK | OK | OK | |  |
| mAPKL 1.14.1 | Argiris Sakellariou | OK | OK | OK | |  |
| maPredictDSC 1.22.0 | Adi Laurentiu Tarca | OK | OK | OK | |  |
| mapscape 1.8.0 | Maia Smith | OK | OK | WARNINGS | |  |
| marray 1.62.0 | Yee Hwa (Jean) Yang | OK | OK | OK | |  |
| martini 1.4.0 | Hector Climente-Gonzalez | OK | OK | WARNINGS | |  |
| maser 1.2.0 | Diogo F.T. Veiga | OK | OK | OK | |  |
| maSigPro 1.56.0 | Maria Jose Nueda | OK | OK | OK | |  |
| maskBAD 1.28.0 | Michael Dannemann | OK | OK | OK | |  |
| MassArray 1.36.0 | Reid F. Thompson | OK | OK | OK | |  |
| massiR 1.20.0 | Sam Buckberry | OK | OK | OK | |  |
| MassSpecWavelet 1.50.0 | Pan Du | OK | OK | OK | |  |
| MAST 1.10.0 | Andrew McDavid | OK | OK | OK | |  |
| matchBox 1.26.0 | Luigi Marchionni , Anuj Gupta | OK | OK | OK | |  |
| MatrixRider 1.16.0 | Elena Grassi | OK | OK | OK | |  |
| matter 1.10.0 | Kylie A. Bemis | OK | OK | OK | |  |
| MaxContrastProjection 1.8.0 | Jan Sauer | OK | OK | OK | |  |
| MBAmethyl 1.18.0 | Tao Wang | OK | OK | OK | |  |
| MBASED 1.18.0 | Oleg Mayba | OK | OK | OK | |  |
| MBCB 1.38.0 | Jeff Allen | OK | OK | OK | |  |
| mbkmeans 1.0.0 | Davide Risso | OK | OK | OK | |  |
| mBPCR 1.38.0 | P.M.V. Rancoita | OK | OK | OK | |  |
| MBttest 1.12.0 | Yuan-De Tan | OK | OK | OK | |  |
| mcaGUI 1.32.0 | Wade K. Copeland | OK | OK | WARNINGS | |  |
| MCbiclust 1.8.0 | Robert Bentham | OK | OK | OK | |  |
| MCRestimate 2.40.0 | Marc Johannes | OK | OK | OK | |  |
| mCSEA 1.4.0 | Jordi Martorell-Marugán | OK | OK | OK | |  |
| mdgsa 1.16.0 | David Montaner | OK | OK | OK | |  |
| mdp 1.4.0 | Helder Nakaya | OK | OK | OK | |  |
| mdqc 1.46.0 | Gabriela Cohen-Freue | OK | OK | OK | |  |
| MDTS 1.4.0 | Jack M.. Fu | OK | OK | OK | |  |
| MEAL 1.14.0 | Carlos Ruiz-Arenas | OK | OK | WARNINGS | |  |
| MeasurementError.cor 1.56.0 | Beiying Ding | OK | OK | OK | |  |
| MEDIPS 1.36.0 | Lukas Chavez | OK | OK | OK | |  |
| MEDME 1.44.0 | Mattia Pelizzola | OK | OK | WARNINGS | |  |
| MEIGOR 1.18.0 | Jose Egea | OK | OK | WARNINGS | |  |
| Melissa 1.0.0 | C. A. Kapourani | OK | OK | OK | |  |
| MergeMaid 2.56.0 | Xiaogang Zhong | OK | OK | WARNINGS | |  |
| Mergeomics 1.12.0 | Zeyneb Kurt | OK | OK | OK | |  |
| MeSHDbi 1.20.0 | Koki Tsuyuzaki | OK | OK | OK | |  |
| meshes 1.10.0 | Guangchuang Yu | OK | OK | OK | |  |
| meshr 1.20.0 | Koki Tsuyuzaki | OK | OK | OK | |  |
| messina 1.20.0 | Mark Pinese | OK | OK | OK | |  |
| metaArray 1.62.0 | Hyungwon Choi | OK | OK | OK | |  |
| Metab 1.18.0 | Raphael Aggio | OK | OK | OK | |  |
| metabomxtr 1.18.0 | Michael Nodzenski | OK | OK | OK | |  |
| MetaboSignal 1.14.0 | Andrea Rodriguez-Martinez | OK | OK | OK | |  |
| metaCCA 1.12.0 | Anna Cichonska | OK | OK | OK | |  |
| MetaCyto 1.6.0 | Zicheng Hu | OK | OK | OK | |  |
| metagene 2.16.0 | Charles Joly Beauparlant | OK | OK | OK | |  |
| metagene2 1.0.0 | Eric Fournier | OK | OK | OK | |  |
| metagenomeFeatures 2.4.0 | Nathan D. Olson | OK | OK | OK | |  |
| metagenomeSeq 1.26.3 | Joseph N. Paulson | OK | OK | WARNINGS | |  |
| metahdep 1.42.0 | John R. Stevens | OK | OK | WARNINGS | |  |
| metaMS 1.20.0 | Ron Wehrens | OK | OK | OK | |  |
| MetaNeighbor 1.4.0 | Manthan Shah | OK | OK | OK | |  |
| metaSeq 1.24.0 | Koki Tsuyuzaki | OK | OK | OK | |  |
| metaseqR 1.24.0 | Panagiotis Moulos | OK | OK | OK | |  |
| metavizr 1.8.0 | Hector Corrada Bravo | OK | OK | OK | |  |
| MetCirc 1.14.0 | Thomas Naake | OK | OK | OK | |  |
| methimpute 1.6.0 | Aaron Taudt | OK | OK | OK | |  |
| methInheritSim 1.6.0 | Pascal Belleau | OK | OK | OK | |  |
| MethPed 1.12.0 | Helena Carén | OK | OK | OK | |  |
| MethTargetedNGS 1.16.0 | Muhammad Ahmer Jamil | OK | OK | OK | |  |
| methVisual 1.36.0 | Arie Zackay | OK | OK | WARNINGS | |  |
| methyAnalysis 1.26.0 | Pan Du , Lei Huang , Gang Feng | OK | OK | WARNINGS | |  |
| MethylAid 1.18.0 | M. van Iterson | OK | OK | OK | |  |
| methylGSA 1.2.3 | Xu Ren | OK | OK | OK | |  |
| methylInheritance 1.8.0 | Astrid Deschenes | OK | OK | OK | |  |
| methylKit 1.10.0 | Altuna Akalin , Alexander Gosdschan | OK | OK | OK | |  |
| MethylMix 2.14.0 | Olivier Gevaert | OK | OK | OK | |  |
| methylMnM 1.22.0 | Yan Zhou | OK | OK | OK | |  |
| methylPipe 1.18.0 | Kamal Kishore | OK | OK | WARNINGS | |  |
| MethylSeekR 1.24.0 | Lukas Burger | OK | OK | OK | |  |
| methylumi 2.30.0 | Sean Davis | OK | OK | WARNINGS | |  |
| methyvim 1.6.0 | Nima Hejazi | OK | ERROR | skipped | | |
| MetID 1.2.0 | Zhenzhi Li | OK | OK | OK | |  |
| MetNet 1.2.0 | Thomas Naake | OK | OK | OK | |  |
| mfa 1.6.0 | Kieran Campbell | OK | OK | OK | |  |
| Mfuzz 2.44.0 | Matthias Futschik | OK | OK | OK | |  |
| MGFM 1.18.0 | Khadija El Amrani | OK | OK | OK | |  |
| MGFR 1.10.1 | Khadija El Amrani | OK | OK | OK | |  |
| mgsa 1.32.0 | Sebastian Bauer | OK | OK | OK | |  |
| MiChip 1.38.0 | Jonathon Blake | OK | OK | OK | |  |
| microbiome 1.6.0 | Leo Lahti | OK | OK | WARNINGS | |  |
| microRNA 1.42.0 | "James F. Reid" | OK | OK | OK | |  |
| MIGSA 1.8.1 | Juan C. Rodriguez | OK | OK | OK | |  |
| mimager 1.8.0 | Aaron Wolen | OK | OK | OK | |  |
| MIMOSA 1.22.0 | Greg Finak | OK | OK | WARNINGS | |  |
| MineICA 1.24.0 | Anne Biton | OK | OK | OK | |  |
| minet 3.42.0 | Patrick E. Meyer | OK | OK | OK | |  |
| minfi 1.30.0 | Kasper Daniel Hansen | OK | OK | OK | |  |
| MinimumDistance 1.28.0 | Robert B Scharpf | OK | OK | WARNINGS | |  |
| MiPP 1.56.0 | Sukwoo Kim | OK | OK | OK | |  |
| MIRA 1.6.0 | John Lawson | OK | OK | OK | |  |
| MiRaGE 1.26.0 | Y-h. Taguchi | OK | OK | OK | |  |
| miRBaseConverter 1.8.0 | Taosheng Xu | OK | OK | OK | |  |
| miRcomp 1.14.0 | Matthew N. McCall | OK | OK | WARNINGS | |  |
| mirIntegrator 1.14.0 | Diana Diaz | OK | OK | OK | |  |
| miRLAB 1.14.3 | Thuc Duy Le | OK | OK | OK | |  |
| miRmine 1.6.0 | Dusan Randjelovic | OK | OK | OK | |  |
| miRNAmeConverter 1.12.0 | Stefan J. Haunsberger | OK | OK | WARNINGS | |  |
| miRNApath 1.44.0 | James M. Ward | OK | OK | OK | |  |
| miRNAtap 1.18.0 | T. Ian Simpson | OK | OK | OK | |  |
| miRSM 1.2.2 | Junpeng Zhang | OK | OK | OK | |  |
miRsponge 1.10.0 | Junpeng Zhang | OK | OK | OK | |  |
| miRspongeR 1.10.1 | Junpeng Zhang | OK | OK | OK | |  |
| Mirsynergy 1.20.0 | Yue Li | OK | OK | OK | |  |
| missMethyl 1.18.0 | Belinda Phipson | OK | OK | OK | |  |
| missRows 1.4.0 | Gonzalez Ignacio | OK | OK | OK | |  |
| mitoODE 1.22.0 | Gregoire Pau | OK | OK | OK | |  |
| mixOmics 6.8.5 | Kim-Anh Le Cao | OK | OK | OK | |  |
| MLInterfaces 1.64.1 | V. Carey | OK | OK | OK | |  |
| mlm4omics 1.2.0 | Irene SL Zeng | ERROR | ERROR | skipped | | |
| MLP 1.32.0 | Tobias Verbeke | OK | OK | OK | |  |
| MLSeq 2.2.1 | Gokmen Zararsiz | OK | OK | OK | |  |
| MMDiff2 1.12.0 | Gabriele Schweikert | OK | OK | OK | |  |
| MmPalateMiRNA 1.34.0 | Guy Brock | OK | OK | OK | |  |
| mnem 1.0.0 | Martin Pirkl | OK | OK | OK | |  |
| MODA 1.10.0 | Dong Li | OK | OK | OK | |  |
| Modstrings 1.0.3 | Felix G.M. Ernst | OK | OK | OK | |  |
| MOFA 1.0.0 | Britta Velten | OK | OK | OK | |  |
| mogsa 1.18.1 | Chen Meng | OK | OK | OK | |  |
| monocle 2.12.0 | Cole Trapnell | OK | OK | OK | |  |
| MoonlightR 1.10.1 | Antonio Colaprico | OK | OK | OK | |  |
| MoPS 1.18.0 | Philipp Eser | OK | OK | OK | |  |
| mosaics 2.22.0 | Dongjun Chung | OK | OK | OK | |  |
| motifbreakR 1.14.0 | Simon Gert Coetzee | OK | OK | WARNINGS | |  |
| motifcounter 1.8.0 | Wolfgang Kopp | OK | OK | OK | |  |
| MotifDb 1.26.0 | Paul Shannon | OK | OK | OK | |  |
| motifmatchr 1.6.0 | Alicia Schep | OK | OK | OK | |  |
| motifRG 1.28.0 | Zizhen Yao | OK | OK | OK | |  |
| motifStack 1.28.0 | Jianhong Ou | OK | OK | OK | |  |
| MotIV 1.40.0 | Eloi Mercier , Raphael Gottardo | OK | OK | WARNINGS | |  |
| MPFE 1.20.0 | Conrad Burden | OK | OK | OK | |  |
| mpra 1.6.0 | Leslie Myint | OK | OK | OK | |  |
| MPRAnalyze 1.2.0 | Tal Ashuach | OK | OK | OK | |  |
| msa 1.16.0 | Ulrich Bodenhofer | OK | OK | WARNINGS | |  |
| msgbsR 1.8.0 | Benjamin Mayne | OK | OK | WARNINGS | |  |
| MSGFgui 1.18.0 | Thomas Lin Pedersen | OK | OK | OK | |  |
| MSGFplus 1.18.0 | Thomas Lin Pedersen | OK | OK | OK | |  |
| msmsEDA 1.22.0 | Josep Gregori | OK | OK | OK | |  |
| msmsTests 1.22.0 | Josep Gregori i Font | OK | OK | OK | |  |
| MSnbase 2.10.1 | Laurent Gatto | OK | OK | OK | |  |
| MSnID 1.18.1 | Vlad Petyuk | OK | OK | WARNINGS | |  |
| msPurity 1.10.0 | Thomas N. Lawson | OK | OK | OK | |  |
| MSstats 3.16.2 | Meena Choi | OK | OK | WARNINGS | |  |
| MSstatsQC 2.2.0 | Eralp Dogu | OK | OK | OK | |  |
| MSstatsQCgui 1.4.0 | Eralp Dogu | OK | OK | OK | |  |
| MSstatsTMT 1.2.7 | Ting Huang | OK | OK | OK | |  |
| MTseeker 1.2.0 | Tim Triche | OK | OK | WARNINGS | |  |
| Mulcom 1.34.1 | Claudio Isella | OK | OK | WARNINGS | |  |
| MultiAssayExperiment 1.10.4 | Marcel Ramos | OK | OK | OK | |  |
| multiClust 1.14.0 | Nathan Lawlor | OK | OK | OK | |  |
| MultiDataSet 1.12.0 | Carlos Ruiz-Arenas | OK | OK | OK | |  |
| multiHiCcompare 1.2.0 | John Stansfield | OK | OK | OK | |  |
| MultiMed 2.6.0 | Simina M. Boca | OK | OK | OK | |  |
| multiMiR 1.6.0 | Matt Mulvahill | OK | OK | OK | |  |
| multiOmicsViz 1.8.0 | Jing Wang | OK | OK | OK | |  |
| multiscan 1.44.0 | Mizanur Khondoker | OK | OK | OK | |  |
| multtest 2.40.0 | Katherine S. Pollard | OK | OK | WARNINGS | |  |
| muscle 3.26.0 | Alex T. Kalinka | OK | OK | WARNINGS | |  |
| MutationalPatterns 1.10.0 | Roel Janssen | OK | OK | OK | |  |
| MVCClass 1.58.0 | Elizabeth Whalen | OK | OK | OK | |  |
| MWASTools 1.8.0 | Andrea Rodriguez-Martinez , Rafael Ayala | OK | OK | OK | |  |
| mygene 1.20.0 | Adam Mark, Cyrus Afrasiabi, Chunlei Wu | OK | OK | OK | |  |
| myvariant 1.14.0 | Adam Mark, Chunlei Wu | OK | OK | OK | |  |
| mzID 1.22.0 | Laurent Gatto | OK | OK | OK | |  |
| mzR 2.18.1 | Steffen Neumann | OK | OK | WARNINGS | |  |
|
| |
| NADfinder 1.8.1 | Jianhong Ou | OK | OK | OK | |  |
| NanoStringDiff 1.14.0 | tingting zhai ,hong wang | OK | OK | WARNINGS | |  |
| NanoStringQCPro 1.16.0 | Robert Ziman | OK | OK | OK | |  |
| nanotatoR 1.0.0 | Surajit Bhattacharya | OK | OK | OK | |  |
| NarrowPeaks 1.28.0 | Pedro Madrigal | OK | OK | OK | |  |
| NBAMSeq 1.0.1 | Xu Ren | OK | OK | OK | |  |
| NBSplice 1.2.1 | Gabriela Merino | OK | OK | OK | |  |
| ncdfFlow 2.30.1 | Mike Jiang | OK | OK | OK | |  |
| NCIgraph 1.32.0 | Laurent Jacob | OK | OK | OK | |  |
| ndexr 1.6.1 | Florian Auer | OK | OK | ERROR | | |
| NeighborNet 1.2.0 | Sahar Ansari | OK | OK | OK | |  |
| nem 2.58.0 | Holger Froehlich | OK | OK | WARNINGS | |  |
| netbenchmark 1.16.0 | Pau Bellot | OK | OK | WARNINGS | |  |
| netbiov 1.18.0 | Shailesh tripathi | OK | OK | OK | |  |
| netboost 1.0.0 | Pascal Schlosser | OK | OK | OK | |  |
| nethet 1.16.1 | Nicolas Staedler | OK | OK | WARNINGS | |  |
| NetPathMiner 1.20.0 | Ahmed Mohamed | OK | OK | OK | |  |
| netprioR 1.10.0 | Fabian Schmich | OK | OK | OK | |  |
| netReg 1.8.0 | Simon Dirmeier | OK | OK | WARNINGS | |  |
| netresponse 1.44.0 | Leo Lahti | OK | OK | WARNINGS | |  |
| NetSAM 1.24.0 | Bing Zhang | OK | OK | OK | |  |
| netSmooth 1.4.0 | Jonathan Ronen | OK | OK | OK | |  |
| networkBMA 2.24.0 | Ka Yee Yeung | OK | OK | WARNINGS | |  |
NGScopy 1.18.0 | Xiaobei Zhao | ERROR | ERROR | skipped | | |
| ngsReports 1.0.1 | Steve Pederson | OK | OK | OK | |  |
| nnNorm 2.48.0 | Adi Laurentiu Tarca | OK | OK | OK | |  |
| NOISeq 2.28.0 | Sonia Tarazona | OK | OK | OK | |  |
| nondetects 2.14.0 | Valeriia Sherina | OK | OK | OK | |  |
| normalize450K 1.12.0 | Jonathan Alexander Heiss | OK | OK | OK | |  |
| NormalyzerDE 1.2.0 | Jakob Willforss | OK | OK | OK | |  |
| NormqPCR 1.30.0 | James Perkins | OK | OK | OK | |  |
| normr 1.10.0 | Johannes Helmuth | OK | OK | OK | |  |
| npGSEA 1.20.0 | Jessica Larson | OK | OK | OK | |  |
| NTW 1.34.0 | Yuanhua Liu | OK | OK | WARNINGS | |  |
| nucleoSim 1.12.0 | Astrid Deschenes | OK | OK | OK | |  |
| nucleR 2.16.0 | Diego Gallego | OK | OK | OK | |  |
| nuCpos 1.2.0 | Hiroaki Kato | OK | OK | OK | |  |
| NuPoP 1.34.0 | Ji-Ping Wang | OK | OK | OK | |  |
|
| |
| occugene 1.44.0 | Oliver Will | OK | OK | OK | |  |
| OCplus 1.58.0 | Alexander Ploner | OK | OK | OK | |  |
| odseq 1.12.0 | José Jiménez | OK | OK | OK | |  |
| OGSA 1.14.0 | Michael F. Ochs | OK | OK | OK | |  |
| oligo 1.48.0 | Benilton Carvalho | OK | OK | WARNINGS | |  |
| oligoClasses 1.46.0 | Benilton Carvalho and Robert Scharpf | OK | OK | WARNINGS | |  |
| OLIN 1.62.0 | Matthias Futschik | OK | OK | OK | |  |
| OLINgui 1.58.0 | Matthias Futschik | OK | OK | OK | |  |
| OmaDB 2.0.0 | Klara Kaleb , Adrian Altenhoff | OK | OK | OK | |  |
| omicade4 1.24.1 | Chen Meng | OK | OK | OK | |  |
| OmicCircos 1.22.0 | Ying Hu | OK | OK | OK | |  |
| omicplotR 1.4.3 | Daniel Giguere | OK | OK | OK | |  |
| omicRexposome 1.6.0 | Carles Hernandez-Ferrer | OK | OK | OK | |  |
| OmicsLonDA 1.0.0 | Ahmed A. Metwally | OK | OK | OK | |  |
| OmicsMarkeR 1.16.0 | Charles E. Determan Jr. | OK | OK | OK | |  |
| OMICsPCA 1.2.0 | Subhadeep Das | OK | OK | OK | |  |
| omicsPrint 1.4.0 | Davy Cats | OK | OK | OK | |  |
| Onassis 1.6.1 | Eugenia Galeota | OK | OK | OK | |  |
| oncomix 1.6.0 | Daniel Pique | OK | OK | OK | |  |
| OncoScore 1.12.0 | Luca De Sano | OK | OK | OK | |  |
| OncoSimulR 2.14.0 | Ramon Diaz-Uriarte | OK | OK | OK | |  |
| oneSENSE 1.6.0 | Yong Kee Tan | OK | OK | WARNINGS | |  |
| onlineFDR 1.2.0 | David Robertson | OK | OK | OK | |  |
| ontoProc 1.6.0 | VJ Carey | OK | OK | OK | |  |
| openCyto 1.22.2 | Mike Jiang | OK | OK | WARNINGS | |  |
| openPrimeR 1.6.0 | Matthias Döring | OK | OK | OK | |  |
| openPrimeRui 1.6.0 | Matthias Döring | OK | OK | OK | |  |
| oposSOM 2.2.0 | Henry Loeffler-Wirth | OK | OK | WARNINGS | |  |
| oppar 1.12.0 | Soroor Hediyeh zadeh | OK | OK | OK | |  |
| OPWeight 1.6.0 | Mohamad Hasan | OK | OK | OK | |  |
| OrderedList 1.56.0 | Claudio Lottaz | OK | OK | OK | |  |
| ORFik 1.4.1 | Kornel Labun | OK | OK | OK | |  |
| Organism.dplyr 1.12.1 | Martin Morgan | OK | OK | OK | |  |
| OrganismDbi 1.26.0 | Biocore Data Team | OK | OK | WARNINGS | |  |
| OSAT 1.32.0 | Li Yan | OK | OK | OK | |  |
| Oscope 1.14.0 | Ning Leng | OK | OK | OK | |  |
| OTUbase 1.34.0 | Daniel Beck | OK | OK | OK | |  |
| OutlierD 1.48.0 | Sukwoo Kim | OK | OK | OK | |  |
| OUTRIDER 1.2.4 | Christian Mertes | OK | OK | OK | |  |
| OVESEG 1.0.0 | Lulu Chen | OK | OK | OK | |  |
|
| |
| PAA 1.18.0 | Michael Turewicz , Martin Eisenacher | OK | OK | OK | |  |
| PADOG 1.26.0 | Adi Laurentiu Tarca | OK | OK | OK | |  |
| PAIRADISE 1.0.0 | Qiang Hu , Levon Demirdjian | OK | OK | OK | |  |
| paircompviz 1.22.0 | Michal Burda | OK | OK | OK | |  |
| pandaR 1.16.0 | Joseph N. Paulson , Dan Schlauch | OK | OK | OK | |  |
| panelcn.mops 1.6.1 | Gundula Povysil | OK | OK | OK | |  |
| panp 1.54.0 | Peter Warren | OK | OK | OK | |  |
| PANR 1.30.0 | Xin Wang | OK | OK | OK | |  |
| PanVizGenerator 1.12.0 | Thomas Lin Pedersen | OK | OK | OK | |  |
| PAPi 1.24.0 | Raphael Aggio | OK | OK | OK | |  |
| parglms 1.16.0 | VJ Carey | OK | OK | OK | |  |
| parody 1.42.0 | VJ Carey | OK | OK | OK | |  |
| PAST 1.0.1 | Thrash Adam | OK | OK | OK | |  |
| Path2PPI 1.14.0 | Oliver Philipp | OK | OK | OK | |  |
| pathifier 1.22.0 | Assif Yitzhaky | OK | OK | OK | |  |
| PathNet 1.24.0 | Jason B. Smith | OK | OK | ERROR | | |
| PathoStat 1.10.0 | Solaiappan Manimaran | OK | OK | OK | |  |
| pathprint 1.14.0 | Sokratis Kariotis | OK | OK | OK | |  |
| pathRender 1.52.0 | Vince Carey | OK | OK | OK | |  |
| pathVar 1.14.0 | Samuel Zimmerman | OK | OK | OK | |  |
| pathview 1.24.0 | Weijun Luo | OK | OK | WARNINGS | |  |
| pathwayPCA 1.0.0 | Gabriel Odom | OK | OK | OK | |  |
| PathwaySplice 1.8.0 | Aimin Yan | OK | OK | OK | |  |
| paxtoolsr 1.18.0 | Augustin Luna | OK | OK | OK | |  |
| Pbase 0.24.0 | Sebastian Gibb | OK | OK | ERROR | | |
| pcaExplorer 2.10.1 | Federico Marini | OK | OK | OK | |  |
| pcaGoPromoter 1.28.0 | Morten Hansen | OK | OK | OK | |  |
| pcaMethods 1.76.0 | Henning Redestig | OK | OK | OK | |  |
| PCAN 1.12.0 | Matthew Page and Patrice Godard | OK | OK | OK | |  |
| PCAtools 1.0.0 | Kevin Blighe , Myles Lewis | OK | OK | OK | |  |
| pcot2 1.52.0 | Sarah Song | OK | OK | OK | |  |
| PCpheno 1.46.0 | Nolwenn Le Meur | OK | OK | OK | |  |
| pcxn 2.6.0 | Sokratis Kariotis | OK | OK | OK | |  |
| pdInfoBuilder 1.48.0 | Benilton Carvalho | OK | OK | OK | |  |
| PECA 1.20.0 | Tomi Suomi | OK | OK | OK | |  |
| PepsNMR 1.2.1 | Manon Martin | OK | OK | OK | |  |
| pepStat 1.18.0 | Gregory C Imholte | OK | OK | OK | |  |
| pepXMLTab 1.18.0 | Xiaojing Wang | OK | OK | OK | |  |
| perturbatr 1.4.0 | Simon Dirmeier | OK | OK | OK | |  |
| PGA 1.14.0 | Bo Wen , Shaohang Xu | OK | OK | OK | |  |
| pgca 1.8.0 | Gabriela Cohen-Freue | OK | OK | OK | |  |
| PGSEA 1.58.0 | Karl Dykema | OK | ERROR | skipped | | |
| phantasus 1.4.0 | Alexey Sergushichev | OK | OK | OK | |  |
| PharmacoGx 1.14.2 | Benjamin Haibe-Kains | OK | OK | OK | |  |
| phemd 1.0.1 | William S Chen | OK | OK | OK | |  |
| phenopath 1.8.0 | Kieran Campbell | OK | OK | OK | |  |
| phenoTest 1.32.0 | Evarist Planet | OK | OK | OK | |  |
| PhenStat 2.20.3 | Hamed Haselimashhadi | OK | OK | OK | |  |
| philr 1.10.1 | Justin Silverman | OK | OK | OK | |  |
| phosphonormalizer 1.8.0 | Sohrab Saraei | OK | OK | OK | |  |
| phyloseq 1.28.0 | Paul J. McMurdie | OK | OK | OK | |  |
| Pi 1.12.0 | Hai Fang | OK | OK | OK | |  |
| piano 2.0.2 | Leif Varemo Wigge | OK | OK | OK | |  |
| pickgene 1.56.0 | Brian S. Yandell | OK | OK | WARNINGS | |  |
| PICS 2.28.0 | Renan Sauteraud | OK | OK | WARNINGS | |  |
| Pigengene 1.10.0 | Habil Zare | OK | OK | OK | |  |
| PING 2.28.0 | Renan Sauteraud | OK | OK | WARNINGS | |  |
| pint 1.34.0 | Olli-Pekka Huovilainen | OK | OK | OK | |  |
| pipeFrame 1.0.0 | Zheng Wei | OK | OK | OK | |  |
| pkgDepTools 1.50.0 | Bioconductor Package Maintainer | OK | OK | OK | |  |
| plateCore 1.42.0 | Errol Strain | ERROR | ERROR | skipped | | |
| plethy 1.22.0 | Daniel Bottomly | OK | OK | OK | |  |
| plgem 1.56.0 | Norman Pavelka | OK | OK | OK | |  |
| plier 1.54.0 | Crispin Miller | OK | OK | OK | |  |
| plotGrouper 1.2.0 | John D. Gagnon | OK | OK | OK | |  |
| PLPE 1.44.0 | Soo-heang Eo | OK | OK | OK | |  |
| plrs 1.24.0 | Gwenael G.R. Leday to | OK | OK | OK | |  |
| plw 1.44.0 | Magnus Astrand | OK | OK | OK | |  |
| plyranges 1.4.4 | Stuart Lee | OK | OK | OK | |  |
| pmm 1.16.0 | Anna Drewek | OK | OK | OK | |  |
| podkat 1.16.0 | Ulrich Bodenhofer | OK | OK | OK | |  |
| pogos 1.4.0 | VJ Carey | OK | OK | OK | |  |
| polyester 1.20.0 | Jack Fu , Jeff Leek | OK | OK | OK | |  |
| Polyfit 1.18.0 | Conrad Burden | OK | OK | OK | |  |
| POST 1.8.0 | Xueyuan Cao | OK | OK | WARNINGS | |  |
| PoTRA 1.0.0 | Valentin Dinu | OK | OK | OK | |  |
| PowerExplorer 1.4.0 | Xu Qiao | OK | OK | OK | |  |
| powerTCR 1.4.0 | Hillary Koch | OK | OK | OK | |  |
| PPInfer 1.10.0 | Dongmin Jung | OK | OK | OK | |  |
| ppiStats 1.50.0 | Bioconductor Package Maintainer | OK | OK | OK | |  |
| pqsfinder 2.0.2 | Jiri Hon | OK | OK | OK | |  |
| prada 1.60.0 | Florian Hahne | OK | OK | OK | |  |
| pram 1.0.0 | Peng Liu | OK | OK | OK | |  |
| prebs 1.24.0 | Karolis Uziela | OK | OK | OK | |  |
| PrecisionTrialDrawer 1.0.1 | Giorgio Melloni | OK | OK | OK | |  |
| PREDA 1.30.0 | Francesco Ferrari | OK | OK | OK | |  |
| predictionet 1.30.0 | Benjamin Haibe-Kains | OK | OK | OK | |  |
| preprocessCore 1.46.0 | Ben Bolstad | OK | OK | OK | |  |
| primirTSS 1.2.0 | Pumin Li | OK | OK | OK | |  |
| PrInCE 1.0.1 | Michael Skinnider | OK | OK | OK | |  |
| Prize 1.14.0 | Daryanaz Dargahi | OK | OK | OK | |  |
| proBAMr 1.18.0 | Xiaojing Wang | OK | OK | OK | |  |
| proBatch 1.0.0 | Chloe H. Lee | OK | OK | OK | |  |
| PROcess 1.60.0 | Xiaochun Li | OK | OK | OK | |  |
| procoil 2.12.0 | Ulrich Bodenhofer | OK | OK | OK | |  |
ProCoNA 1.22.0 | David L Gibbs | OK | ERROR | skipped | | |
| proFIA 1.10.0 | Alexis Delabriere | OK | OK | WARNINGS | |  |
| profileplyr 1.0.1 | Tom Carroll , Doug Barrows | OK | OK | OK | |  |
| profileScoreDist 1.12.0 | Paal O. Westermark | OK | OK | OK | |  |
| progeny 1.6.0 | Michael Schubert | OK | OK | OK | |  |
| projectR 1.0.0 | Genevieve Stein-O'Brien | OK | OK | OK | |  |
| pRoloc 1.24.1 | Laurent Gatto | OK | OK | WARNINGS | |  |
| pRolocGUI 1.18.0 | Laurent Gatto | OK | OK | OK | |  |
| PROMISE 1.36.0 | Stan Pounds , Xueyuan Cao | OK | OK | OK | |  |
| PROPER 1.16.0 | Hao Wu | OK | OK | WARNINGS | |  |
| PROPS 1.6.0 | Lichy Han | OK | OK | OK | |  |
| Prostar 1.16.10 | Samuel Wieczorek | OK | OK | OK | |  |
| proteinProfiles 1.24.0 | Julian Gehring | OK | OK | OK | |  |
| ProteomicsAnnotationHubData 1.14.0 | Laurent Gatto | OK | OK | OK | |  |
| ProteoMM 1.2.0 | Yuliya V Karpievitch | OK | OK | OK | |  |
| proteoQC 1.20.0 | Bo Wen | OK | ERROR | skipped | | |
| ProtGenerics 1.16.0 | Laurent Gatto | OK | OK | OK | |  |
| PSEA 1.18.0 | Alexandre Kuhn | OK | OK | OK | |  |
| psichomics 1.10.2 | Nuno Saraiva-Agostinho | OK | OK | OK | |  |
| PSICQUIC 1.22.2 | Paul Shannon | OK | OK | WARNINGS | |  |
| psygenet2r 1.16.0 | Alba Gutierrez-Sacristan | OK | OK | WARNINGS | |  |
| puma 3.26.0 | Xuejun Liu | OK | OK | WARNINGS | |  |
| PureCN 1.14.3 | Markus Riester | OK | OK | OK | |  |
| pvac 1.32.0 | Jun Lu , Pierre R. Bushel | OK | OK | OK | |  |
| pvca 1.24.0 | Jianying LI | OK | OK | OK | |  |
| Pviz 1.18.0 | Renan Sauteraud | OK | OK | OK | |  |
| PWMEnrich 4.20.0 | Robert Stojnic | OK | OK | OK | |  |
| pwOmics 1.16.0 | Maren Sitte | OK | OK | OK | |  |
|
| |
| qckitfastq 1.0.1 | August Guang | OK | OK | OK | |  |
| qcmetrics 1.22.0 | Laurent Gatto | OK | OK | OK | |  |
| QDNAseq 1.20.0 | Daoud Sie | OK | OK | WARNINGS | |  |
| qpcrNorm 1.42.0 | Jessica Mar | OK | OK | OK | |  |
| qpgraph 2.18.0 | Robert Castelo | OK | OK | OK | |  |
| qPLEXanalyzer 1.2.0 | Ashley Sawle | OK | OK | OK | |  |
| qrqc 1.38.0 | Vince Buffalo | OK | OK | WARNINGS | |  |
| qsea 1.10.0 | Matthias Lienhard | OK | OK | OK | |  |
| qsmooth 1.0.0 | Stephanie C. Hicks | OK | OK | OK | |  |
| QSutils 1.2.0 | Mercedes Guerrero-Murillo | OK | OK | OK | |  |
| QUALIFIER 1.28.0 | Mike Jiang | OK | OK | WARNINGS | |  |
| quantro 1.18.0 | Stephanie Hicks | OK | OK | OK | |  |
| quantsmooth 1.50.0 | Jan Oosting | OK | OK | OK | |  |
| QuartPAC 1.16.0 | Gregory Ryslik | OK | OK | OK | |  |
| QuasR 1.24.2 | Michael Stadler | OK | OK | OK | |  |
| QuaternaryProd 1.18.0 | Carl Tony Fakhry | OK | OK | OK | |  |
| QUBIC 1.12.0 | Yu Zhang | OK | OK | OK | |  |
| qusage 2.18.0 | Christopher Bolen | OK | OK | OK | |  |
| qvalue 2.16.0 | John D. Storey , Andrew J. Bass | OK | OK | OK | |  |
|
| |
| R3CPET 1.16.0 | Mohamed Nadhir Djekidel | OK | OK | OK | |  |
| r3Cseq 1.30.0 | Supat Thongjuea or | OK | OK | OK | |  |
| R453Plus1Toolbox 1.34.0 | Hans-Ulrich Klein | OK | OK | WARNINGS | |  |
| R4RNA 1.12.0 | Daniel Lai | OK | OK | OK | |  |
| RaggedExperiment 1.8.0 | Martin Morgan | OK | OK | OK | |  |
| rain 1.18.0 | Paul F. Thaben | OK | OK | OK | |  |
| rama 1.58.0 | Raphael Gottardo | OK | OK | WARNINGS | |  |
| ramwas 1.8.0 | Andrey A Shabalin | OK | OK | OK | |  |
| RandomWalkRestartMH 1.4.0 | Alberto Valdeolivas Urbelz | OK | OK | OK | |  |
| randPack 1.30.0 | Robert Gentleman | OK | OK | OK | |  |
| RankProd 3.10.0 | Francesco Del Carratore | OK | OK | OK | |  |
| RareVariantVis 2.12.0 | Tomasz Stokowy | OK | OK | OK | |  |
| Rariant 1.20.0 | Julian Gehring | OK | OK | WARNINGS | |  |
| RbcBook1 1.52.0 | Vince Carey | OK | OK | OK | |  |
| RBGL 1.60.0 | Bioconductor Package Maintainer | OK | OK | OK | |  |
| RBioinf 1.44.0 | Robert Gentleman | OK | OK | OK | |  |
| rBiopaxParser 2.24.0 | Frank Kramer | OK | OK | OK | |  |
| RBM 1.16.0 | Dongmei Li | OK | OK | OK | |  |
| Rbowtie 1.24.0 | Michael Stadler | OK | OK | OK | |  |
| Rbowtie2 1.6.0 | Zheng Wei | OK | OK | OK | |  |
| rbsurv 2.42.0 | Soo-heang Eo | OK | OK | OK | |  |
| Rcade 1.26.0 | Jonathan Cairns | OK | OK | OK | |  |
| RCAS 1.10.1 | Bora Uyar | OK | OK | OK | |  |
| RCASPAR 1.30.0 | Douaa Mugahid , Lars Kaderali | OK | OK | OK | |  |
| rcellminer 2.6.0 | Augustin Luna , Vinodh Rajapakse | OK | OK | OK | |  |
| rCGH 1.14.0 | Frederic Commo | OK | OK | OK | |  |
| Rchemcpp 2.22.0 | Guenter Klambauer | ERROR | ERROR | skipped | | |
| RchyOptimyx 2.24.0 | Adrin Jalali , Nima Aghaeepour | OK | OK | OK | |  |
| RcisTarget 1.4.0 | Sara Aibar | OK | OK | OK | |  |
| RCM 1.0.0 | Joris Meys | OK | OK | OK | |  |
| Rcpi 1.20.1 | Nan Xiao | OK | OK | OK | |  |
| Rcwl 1.0.14 | Qiang Hu | OK | OK | OK | |  |
| RcwlPipelines 1.0.11 | Qiang Hu | OK | OK | OK | |  |
| RCy3 2.4.6 | Alex Pico | OK | OK | OK | |  |
| RCyjs 2.6.0 | Paul Shannon | OK | OK | WARNINGS | |  |
| RDAVIDWebService 1.22.0 | Cristobal Fresno | OK | OK | WARNINGS | |  |
| rDGIdb 1.10.0 | Thomas Thurnherr | OK | OK | OK | |  |
| Rdisop 1.44.0 | Steffen Neumann | OK | OK | OK | |  |
| RDRToolbox 1.34.0 | Christoph Bartenhagen | OK | OK | OK | |  |
| ReactomePA 1.28.0 | Guangchuang Yu | OK | OK | OK | |  |
| readat 1.10.0 | Richard Cotton | ERROR | ERROR | skipped | | |
| ReadqPCR 1.30.0 | James Perkins | OK | OK | OK | |  |
| reb 1.62.0 | Karl J. Dykema | OK | OK | OK | |  |
| REBET 1.2.0 | Bill Wheeler | OK | OK | OK | |  |
| recount 1.10.13 | Leonardo Collado-Torres | OK | OK | OK | |  |
| recoup 1.12.0 | Panagiotis Moulos | OK | OK | OK | |  |
| RedeR 1.32.2 | Mauro Castro | OK | OK | OK | |  |
| REDseq 1.30.0 | Lihua Julie Zhu | OK | OK | OK | |  |
| RefNet 1.20.0 | Paul Shannon | OK | OK | OK | |  |
| RefPlus 1.54.0 | Kai-Ming Chang | OK | OK | OK | |  |
| regioneR 1.16.5 | Bernat Gel | OK | OK | OK | |  |
| regionReport 1.18.2 | Leonardo Collado-Torres | OK | OK | OK | |  |
| regsplice 1.10.0 | Lukas M. Weber | OK | OK | OK | |  |
| REMP 1.8.2 | Yinan Zheng | OK | OK | OK | |  |
| Repitools 1.30.0 | Mark Robinson | OK | OK | OK | |  |
| ReportingTools 2.24.0 | Jason A. Hackney , Gabriel Becker | OK | OK | OK | |  |
| RepViz 1.0.0 | Thomas Faux, Asta Laiho | OK | OK | WARNINGS | |  |
| ReQON 1.30.0 | Christopher Cabanski | OK | OK | OK | |  |
| restfulSE 1.6.1 | Shweta Gopaulakrishnan | OK | OK | ERROR | | |
| rexposome 1.6.0 | Carles Hernandez-Ferrer | OK | OK | OK | |  |
| rfPred 1.22.0 | Hugo Varet | OK | OK | OK | |  |
| rGADEM 2.32.0 | Arnaud Droit | OK | OK | OK | |  |
| RGalaxy 1.28.0 | Bioconductor Package Maintainer | OK | OK | OK | |  |
| Rgin 1.4.0 | Hector Climente-Gonzalez | OK | OK | WARNINGS | |  |
| RGMQL 1.4.1 | Simone Pallotta | OK | OK | OK | |  |
| RGraph2js 1.12.0 | Stephane Cano | OK | OK | OK | |  |
| Rgraphviz 2.28.0 | Kasper Daniel Hansen | OK | OK | WARNINGS | |  |
| rGREAT 1.16.1 | Zuguang Gu | OK | OK | OK | |  |
| RGSEA 1.18.0 | Chengcheng Ma | OK | ERROR | skipped | | |
| rgsepd 1.16.0 | Karl Stamm | OK | OK | OK | |  |
| rhdf5 2.28.1 | Mike Smith | OK | OK | OK | |  |
| rhdf5client 1.6.1 | Samuela Pollack | OK | OK | ERROR | | |
| Rhdf5lib 1.6.3 | Mike Smith | OK | OK | OK | |  |
| Rhisat2 1.0.3 | Charlotte Soneson | OK | OK | OK | |  |
| Rhtslib 1.16.3 | Bioconductor Package Maintainer | OK | OK | WARNINGS | |  |
| rHVDM 1.50.0 | Martino Barenco | OK | OK | ERROR | | |
| RiboProfiling 1.14.0 | A. Popa | OK | OK | WARNINGS | |  |
| riboSeqR 1.18.0 | Thomas J. Hardcastle | OK | OK | OK | |  |
| RImmPort 1.12.0 | Zicheng Hu , Ravi Shankar | OK | OK | OK | |  |
| Ringo 1.48.0 | J. Toedling | OK | OK | OK | |  |
| RIPSeeker 1.24.0 | Yue Li | OK | OK | OK | |  |
| Risa 1.26.0 | Alejandra Gonzalez-Beltran | OK | OK | OK | |  |
| RITAN 1.8.0 | Michael Zimmermann | OK | OK | WARNINGS | |  |
| RIVER 1.8.0 | Yungil Kim | OK | OK | OK | |  |
| RJMCMCNucleosomes 1.8.0 | Astrid Deschênes | OK | OK | OK | |  |
| RLMM 1.46.0 | Nusrat Rabbee | OK | OK | OK | |  |
| Rmagpie 1.40.0 | Camille Maumet | OK | OK | OK | |  |
| RMassBank 2.12.0 | RMassBank at Eawag | OK | OK | OK | |  |
rMAT 3.34.0 | Arnaud Droit and Raphael Gottardo | OK | ERROR | skipped | | |
| rmelting 1.0.0 | J. Aravind | OK | OK | OK | |  |
| RmiR 1.40.0 | Francesco Favero | OK | OK | OK | |  |
| Rmmquant 1.2.0 | Zytnicki Matthias | OK | OK | OK | |  |
| RNAdecay 1.4.0 | Reed Sorenson | OK | OK | OK | |  |
| RNAinteract 1.32.0 | Bernd Fischer | OK | OK | OK | |  |
| RNAither 2.32.0 | Lars Kaderali | OK | OK | OK | |  |
| RNAprobR 1.16.0 | Nikos Sidiropoulos | OK | OK | OK | |  |
| rnaseqcomp 1.14.0 | Mingxiang Teng | OK | OK | OK | |  |
| rnaSeqMap 2.42.0 | Michal Okoniewski | OK | OK | OK | |  |
| RNASeqPower 1.24.0 | Terry M Therneau | OK | OK | OK | |  |
| RNASeqR 1.2.1 | Kuan-Hao Chao | OK | OK | OK | |  |
| RnaSeqSampleSize 1.16.0 | Shilin Zhao | OK | OK | ERROR | | |
| RnBeads 2.2.0 | Fabian Mueller | OK | OK | OK | |  |
| Rnits 1.18.0 | Dipen P. Sangurdekar | OK | OK | OK | |  |
| roar 1.20.0 | Elena Grassi | OK | OK | OK | |  |
| ROC 1.60.0 | Vince Carey | OK | OK | OK | |  |
| Roleswitch 1.22.0 | Yue Li | OK | OK | OK | |  |
| rols 2.12.2 | Laurent Gatto | OK | OK | ERROR | | |
| ROntoTools 2.12.0 | Calin Voichita | OK | OK | OK | |  |
| ropls 1.16.0 | Etienne A. Thevenot | OK | OK | OK | |  |
| ROTS 1.12.0 | Tomi Suomi | OK | OK | OK | |  |
| RPA 1.40.0 | Leo Lahti | OK | OK | OK | |  |
| RProtoBufLib 1.6.0 | Mike Jiang | OK | OK | WARNINGS | |  |
| RpsiXML 2.26.0 | Jitao David Zhang | OK | OK | OK | |  |
| rpx 1.20.2 | Laurent Gatto | OK | OK | OK | |  |
| Rqc 1.18.0 | Welliton Souza | OK | OK | OK | |  |
| rqt 1.10.0 | Ilya Y. Zhbannikov | OK | OK | OK | |  |
| rqubic 1.30.0 | Jitao David Zhang | OK | OK | WARNINGS | |  |
| rRDP 1.18.0 | Michael Hahsler | OK | OK | OK | |  |
| RRHO 1.24.0 | Jonathan Rosenblatt | OK | OK | OK | |  |
| Rsamtools 2.0.3 | Bioconductor Package Maintainer | OK | OK | WARNINGS | |  |
| rsbml 2.42.0 | Michael Lawrence | OK | OK | WARNINGS | |  |
| rScudo 1.0.0 | Matteo Ciciani | OK | OK | OK | |  |
| RSeqAn 1.4.0 | August Guang | OK | OK | OK | |  |
rSFFreader 0.32.0 | Matt Settles | ERROR | ERROR | skipped | | |
| Rsubread 1.34.7 | Wei Shi , Yang Liao and Gordon K Smyth | OK | OK | OK | |  |
| RSVSim 1.24.0 | Christoph Bartenhagen | OK | OK | OK | |  |
| rTANDEM 1.24.0 | Frederic Fournier | OK | OK | OK | |  |
| RTCA 1.36.0 | Jitao David Zhang | OK | OK | OK | |  |
| RTCGA 1.14.0 | Marcin Kosinski | OK | OK | OK | |  |
| RTCGAToolbox 2.14.0 | Marcel Ramos | OK | OK | OK | |  |
| RTN 2.8.5 | Mauro Castro | OK | OK | OK | |  |
| RTNduals 1.8.3 | Mauro Castro , Clarice Groeneveld | OK | OK | OK | |  |
| RTNsurvival 1.8.3 | Clarice Groeneveld , Mauro A. A. Castro | OK | OK | OK | |  |
| RTopper 1.30.0 | Luigi Marchionni | OK | OK | OK | |  |
| rtracklayer 1.44.4 | Michael Lawrence | OK | OK | WARNINGS | |  |
| Rtreemix 1.46.0 | Jasmina Bogojeska | OK | OK | OK | |  |
| rTRM 1.22.0 | Diego Diez | OK | OK | OK | |  |
| rTRMui 1.22.0 | Diego Diez | OK | OK | OK | |  |
| runibic 1.6.0 | Patryk Orzechowski | OK | OK | OK | |  |
| RUVcorr 1.16.0 | Saskia Freytag | OK | OK | OK | |  |
| RUVnormalize 1.18.0 | Laurent Jacob | OK | OK | OK | |  |
| RUVSeq 1.18.0 | Davide Risso | OK | OK | OK | |  |
| RVS 1.6.0 | Thomas Sherman | OK | OK | OK | |  |
| rWikiPathways 1.4.1 | Egon Willighagen | OK | OK | OK | |  |
|
| |
| S4Vectors 0.22.1 | Bioconductor Package Maintainer | OK | OK | WARNINGS | |  |
| safe 3.24.0 | William T. Barry | OK | OK | OK | |  |
| sagenhaft 1.54.0 | Tim Beissbarth | OK | OK | OK | |  |
| SAGx 1.58.0 | Per Broberg, | OK | OK | OK | |  |
| samExploreR 1.8.0 | shailesh tripathi | OK | OK | OK | |  |
| sampleClassifier 1.8.0 | Khadija El Amrani | OK | OK | OK | |  |
| SamSPECTRAL 1.38.0 | Habil | OK | OK | WARNINGS | |  |
| sangerseqR 1.20.0 | Jonathon Hill | OK | OK | OK | |  |
| SANTA 2.22.0 | Alex J. Cornish | OK | OK | WARNINGS | |  |
| sapFinder 1.22.0 | Shaohang Xu , Bo Wen | OK | OK | OK | |  |
| savR 1.22.0 | R. Brent Calder | OK | OK | OK | |  |
| SBMLR 1.80.0 | Tomas Radivoyevitch | OK | OK | OK | |  |
| SC3 1.12.0 | Vladimir Kiselev | OK | OK | OK | |  |
| Scale4C 1.6.0 | Carolin Walter | OK | OK | OK | |  |
| scAlign 1.0.0 | Nelson Johansen | OK | OK | WARNINGS | |  |
| SCAN.UPC 2.26.0 | Stephen R. Piccolo | OK | OK | OK | |  |
| scater 1.12.2 | Davis McCarthy | OK | OK | OK | |  |
| SCBN 1.2.0 | Yan Zhou | OK | OK | OK | |  |
| scDD 1.8.0 | Keegan Korthauer | OK | OK | OK | |  |
| scde 2.12.0 | Jean Fan | OK | OK | WARNINGS | |  |
| scds 1.0.0 | Dennis Kostka | OK | OK | OK | |  |
| scFeatureFilter 1.4.0 | Guillaume Devailly | OK | OK | OK | |  |
| scfind 1.6.0 | Vladimir Kiselev | OK | OK | OK | |  |
| ScISI 1.56.0 | Tony Chiang | OK | OK | OK | |  |
| scmap 1.6.0 | Vladimir Kiselev | OK | OK | OK | |  |
| scMerge 1.0.0 | Kevin Wang | OK | OK | OK | |  |
| scmeth 1.4.0 | Divy Kangeyan | OK | OK | OK | |  |
| SCnorm 1.6.0 | Rhonda Bacher | OK | OK | OK | |  |
| scone 1.8.0 | Michael Cole | OK | OK | OK | |  |
| Sconify 1.4.0 | Tyler J Burns | OK | OK | WARNINGS | |  |
| scoreInvHap 1.6.0 | Carlos Ruiz | OK | OK | WARNINGS | |  |
| scPipe 1.6.0 | Luyi Tian | OK | OK | WARNINGS | |  |
| scran 1.12.1 | Aaron Lun | OK | OK | OK | |  |
| scRecover 1.0.0 | Zhun Miao | OK | OK | OK | |  |
| scruff 1.2.5 | Zhe Wang | OK | OK | OK | |  |
| scsR 1.20.0 | Andrea Franceschini , Roger Meier , Christian von Mering | OK | OK | OK | |  |
| scTensor 1.0.13 | Koki Tsuyuzaki | OK | OK | OK | |  |
| SDAMS 1.4.0 | Yuntong Li | OK | OK | OK | |  |
| segmentSeq 2.18.0 | Thomas J. Hardcastle | OK | OK | OK | |  |
| SELEX 1.16.0 | Harmen Bussemaker | OK | OK | OK | |  |
| SemDist 1.18.0 | Ian Gonzalez | OK | OK | OK | |  |
| semisup 1.8.0 | Armin Rauschenberger | OK | OK | OK | |  |
| SEPA 1.14.0 | Zhicheng Ji | OK | ERROR | skipped | | |
| SEPIRA 1.4.1 | Yuting Chen | OK | OK | OK | |  |
| seq2pathway 1.16.0 | Xinan Yang with contribution from Zhezhen Wang | OK | OK | OK | |  |
| SeqArray 1.24.2 | Xiuwen Zheng | OK | OK | OK | |  |
| seqbias 1.32.0 | Daniel Jones | OK | OK | OK | |  |
| seqCAT 1.6.3 | Erik Fasterius | OK | OK | OK | |  |
| seqCNA 1.30.0 | David Mosen-Ansorena | OK | OK | OK | |  |
| seqcombo 1.6.0 | Guangchuang Yu | OK | OK | OK | |  |
| SeqGSEA 1.24.0 | Xi Wang | OK | OK | OK | |  |
| seqLogo 1.50.0 | Oliver Bembom | OK | OK | OK | |  |
| seqPattern 1.16.0 | Vanja Haberle | OK | OK | OK | |  |
seqplots 1.22.2 | Przemyslaw Stempor | OK | OK | OK | |  |
| seqsetvis 1.4.1 | Joseph R Boyd | OK | OK | OK | |  |
| SeqSQC 1.6.0 | Qian Liu | OK | OK | OK | |  |
| seqTools 1.18.0 | Wolfgang Kaisers | OK | OK | WARNINGS | |  |
| SeqVarTools 1.22.0 | Stephanie M. Gogarten | OK | OK | OK | |  |
| sesame 1.2.0 | Wanding Zhou | OK | OK | OK | |  |
| sevenbridges 1.14.1 | Nan Xiao | OK | OK | OK | |  |
| sevenC 1.4.0 | Jonas Ibn-Salem | OK | OK | OK | |  |
| SGSeq 1.18.0 | Leonard Goldstein | OK | OK | OK | |  |
| shinyMethyl 1.20.0 | Jean-Philippe Fortin | OK | OK | OK | |  |
| shinyTANDEM 1.22.0 | Frederic Fournier | OK | OK | OK | |  |
| ShortRead 1.42.0 | Bioconductor Package Maintainer | OK | OK | WARNINGS | |  |
| SIAMCAT 1.4.0 | Konrad Zych | OK | OK | OK | |  |
| SICtools 1.14.0 | Xiaobin Xing | OK | OK | WARNINGS | |  |
| sigaR 1.32.0 | Wessel N. van Wieringen | OK | OK | OK | |  |
| SigCheck 2.16.0 | Rory Stark | OK | OK | OK | |  |
| sigFeature 1.2.0 | Pijush Das Developer | OK | OK | OK | |  |
| SigFuge 1.22.0 | Patrick Kimes | OK | OK | OK | |  |
| siggenes 1.58.0 | Holger Schwender | OK | OK | OK | |  |
| sights 1.10.0 | Elika Garg | OK | OK | OK | |  |
| signeR 1.10.0 | Renan Valieris | OK | OK | OK | |  |
| signet 1.4.0 | Alexandre Gouy | OK | OK | OK | |  |
| sigPathway 1.52.0 | Weil Lai | OK | OK | OK | |  |
| sigsquared 1.16.0 | UnJin Lee | OK | OK | OK | |  |
| SIM 1.54.0 | Renee X. de Menezes | OK | OK | OK | |  |
| SIMAT 1.16.0 | M. R. Nezami Ranjbar | OK | OK | OK | |  |
| SimBindProfiles 1.22.0 | Bettina Fischer | OK | OK | OK | |  |
| SIMD 1.2.0 | Jiadi Zhu | OK | OK | OK | |  |
| similaRpeak 1.16.0 | Astrid Deschenes | OK | OK | OK | |  |
| SIMLR 1.10.0 | Luca De Sano | OK | OK | WARNINGS | |  |
| simpleaffy 2.60.0 | Crispin Miller | OK | OK | WARNINGS | |  |
| simulatorZ 1.18.0 | Yuqing Zhang | OK | OK | OK | |  |
| sincell 1.16.1 | Miguel Julia , Antonio Rausell | OK | OK | OK | |  |
| SingleCellExperiment 1.6.0 | Davide Risso | OK | OK | OK | |  |
| singleCellTK 1.4.2 | David Jenkins | OK | OK | OK | |  |
| singscore 1.4.0 | Dharmesh D. Bhuva | OK | OK | OK | |  |
| SISPA 1.14.0 | Bhakti Dwivedi | OK | OK | WARNINGS | |  |
| sitePath 1.0.3 | Chengyang Ji | OK | OK | OK | |  |
| sizepower 1.54.0 | Weiliang Qiu | OK | OK | OK | |  |
| skewr 1.16.0 | Ryan Putney | OK | OK | OK | |  |
| slalom 1.6.0 | Davis McCarthy | OK | OK | OK | |  |
| SLGI 1.44.0 | Nolwenn Le Meur | OK | OK | OK | |  |
| slingshot 1.2.0 | Kelly Street | OK | OK | OK | |  |
| slinky 1.2.2 | Eric J. Kort | OK | OK | OK | |  |
| SLqPCR 1.50.0 | Matthias Kohl | OK | OK | OK | |  |
| SMAD 1.0.1 | Qingzhou Zhang | OK | OK | OK | |  |
| SMAP 1.48.0 | Robin Andersson | OK | OK | OK | |  |
| SMITE 1.12.0 | Neil Ari Wijetunga | OK | OK | OK | |  |
| SNAGEE 1.24.0 | David Venet | OK | OK | OK | |  |
| snapCGH 1.54.0 | John Marioni | OK | OK | OK | |  |
| snm 1.32.0 | John D. Storey | OK | OK | OK | |  |
| SNPchip 2.30.0 | Robert Scharpf | OK | OK | OK | |  |
| SNPediaR 1.10.0 | David Montaner | OK | OK | OK | |  |
| SNPhood 1.14.0 | Christian Arnold | OK | OK | OK | |  |
| SNPRelate 1.18.1 | Xiuwen Zheng | OK | OK | OK | |  |
| snpStats 1.34.0 | David Clayton | OK | OK | OK | |  |
| soGGi 1.16.0 | Tom Carroll | OK | OK | OK | |  |
| SomaticSignatures 2.20.0 | Julian Gehring | OK | OK | OK | |  |
| SpacePAC 1.22.0 | Gregory Ryslik | OK | OK | OK | |  |
| sparseDOSSA 1.8.0 | Boyu Ren, Emma Schwager | OK | OK | OK | |  |
| sparsenetgls 1.2.0 | Irene Zeng | OK | OK | OK | |  |
| SparseSignatures 1.4.0 | Luca De Sano | OK | OK | OK | |  |
| SpatialCPie 1.0.0 | Joseph Bergenstraahle | OK | OK | OK | |  |
| specL 1.18.1 | Christian Panse | OK | OK | OK | |  |
| SpeCond 1.38.0 | Florence Cavalli | OK | OK | OK | |  |
| SpectralTAD 1.0.0 | Kellen Cresswell | OK | OK | OK | |  |
| SPEM 1.24.0 | Xinyi YANG | OK | OK | OK | |  |
| SPIA 2.36.0 | Adi Laurentiu Tarca | OK | OK | OK | |  |
| SpidermiR 1.14.0 | Claudia Cava | OK | OK | WARNINGS | |  |
| spikeLI 2.44.0 | Enrico Carlon | OK | OK | OK | |  |
| spkTools 1.40.0 | Matthew N McCall | OK | OK | OK | |  |
| splatter 1.8.0 | Luke Zappia | OK | OK | OK | |  |
| splicegear 1.56.0 | Laurent Gautier | OK | OK | OK | |  |
spliceSites 1.32.0 | Wolfgang Kaisers | ERROR | ERROR | skipped | | |
| SplicingGraphs 1.24.0 | H. Pagès | OK | OK | WARNINGS | |  |
| splineTimeR 1.12.0 | Herbert Braselmann | OK | OK | OK | |  |
| SPLINTER 1.10.0 | Diana Low | OK | OK | OK | |  |
| splots 1.50.0 | Wolfgang Huber | OK | OK | OK | |  |
| SPONGE 1.6.2 | Markus List | OK | OK | OK | |  |
| spotSegmentation 1.58.0 | Chris Fraley | OK | OK | WARNINGS | |  |
| SQUADD 1.34.0 | Martial Sankar | OK | OK | OK | |  |
| sRACIPE 1.0.0 | Vivek Kohar | OK | OK | OK | |  |
| SRAdb 1.46.0 | Jack Zhu | OK | OK | OK | |  |
| sRAP 1.24.0 | Charles Warden | OK | OK | WARNINGS | |  |
| SRGnet 1.10.0 | Isar Nassiri | OK | OK | OK | |  |
| srnadiff 1.4.0 | Matthias Zytnicki | OK | OK | OK | |  |
| sscore 1.56.0 | Richard Kennedy | OK | OK | OK | |  |
| sscu 2.14.0 | Yu Sun | OK | OK | WARNINGS | |  |
| sSeq 1.22.0 | Danni Yu | OK | OK | OK | |  |
| ssize 1.58.0 | Gregory R. Warnes | OK | OK | OK | |  |
| SSPA 2.24.0 | Maarten van Iterson | OK | OK | OK | |  |
| ssrch 1.0.0 | VJ Carey | OK | OK | OK | |  |
| ssviz 1.18.0 | Diana Low | OK | OK | OK | |  |
| stageR 1.6.0 | Koen Van den Berge | OK | OK | WARNINGS | |  |
| STAN 2.12.0 | Rafael Campos-Martin | OK | OK | OK | |  |
| staRank 1.26.0 | Juliane Siebourg | OK | OK | OK | |  |
| StarBioTrek 1.10.0 | Claudia Cava | OK | OK | WARNINGS | |  |
| Starr 1.40.0 | Benedikt Zacher | OK | OK | OK | |  |
| STATegRa 1.20.0 | David Gomez-Cabrero , Núria Planell | OK | OK | OK | |  |
| statTarget 1.14.0 | Hemi Luan | OK | OK | OK | |  |
| stepNorm 1.56.0 | Yuanyuan Xiao | OK | OK | OK | |  |
| strandCheckR 1.2.0 | Thu-Hien To | OK | OK | OK | |  |
| Streamer 1.30.0 | Martin Morgan | OK | OK | OK | |  |
| STRINGdb 1.24.0 | Damian Szklarczyk | OK | OK | OK | |  |
| STROMA4 1.8.0 | Sadiq Saleh | OK | OK | OK | |  |
| Structstrings 1.0.3 | Felix G.M. Ernst | OK | OK | OK | |  |
| StructuralVariantAnnotation 1.0.0 | Daniel Cameron | OK | OK | OK | |  |
| SubCellBarCode 1.0.0 | Taner Arslan | OK | OK | OK | |  |
| subSeq 1.14.0 | Andrew J. Bass , John D. Storey | OK | OK | OK | |  |
| SummarizedBenchmark 2.2.3 | Alejandro Reyes , Patrick Kimes | OK | OK | OK | |  |
| SummarizedExperiment 1.14.1 | Bioconductor Package Maintainer | OK | OK | OK | |  |
| supraHex 1.22.0 | Hai Fang | OK | OK | OK | |  |
| survcomp 1.34.0 | Benjamin Haibe-Kains , Markus Schroeder , Catharina Olsen | OK | OK | WARNINGS | |  |
| survtype 1.0.0 | Dongmin Jung | OK | OK | OK | |  |
| Sushi 1.22.0 | Douglas H Phanstiel | OK | OK | WARNINGS | |  |
| sva 3.32.1 | Jeffrey T. Leek , John D. Storey | OK | OK | OK | |  |
| SVAPLSseq 1.10.0 | Sutirtha Chakraborty | OK | OK | OK | |  |
SVM2CRM 1.16.0 | Guidantonio Malagoli Tagliazucchi | OK | OK | ERROR | | |
| SWATH2stats 1.14.0 | Peter Blattmann | OK | OK | OK | |  |
| SwathXtend 2.6.0 | Jemma Wu | OK | OK | WARNINGS | |  |
| swfdr 1.10.0 | Simina M. Boca , Jeffrey T. Leek | OK | OK | OK | |  |
| SwimR 1.22.0 | Randy Blakely | OK | OK | OK | |  |
| switchBox 1.20.0 | Bahman Afsari , Luigi Marchionni | OK | OK | WARNINGS | |  |
| switchde 1.10.0 | Kieran Campbell | OK | OK | OK | |  |
| synapter 2.8.0 | Laurent Gatto | OK | OK | OK | |  |
| synergyfinder 1.10.7 | Shuyu Zheng | OK | OK | OK | |  |
| synlet 1.14.0 | Chunxuan Shao | OK | OK | OK | |  |
| SynMut 1.0.1 | Haogao Gu | OK | OK | OK | |  |
| systemPipeR 1.18.2 | Thomas Girke | OK | OK | WARNINGS | |  |
|
| |
| TargetScore 1.22.0 | Yue Li | OK | OK | OK | |  |
| TargetSearch 1.40.3 | Alvaro Cuadros-Inostroza | OK | OK | OK | |  |
| TarSeqQC 1.14.0 | Gabriela Merino | OK | OK | OK | |  |
| TCC 1.24.0 | Jianqiang Sun | OK | OK | OK | |  |
| TCGAbiolinks 2.12.6 | Antonio Colaprico | OK | OK | OK | |  |
| TCGAbiolinksGUI 1.10.0 | Tiago C. Silva | OK | OK | OK | |  |
| TCGAutils 1.4.0 | Marcel Ramos | OK | OK | OK | |  |
| TCseq 1.8.0 | Mengjun Wu | OK | OK | OK | |  |
| TDARACNE 1.34.0 | Zoppoli Pietro | OK | OK | OK | |  |
| tenXplore 1.6.0 | VJ Carey | OK | OK | OK | |  |
| TEQC 4.6.0 | Manuela Hummel | OK | OK | OK | |  |
| ternarynet 1.28.0 | Matthew N. McCall | OK | OK | OK | |  |
| TFARM 1.6.0 | Liuba Nausicaa Martino | OK | OK | OK | |  |
| TFBSTools 1.22.0 | Ge Tan | OK | OK | OK | |  |
| TFEA.ChIP 1.4.2 | Laura Puente Santamaría | OK | OK | OK | |  |
| TFHAZ 1.6.0 | Alberto Marchesi | OK | OK | OK | |  |
| TFutils 1.4.0 | Shweta Gopaulakrishnan | OK | OK | WARNINGS | |  |
| tigre 1.38.0 | Antti Honkela | OK | OK | OK | |  |
| tilingArray 1.62.0 | Zhenyu Xu | OK | OK | OK | |  |
| timecourse 1.56.0 | Yu Chuan Tai | OK | OK | OK | |  |
| timescape 1.8.0 | Maia Smith | OK | OK | WARNINGS | |  |
| TimeSeriesExperiment 1.2.0 | Lan Huong Nguyen | OK | OK | OK | |  |
| TIN 1.16.0 | Bjarne Johannessen | OK | OK | OK | |  |
| TissueEnrich 1.4.1 | Ashish Jain | OK | OK | OK | |  |
| TitanCNA 1.22.0 | Gavin Ha | OK | OK | WARNINGS | |  |
| tkWidgets 1.62.0 | J. Zhang | OK | OK | OK | |  |
| TMixClust 1.6.0 | Monica Golumbeanu | OK | OK | OK | |  |
| TNBC.CMS 1.0.0 | Doyeong Yu | OK | OK | OK | |  |
| TnT 1.6.0 | Jialin Ma | OK | OK | OK | |  |
| tofsims 1.12.0 | Lorenz Gerber | OK | OK | OK | |  |
| ToPASeq 1.18.1 | Ivana Ihnatova | OK | OK | OK | |  |
| topconfects 1.0.0 | Paul Harrison | OK | OK | OK | |  |
| topdownr 1.6.0 | Sebastian Gibb | OK | OK | OK | |  |
| topGO 2.36.0 | Adrian Alexa | OK | OK | OK | |  |
| TPP 3.12.0 | Dorothee Childs | OK | OK | OK | |  |
| TPP2D 1.0.0 | Nils Kurzawa | OK | OK | OK | |  |
| tracktables 1.18.0 | Tom Carroll | OK | OK | WARNINGS | |  |
| trackViewer 1.20.5 | Jianhong Ou | OK | OK | OK | |  |
| transcriptogramer 1.6.0 | Diego Morais | OK | OK | OK | |  |
| transcriptR 1.12.0 | Armen R. Karapetyan | OK | OK | OK | |  |
| transite 1.2.1 | Konstantin Krismer | OK | OK | OK | |  |
| tRanslatome 1.22.0 | Toma Tebaldi , Erik Dassi | OK | OK | OK | |  |
| TransView 1.28.0 | Julius Muller | OK | OK | OK | |  |
| traseR 1.14.0 | li chen | OK | OK | OK | |  |
| treeio 1.8.2 | Guangchuang Yu | OK | OK | OK | |  |
| TreeSummarizedExperiment 1.0.3 | Ruizhu Huang | OK | OK | WARNINGS | |  |
| trena 1.6.1 | Paul Shannon | OK | OK | ERROR | | |
| Trendy 1.6.4 | Rhonda Bacher | OK | OK | OK | |  |
| triform 1.26.0 | Thomas Carroll | OK | OK | OK | |  |
| trigger 1.30.0 | John D. Storey | OK | OK | OK | |  |
| trio 3.22.0 | Holger Schwender | OK | OK | OK | |  |
| triplex 1.24.0 | Jiri Hon | OK | OK | OK | |  |
| tRNA 1.2.2 | Felix G.M. Ernst | OK | OK | OK | |  |
| tRNAdbImport 1.2.2 | Felix G.M. Ernst | OK | OK | OK | |  |
| tRNAscanImport 1.4.2 | Felix G.M. Ernst | OK | OK | OK | |  |
| TRONCO 2.16.2 | Luca De Sano | OK | OK | OK | |  |
| TSCAN 1.22.0 | Zhicheng Ji | OK | OK | OK | |  |
| tspair 1.42.0 | Jeffrey T. Leek | OK | OK | OK | |  |
| TSRchitect 1.10.12 | R. Taylor Raborn | OK | OK | WARNINGS | |  |
TSSi 1.30.0 | Julian Gehring | OK | ERROR | skipped | | |
| TTMap 1.6.0 | Rachel Jeitziner | OK | OK | OK | |  |
| TurboNorm 1.32.0 | Maarten van Iterson | OK | OK | OK | |  |
| TVTB 1.10.0 | Kevin Rue-Albrecht | OK | OK | OK | |  |
| tweeDEseq 1.30.0 | Juan R Gonzalez | OK | OK | OK | |  |
| twilight 1.60.0 | Stefanie Scheid | OK | OK | OK | |  |
| twoddpcr 1.8.0 | Anthony Chiu | OK | OK | OK | |  |
| tximeta 1.2.2 | Michael Love | OK | OK | OK | |  |
| tximport 1.12.3 | Michael Love | OK | OK | OK | |  |
| TxRegInfra 1.4.0 | VJ Carey | OK | OK | OK | |  |
| TypeInfo 1.50.0 | Duncan Temple Lang | OK | OK | OK | |  |
|
| |
| Ularcirc 1.2.21 | David Humphreys | OK | OK | OK | |  |
| UNDO 1.26.0 | Niya Wang | OK | OK | OK | |  |
| unifiedWMWqPCR 1.20.0 | Joris Meys | OK | OK | OK | |  |
| UniProt.ws 2.24.2 | Marc Carlson | OK | OK | OK | |  |
| Uniquorn 2.4.0 | 'Raik Otto' | OK | OK | OK | |  |
| universalmotif 1.2.1 | Benjamin Jean-Marie Tremblay | OK | OK | OK | |  |
| uSORT 1.10.0 | Hao Chen | OK | OK | WARNINGS | |  |
|
| |
| VanillaICE 1.46.0 | Robert Scharpf | OK | OK | OK | |  |
| variancePartition 1.14.1 | Gabriel E. Hoffman | OK | OK | OK | |  |
| VariantAnnotation 1.30.1 | Valerie Obenchain | OK | OK | OK | |  |
| VariantFiltering 1.20.0 | Robert Castelo | OK | OK | OK | |  |
| VariantTools 1.26.0 | Michael Lawrence | OK | OK | WARNINGS | |  |
| vbmp 1.52.0 | Nicola Lama | OK | OK | OK | |  |
| VCFArray 1.0.3 | Qian Liu | OK | OK | OK | |  |
| Vega 1.32.0 | Sandro Morganella | OK | OK | OK | |  |
| VegaMC 3.22.0 | Sandro Morganella | OK | OK | OK | |  |
| VennDetail 1.0.1 | Kai Guo | OK | OK | OK | |  |
| vidger 1.4.4 | Brandon Monier | OK | OK | OK | |  |
| viper 1.18.1 | Mariano J Alvarez | OK | OK | WARNINGS | |  |
| vsn 3.52.0 | Wolfgang Huber | OK | OK | OK | |  |
| vtpnet 0.24.0 | VJ Carey | OK | OK | OK | |  |
| vulcan 1.6.0 | Federico M. Giorgi | OK | OK | OK | |  |
|
| |
| wateRmelon 1.28.0 | Leo | OK | OK | WARNINGS | |  |
| wavClusteR 2.18.0 | Federico Comoglio | OK | OK | OK | |  |
| waveTiling 1.26.0 | Kristof De Beuf | OK | OK | OK | |  |
| weaver 1.50.0 | Seth Falcon | OK | OK | WARNINGS | |  |
| webbioc 1.56.0 | Colin A. Smith | OK | OK | OK | |  |
| widgetTools 1.62.0 | Jianhua Zhang | OK | OK | OK | |  |
| wiggleplotr 1.8.0 | Kaur Alasoo | OK | OK | OK | |  |
| Wrench 1.2.0 | Hector Corrada Bravo | OK | OK | OK | |  |
|
| |
| XBSeq 1.16.0 | Yuanhang Liu | OK | OK | OK | |  |
| xcms 3.6.2 | Steffen Neumann | OK | OK | OK | |  |
| XDE 2.30.0 | Robert Scharpf | OK | OK | OK | |  |
| Xeva 1.0.0 | Benjamin Haibe-Kains | OK | OK | OK | |  |
| XINA 1.2.0 | Lang Ho Lee and Sasha A. Singh | OK | OK | OK | |  |
| xmapbridge 1.42.0 | Chris Wirth | OK | OK | OK | |  |
| xps 1.44.0 | Christian Stratowa | OK | OK | OK | |  |
| XVector 0.24.0 | Hervé Pagès | OK | OK | WARNINGS | |  |
|
| |
| yamss 1.10.0 | Leslie Myint | OK | OK | OK | |  |
| YAPSA 1.10.0 | Daniel Huebschmann | OK | OK | OK | |  |
| yaqcaffy 1.44.0 | Laurent Gatto | OK | OK | OK | |  |
| yarn 1.10.0 | Joseph N Paulson | OK | OK | OK | |  |
|
| |
| zFPKM 1.6.0 | Ron Ammar | OK | OK | OK | |  |
| zinbwave 1.6.0 | Davide Risso | OK | OK | OK | |  |
| zlibbioc 1.30.0 | Bioconductor Package Maintainer | OK | OK | OK | |  |