| Back to Multiple platform build/check report for BioC 3.9 | 
 | 
This page was generated on 2019-10-16 11:56:32 -0400 (Wed, 16 Oct 2019).
| Package 130/1741 | Hostname | OS / Arch | INSTALL | BUILD | CHECK | BUILD BIN | ||||||
| bgx 1.50.0 Ernest Turro 
 | malbec2 | Linux (Ubuntu 18.04.2 LTS) / x86_64 | OK | [ OK ] | OK |  | ||||||
| tokay2 | Windows Server 2012 R2 Standard / x64 | OK | OK | OK | OK |  | ||||||
| celaya2 | OS X 10.11.6 El Capitan / x86_64 | OK | OK | OK | OK |  | 
| Package: bgx | 
| Version: 1.50.0 | 
| Command: /home/biocbuild/bbs-3.9-bioc/R/bin/R CMD build --keep-empty-dirs --no-resave-data bgx | 
| StartedAt: 2019-10-15 19:42:47 -0400 (Tue, 15 Oct 2019) | 
| EndedAt: 2019-10-15 19:44:00 -0400 (Tue, 15 Oct 2019) | 
| EllapsedTime: 73.2 seconds | 
| RetCode: 0 | 
| Status: OK | 
| PackageFile: bgx_1.50.0.tar.gz | 
| PackageFileSize: 1.233 MiB | 
############################################################################## ############################################################################## ### ### Running command: ### ### /home/biocbuild/bbs-3.9-bioc/R/bin/R CMD build --keep-empty-dirs --no-resave-data bgx ### ############################################################################## ############################################################################## * checking for file ‘bgx/DESCRIPTION’ ... OK * preparing ‘bgx’: * checking DESCRIPTION meta-information ... OK * cleaning src * installing the package to build vignettes * creating vignettes ... OK * cleaning src * checking for LF line-endings in source and make files and shell scripts * checking for empty or unneeded directories * building ‘bgx_1.50.0.tar.gz’