| Back to Multiple platform build/check report for BioC 3.9 | 
 | 
This page was generated on 2019-10-16 11:56:38 -0400 (Wed, 16 Oct 2019).
| Package 1704/1741 | Hostname | OS / Arch | INSTALL | BUILD | CHECK | BUILD BIN | ||||||
| VanillaICE 1.46.0 Robert Scharpf 
 | malbec2 | Linux (Ubuntu 18.04.2 LTS) / x86_64 | OK | [ OK ] | OK |  | ||||||
| tokay2 | Windows Server 2012 R2 Standard / x64 | OK | OK | OK | OK |  | ||||||
| celaya2 | OS X 10.11.6 El Capitan / x86_64 | OK | OK | OK | OK |  | 
| Package: VanillaICE | 
| Version: 1.46.0 | 
| Command: /home/biocbuild/bbs-3.9-bioc/R/bin/R CMD build --keep-empty-dirs --no-resave-data VanillaICE | 
| StartedAt: 2019-10-15 19:43:54 -0400 (Tue, 15 Oct 2019) | 
| EndedAt: 2019-10-15 19:45:10 -0400 (Tue, 15 Oct 2019) | 
| EllapsedTime: 75.8 seconds | 
| RetCode: 0 | 
| Status: OK | 
| PackageFile: VanillaICE_1.46.0.tar.gz | 
| PackageFileSize: 1.472 MiB | 
############################################################################## ############################################################################## ### ### Running command: ### ### /home/biocbuild/bbs-3.9-bioc/R/bin/R CMD build --keep-empty-dirs --no-resave-data VanillaICE ### ############################################################################## ############################################################################## * checking for file ‘VanillaICE/DESCRIPTION’ ... OK * preparing ‘VanillaICE’: * checking DESCRIPTION meta-information ... OK * cleaning src * installing the package to build vignettes * creating vignettes ... OK * cleaning src * checking for LF line-endings in source and make files and shell scripts * checking for empty or unneeded directories * looking to see if a ‘data/datalist’ file should be added * building ‘VanillaICE_1.46.0.tar.gz’