| Back to Multiple platform build/check report for BioC 3.9 | 
 | 
This page was generated on 2019-10-16 11:56:57 -0400 (Wed, 16 Oct 2019).
| Package 1014/1741 | Hostname | OS / Arch | INSTALL | BUILD | CHECK | BUILD BIN | ||||||
| miRNApath 1.44.0 James M. Ward 
 | malbec2 | Linux (Ubuntu 18.04.2 LTS) / x86_64 | OK | [ OK ] | OK |  | ||||||
| tokay2 | Windows Server 2012 R2 Standard / x64 | OK | OK | OK | OK |  | ||||||
| celaya2 | OS X 10.11.6 El Capitan / x86_64 | OK | OK | OK | OK |  | 
| Package: miRNApath | 
| Version: 1.44.0 | 
| Command: /home/biocbuild/bbs-3.9-bioc/R/bin/R CMD build --keep-empty-dirs --no-resave-data miRNApath | 
| StartedAt: 2019-10-15 19:48:01 -0400 (Tue, 15 Oct 2019) | 
| EndedAt: 2019-10-15 19:48:18 -0400 (Tue, 15 Oct 2019) | 
| EllapsedTime: 17.1 seconds | 
| RetCode: 0 | 
| Status: OK | 
| PackageFile: miRNApath_1.44.0.tar.gz | 
| PackageFileSize: 601.1 KiB | 
############################################################################## ############################################################################## ### ### Running command: ### ### /home/biocbuild/bbs-3.9-bioc/R/bin/R CMD build --keep-empty-dirs --no-resave-data miRNApath ### ############################################################################## ############################################################################## * checking for file ‘miRNApath/DESCRIPTION’ ... OK * preparing ‘miRNApath’: * checking DESCRIPTION meta-information ... OK * installing the package to build vignettes * creating vignettes ... OK * checking for LF line-endings in source and make files and shell scripts * checking for empty or unneeded directories * looking to see if a ‘data/datalist’ file should be added * building ‘miRNApath_1.44.0.tar.gz’