| Back to Multiple platform build/check report for BioC 3.9 |
|
This page was generated on 2019-10-16 12:04:59 -0400 (Wed, 16 Oct 2019).
| Package 957/1741 | Hostname | OS / Arch | INSTALL | BUILD | CHECK | BUILD BIN | ||||||
| metabomxtr 1.18.0 Michael Nodzenski
| malbec2 | Linux (Ubuntu 18.04.2 LTS) / x86_64 | OK | OK | [ OK ] | |||||||
| tokay2 | Windows Server 2012 R2 Standard / x64 | OK | OK | OK | OK | |||||||
| celaya2 | OS X 10.11.6 El Capitan / x86_64 | OK | OK | OK | OK |
| Package: metabomxtr |
| Version: 1.18.0 |
| Command: /home/biocbuild/bbs-3.9-bioc/R/bin/R CMD check --install=check:metabomxtr.install-out.txt --library=/home/biocbuild/bbs-3.9-bioc/R/library --no-vignettes --timings metabomxtr_1.18.0.tar.gz |
| StartedAt: 2019-10-16 02:59:46 -0400 (Wed, 16 Oct 2019) |
| EndedAt: 2019-10-16 03:01:10 -0400 (Wed, 16 Oct 2019) |
| EllapsedTime: 83.7 seconds |
| RetCode: 0 |
| Status: OK |
| CheckDir: metabomxtr.Rcheck |
| Warnings: 0 |
##############################################################################
##############################################################################
###
### Running command:
###
### /home/biocbuild/bbs-3.9-bioc/R/bin/R CMD check --install=check:metabomxtr.install-out.txt --library=/home/biocbuild/bbs-3.9-bioc/R/library --no-vignettes --timings metabomxtr_1.18.0.tar.gz
###
##############################################################################
##############################################################################
* using log directory ‘/home/biocbuild/bbs-3.9-bioc/meat/metabomxtr.Rcheck’
* using R version 3.6.1 (2019-07-05)
* using platform: x86_64-pc-linux-gnu (64-bit)
* using session charset: UTF-8
* using option ‘--no-vignettes’
* checking for file ‘metabomxtr/DESCRIPTION’ ... OK
* checking extension type ... Package
* this is package ‘metabomxtr’ version ‘1.18.0’
* checking package namespace information ... OK
* checking package dependencies ... OK
* checking if this is a source package ... OK
* checking if there is a namespace ... OK
* checking for hidden files and directories ... OK
* checking for portable file names ... OK
* checking for sufficient/correct file permissions ... OK
* checking whether package ‘metabomxtr’ can be installed ... OK
* checking installed package size ... OK
* checking package directory ... OK
* checking ‘build’ directory ... OK
* checking DESCRIPTION meta-information ... OK
* checking top-level files ... OK
* checking for left-over files ... OK
* checking index information ... OK
* checking package subdirectories ... OK
* checking R files for non-ASCII characters ... OK
* checking R files for syntax errors ... OK
* checking whether the package can be loaded ... OK
* checking whether the package can be loaded with stated dependencies ... OK
* checking whether the package can be unloaded cleanly ... OK
* checking whether the namespace can be loaded with stated dependencies ... OK
* checking whether the namespace can be unloaded cleanly ... OK
* checking dependencies in R code ... OK
* checking S3 generic/method consistency ... OK
* checking replacement functions ... OK
* checking foreign function calls ... OK
* checking R code for possible problems ... OK
* checking Rd files ... OK
* checking Rd metadata ... OK
* checking Rd cross-references ... OK
* checking for missing documentation entries ... OK
* checking for code/documentation mismatches ... OK
* checking Rd \usage sections ... OK
* checking Rd contents ... OK
* checking for unstated dependencies in examples ... OK
* checking contents of ‘data’ directory ... OK
* checking data for non-ASCII characters ... OK
* checking data for ASCII and uncompressed saves ... OK
* checking files in ‘vignettes’ ... OK
* checking examples ... OK
Examples with CPU or elapsed time > 5s
user system elapsed
metabomxtr-package 4.302 1.485 3.331
mxtrmodLRT 4.225 1.308 1.856
* checking for unstated dependencies in vignettes ... OK
* checking package vignettes in ‘inst/doc’ ... OK
* checking running R code from vignettes ... SKIPPED
* checking re-building of vignette outputs ... SKIPPED
* checking PDF version of manual ... OK
* DONE
Status: OK
metabomxtr.Rcheck/00install.out
############################################################################## ############################################################################## ### ### Running command: ### ### /home/biocbuild/bbs-3.9-bioc/R/bin/R CMD INSTALL metabomxtr ### ############################################################################## ############################################################################## * installing to library ‘/home/biocbuild/bbs-3.9-bioc/R/library’ * installing *source* package ‘metabomxtr’ ... ** using staged installation ** R ** data ** byte-compile and prepare package for lazy loading ** help *** installing help indices ** building package indices ** installing vignettes ** testing if installed package can be loaded from temporary location ** testing if installed package can be loaded from final location ** testing if installed package keeps a record of temporary installation path * DONE (metabomxtr)
metabomxtr.Rcheck/metabomxtr-Ex.timings
| name | user | system | elapsed | |
| addBatchMeans | 0.038 | 0.000 | 0.038 | |
| addOutlierInfo | 0.002 | 0.000 | 0.002 | |
| allMissingLevels | 0.005 | 0.000 | 0.005 | |
| anyMissingLevels | 0.003 | 0.000 | 0.002 | |
| idMissingLevels | 0.004 | 0.000 | 0.004 | |
| metabomxtr-package | 4.302 | 1.485 | 3.331 | |
| metabplot | 2.610 | 0.784 | 2.043 | |
| mixnorm | 1.901 | 0.717 | 1.108 | |
| mxtrmod | 2.770 | 1.021 | 3.467 | |
| mxtrmodLL | 0.005 | 0.000 | 0.005 | |
| mxtrmodLRT | 4.225 | 1.308 | 1.856 | |
| mxtrmodstart | 0.003 | 0.000 | 0.004 | |
| removeAllMissingCatVar | 0.004 | 0.000 | 0.004 | |
| removeMissingLevels | 0.000 | 0.004 | 0.004 | |
| runMxtrmod | 1.729 | 0.450 | 1.101 | |