| Back to Multiple platform build/check report for BioC 3.9 |
|
This page was generated on 2019-10-16 12:10:14 -0400 (Wed, 16 Oct 2019).
| Package 1634/1741 | Hostname | OS / Arch | INSTALL | BUILD | CHECK | BUILD BIN | ||||||
| TCseq 1.8.0 Mengjun Wu
| malbec2 | Linux (Ubuntu 18.04.2 LTS) / x86_64 | OK | OK | [ OK ] | |||||||
| tokay2 | Windows Server 2012 R2 Standard / x64 | OK | OK | OK | OK | |||||||
| celaya2 | OS X 10.11.6 El Capitan / x86_64 | OK | OK | OK | OK |
| Package: TCseq |
| Version: 1.8.0 |
| Command: /home/biocbuild/bbs-3.9-bioc/R/bin/R CMD check --install=check:TCseq.install-out.txt --library=/home/biocbuild/bbs-3.9-bioc/R/library --no-vignettes --timings TCseq_1.8.0.tar.gz |
| StartedAt: 2019-10-16 05:23:27 -0400 (Wed, 16 Oct 2019) |
| EndedAt: 2019-10-16 05:26:44 -0400 (Wed, 16 Oct 2019) |
| EllapsedTime: 197.1 seconds |
| RetCode: 0 |
| Status: OK |
| CheckDir: TCseq.Rcheck |
| Warnings: 0 |
##############################################################################
##############################################################################
###
### Running command:
###
### /home/biocbuild/bbs-3.9-bioc/R/bin/R CMD check --install=check:TCseq.install-out.txt --library=/home/biocbuild/bbs-3.9-bioc/R/library --no-vignettes --timings TCseq_1.8.0.tar.gz
###
##############################################################################
##############################################################################
* using log directory ‘/home/biocbuild/bbs-3.9-bioc/meat/TCseq.Rcheck’
* using R version 3.6.1 (2019-07-05)
* using platform: x86_64-pc-linux-gnu (64-bit)
* using session charset: UTF-8
* using option ‘--no-vignettes’
* checking for file ‘TCseq/DESCRIPTION’ ... OK
* checking extension type ... Package
* this is package ‘TCseq’ version ‘1.8.0’
* checking package namespace information ... OK
* checking package dependencies ... OK
* checking if this is a source package ... OK
* checking if there is a namespace ... OK
* checking for hidden files and directories ... OK
* checking for portable file names ... OK
* checking for sufficient/correct file permissions ... OK
* checking whether package ‘TCseq’ can be installed ... OK
* checking installed package size ... OK
* checking package directory ... OK
* checking ‘build’ directory ... OK
* checking DESCRIPTION meta-information ... OK
* checking top-level files ... OK
* checking for left-over files ... OK
* checking index information ... OK
* checking package subdirectories ... OK
* checking R files for non-ASCII characters ... OK
* checking R files for syntax errors ... OK
* checking whether the package can be loaded ... OK
* checking whether the package can be loaded with stated dependencies ... OK
* checking whether the package can be unloaded cleanly ... OK
* checking whether the namespace can be loaded with stated dependencies ... OK
* checking whether the namespace can be unloaded cleanly ... OK
* checking dependencies in R code ... OK
* checking S3 generic/method consistency ... OK
* checking replacement functions ... OK
* checking foreign function calls ... OK
* checking R code for possible problems ... NOTE
DBresult: no visible global function definition for ‘as’
DBresult.cluster: no visible global function definition for ‘as’
TCA: no visible global function definition for ‘is’
TCA: no visible global function definition for ‘as’
TCAFromSummarizedExperiment: no visible global function definition for
‘is’
TCAFromSummarizedExperiment: no visible global function definition for
‘as’
countReads: no visible global function definition for
‘createAnnotationFile’
countReads: no visible global function definition for ‘featureCounts’
timeclustplot: no visible binding for global variable ‘group’
timecourseTable: no visible global function definition for ‘as’
Undefined global functions or variables:
as createAnnotationFile featureCounts group is
Consider adding
importFrom("methods", "as", "is")
to your NAMESPACE file (and ensure that your DESCRIPTION Imports field
contains 'methods').
* checking Rd files ... OK
* checking Rd metadata ... OK
* checking Rd cross-references ... OK
* checking for missing documentation entries ... OK
* checking for code/documentation mismatches ... OK
* checking Rd \usage sections ... OK
* checking Rd contents ... OK
* checking for unstated dependencies in examples ... OK
* checking contents of ‘data’ directory ... OK
* checking data for non-ASCII characters ... OK
* checking data for ASCII and uncompressed saves ... OK
* checking files in ‘vignettes’ ... OK
* checking examples ... OK
* checking for unstated dependencies in ‘tests’ ... OK
* checking tests ...
Running ‘testthat.R’
OK
* checking for unstated dependencies in vignettes ... OK
* checking package vignettes in ‘inst/doc’ ... OK
* checking running R code from vignettes ... SKIPPED
* checking re-building of vignette outputs ... SKIPPED
* checking PDF version of manual ... OK
* DONE
Status: 1 NOTE
See
‘/home/biocbuild/bbs-3.9-bioc/meat/TCseq.Rcheck/00check.log’
for details.
TCseq.Rcheck/00install.out
############################################################################## ############################################################################## ### ### Running command: ### ### /home/biocbuild/bbs-3.9-bioc/R/bin/R CMD INSTALL TCseq ### ############################################################################## ############################################################################## * installing to library ‘/home/biocbuild/bbs-3.9-bioc/R/library’ * installing *source* package ‘TCseq’ ... ** using staged installation ** R ** data *** moving datasets to lazyload DB ** byte-compile and prepare package for lazy loading ** help *** installing help indices ** building package indices ** installing vignettes ** testing if installed package can be loaded from temporary location ** testing if installed package can be loaded from final location ** testing if installed package keeps a record of temporary installation path * DONE (TCseq)
TCseq.Rcheck/tests/testthat.Rout
R version 3.6.1 (2019-07-05) -- "Action of the Toes"
Copyright (C) 2019 The R Foundation for Statistical Computing
Platform: x86_64-pc-linux-gnu (64-bit)
R is free software and comes with ABSOLUTELY NO WARRANTY.
You are welcome to redistribute it under certain conditions.
Type 'license()' or 'licence()' for distribution details.
R is a collaborative project with many contributors.
Type 'contributors()' for more information and
'citation()' on how to cite R or R packages in publications.
Type 'demo()' for some demos, 'help()' for on-line help, or
'help.start()' for an HTML browser interface to help.
Type 'q()' to quit R.
> library(testthat)
> library(TCseq)
>
> test_check("TCseq")
══ testthat results ═══════════════════════════════════════════════════════════
[ OK: 8 | SKIPPED: 0 | WARNINGS: 0 | FAILED: 0 ]
>
> proc.time()
user system elapsed
7.315 0.348 7.645
TCseq.Rcheck/TCseq-Ex.timings
| name | user | system | elapsed | |
| DBanalysis | 1.990 | 0.012 | 2.002 | |
| DBresult | 2.600 | 0.008 | 2.608 | |
| TCA | 0.006 | 0.000 | 0.006 | |
| TCA.accessors | 0.042 | 0.020 | 0.062 | |
| counts | 0.058 | 0.000 | 0.058 | |
| countsTable | 0.001 | 0.000 | 0.001 | |
| experiment | 0.001 | 0.000 | 0.001 | |
| experiment_BAMfile | 0 | 0 | 0 | |
| genomicIntervals | 0 | 0 | 0 | |
| peakreference | 0.008 | 0.000 | 0.008 | |
| tca_ATAC | 0.001 | 0.000 | 0.001 | |
| timeclust | 0.010 | 0.004 | 0.014 | |
| timeclustplot | 1.426 | 0.028 | 1.454 | |
| timecourseTable | 1.124 | 0.000 | 1.136 | |