| Back to Multiple platform build/check report for BioC 3.9 | 
 | 
This page was generated on 2019-10-16 12:04:48 -0400 (Wed, 16 Oct 2019).
| Package 458/1741 | Hostname | OS / Arch | INSTALL | BUILD | CHECK | BUILD BIN | ||||||
| Daniel Gatti 
 | malbec2 | Linux (Ubuntu 18.04.2 LTS) / x86_64 | OK | [ OK ] | ERROR | |||||||
| tokay2 | Windows Server 2012 R2 Standard / x64 | OK | OK | ERROR | OK | |||||||
| celaya2 | OS X 10.11.6 El Capitan / x86_64 | OK | OK | ERROR | OK | 
| Package: DOQTL | 
| Version: 1.20.0 | 
| Command: /home/biocbuild/bbs-3.9-bioc/R/bin/R CMD build --keep-empty-dirs --no-resave-data DOQTL | 
| StartedAt: 2019-10-15 20:58:03 -0400 (Tue, 15 Oct 2019) | 
| EndedAt: 2019-10-15 21:04:08 -0400 (Tue, 15 Oct 2019) | 
| EllapsedTime: 364.3 seconds | 
| RetCode: 0 | 
| Status: OK | 
| PackageFile: DOQTL_1.20.0.tar.gz | 
| PackageFileSize: 2.589 MiB | 
############################################################################## ############################################################################## ### ### Running command: ### ### /home/biocbuild/bbs-3.9-bioc/R/bin/R CMD build --keep-empty-dirs --no-resave-data DOQTL ### ############################################################################## ############################################################################## * checking for file ‘DOQTL/DESCRIPTION’ ... OK * preparing ‘DOQTL’: * checking DESCRIPTION meta-information ... OK * cleaning src * installing the package to build vignettes * creating vignettes ... OK * cleaning src * checking for LF line-endings in source and make files and shell scripts * checking for empty or unneeded directories * looking to see if a ‘data/datalist’ file should be added * building ‘DOQTL_1.20.0.tar.gz’