| Back to Multiple platform build/check report for BioC 3.9 |
|
This page was generated on 2019-10-16 12:01:14 -0400 (Wed, 16 Oct 2019).
| Package 576/1741 | Hostname | OS / Arch | INSTALL | BUILD | CHECK | BUILD BIN | ||||||
Josef Spidlen
| malbec2 | Linux (Ubuntu 18.04.2 LTS) / x86_64 | ERROR | [ ERROR ] | skipped | |||||||
| tokay2 | Windows Server 2012 R2 Standard / x64 | ERROR | ERROR | skipped | skipped | |||||||
| celaya2 | OS X 10.11.6 El Capitan / x86_64 | ERROR | ERROR | skipped | skipped |
| Package: flowQB |
| Version: 2.12.0 |
| Command: /home/biocbuild/bbs-3.9-bioc/R/bin/R CMD build --keep-empty-dirs --no-resave-data flowQB |
| StartedAt: 2019-10-15 20:23:58 -0400 (Tue, 15 Oct 2019) |
| EndedAt: 2019-10-15 20:23:59 -0400 (Tue, 15 Oct 2019) |
| EllapsedTime: 1.0 seconds |
| RetCode: 1 |
| Status: ERROR |
| PackageFile: None |
| PackageFileSize: NA |
##############################################################################
##############################################################################
###
### Running command:
###
### /home/biocbuild/bbs-3.9-bioc/R/bin/R CMD build --keep-empty-dirs --no-resave-data flowQB
###
##############################################################################
##############################################################################
* checking for file ‘flowQB/DESCRIPTION’ ... OK
* preparing ‘flowQB’:
* checking DESCRIPTION meta-information ... OK
* installing the package to build vignettes
-----------------------------------
* installing *source* package ‘flowQB’ ...
** using staged installation
** R
Error in .install_package_code_files(".", instdir) :
files in '/tmp/RtmpwgtMom/Rbuild708d1b4417c6/flowQB/R' missing from 'Collate' field:
zzz.R
ERROR: unable to collate and parse R files for package ‘flowQB’
* removing ‘/tmp/RtmpwgtMom/Rinst708d3bb77628/flowQB’
-----------------------------------
ERROR: package installation failed