| Back to Multiple platform build/check report for BioC 3.9 | 
  | 
This page was generated on 2019-10-16 12:14:56 -0400 (Wed, 16 Oct 2019).
| Package 204/1741 | Hostname | OS / Arch | INSTALL | BUILD | CHECK | BUILD BIN | ||||||
| CAMTHC 1.2.0 Lulu Chen 
  | malbec2 | Linux (Ubuntu 18.04.2 LTS) / x86_64 | OK | OK | [ OK ] | |||||||
| tokay2 | Windows Server 2012 R2 Standard / x64 | OK | OK | OK | OK | |||||||
| celaya2 | OS X 10.11.6 El Capitan / x86_64 | OK | OK | OK | OK | 
| Package: CAMTHC | 
| Version: 1.2.0 | 
| Command: /home/biocbuild/bbs-3.9-bioc/R/bin/R CMD check --install=check:CAMTHC.install-out.txt --library=/home/biocbuild/bbs-3.9-bioc/R/library --no-vignettes --timings CAMTHC_1.2.0.tar.gz | 
| StartedAt: 2019-10-16 00:15:31 -0400 (Wed, 16 Oct 2019) | 
| EndedAt: 2019-10-16 00:18:56 -0400 (Wed, 16 Oct 2019) | 
| EllapsedTime: 204.8 seconds | 
| RetCode: 0 | 
| Status: OK | 
| CheckDir: CAMTHC.Rcheck | 
| Warnings: 0 | 
##############################################################################
##############################################################################
###
### Running command:
###
###   /home/biocbuild/bbs-3.9-bioc/R/bin/R CMD check --install=check:CAMTHC.install-out.txt --library=/home/biocbuild/bbs-3.9-bioc/R/library --no-vignettes --timings CAMTHC_1.2.0.tar.gz
###
##############################################################################
##############################################################################
* using log directory ‘/home/biocbuild/bbs-3.9-bioc/meat/CAMTHC.Rcheck’
* using R version 3.6.1 (2019-07-05)
* using platform: x86_64-pc-linux-gnu (64-bit)
* using session charset: UTF-8
* using option ‘--no-vignettes’
* checking for file ‘CAMTHC/DESCRIPTION’ ... OK
* checking extension type ... Package
* this is package ‘CAMTHC’ version ‘1.2.0’
* package encoding: UTF-8
* checking package namespace information ... OK
* checking package dependencies ... OK
* checking if this is a source package ... OK
* checking if there is a namespace ... OK
* checking for hidden files and directories ... OK
* checking for portable file names ... OK
* checking for sufficient/correct file permissions ... OK
* checking whether package ‘CAMTHC’ can be installed ... OK
* checking installed package size ... OK
* checking package directory ... OK
* checking ‘build’ directory ... OK
* checking DESCRIPTION meta-information ... OK
* checking top-level files ... OK
* checking for left-over files ... OK
* checking index information ... OK
* checking package subdirectories ... OK
* checking R files for non-ASCII characters ... OK
* checking R files for syntax errors ... OK
* checking whether the package can be loaded ... OK
* checking whether the package can be loaded with stated dependencies ... OK
* checking whether the package can be unloaded cleanly ... OK
* checking whether the namespace can be loaded with stated dependencies ... OK
* checking whether the namespace can be unloaded cleanly ... OK
* checking dependencies in R code ... OK
* checking S3 generic/method consistency ... OK
* checking replacement functions ... OK
* checking foreign function calls ... OK
* checking R code for possible problems ... OK
* checking Rd files ... OK
* checking Rd metadata ... OK
* checking Rd cross-references ... OK
* checking for missing documentation entries ... OK
* checking for code/documentation mismatches ... OK
* checking Rd \usage sections ... OK
* checking Rd contents ... OK
* checking for unstated dependencies in examples ... OK
* checking contents of ‘data’ directory ... OK
* checking data for non-ASCII characters ... OK
* checking data for ASCII and uncompressed saves ... OK
* checking files in ‘vignettes’ ... OK
* checking examples ... OK
Examples with CPU or elapsed time > 5s
               user system elapsed
MGsforA      24.110  0.024  24.362
PCAmat       13.866  0.020  13.921
CAMMGCluster 13.789  0.020  13.803
reselectMG   13.344  0.028  13.365
CAMASest     11.867  0.017  11.886
CAMPrep      11.632  0.012  11.635
CAM          11.538  0.040  11.581
redoASest    11.401  0.040  11.434
AS-accessor  11.060  0.115  11.225
* checking for unstated dependencies in ‘tests’ ... OK
* checking tests ...
  Running ‘testthat.R’
 OK
* checking for unstated dependencies in vignettes ... OK
* checking package vignettes in ‘inst/doc’ ... OK
* checking running R code from vignettes ... SKIPPED
* checking re-building of vignette outputs ... SKIPPED
* checking PDF version of manual ... OK
* DONE
Status: OK
CAMTHC.Rcheck/00install.out
############################################################################## ############################################################################## ### ### Running command: ### ### /home/biocbuild/bbs-3.9-bioc/R/bin/R CMD INSTALL CAMTHC ### ############################################################################## ############################################################################## * installing to library ‘/home/biocbuild/bbs-3.9-bioc/R/library’ * installing *source* package ‘CAMTHC’ ... ** using staged installation ** R ** data ** inst ** byte-compile and prepare package for lazy loading ** help *** installing help indices ** building package indices ** installing vignettes ** testing if installed package can be loaded from temporary location ** testing if installed package can be loaded from final location ** testing if installed package keeps a record of temporary installation path * DONE (CAMTHC)
CAMTHC.Rcheck/tests/testthat.Rout
R version 3.6.1 (2019-07-05) -- "Action of the Toes"
Copyright (C) 2019 The R Foundation for Statistical Computing
Platform: x86_64-pc-linux-gnu (64-bit)
R is free software and comes with ABSOLUTELY NO WARRANTY.
You are welcome to redistribute it under certain conditions.
Type 'license()' or 'licence()' for distribution details.
R is a collaborative project with many contributors.
Type 'contributors()' for more information and
'citation()' on how to cite R or R packages in publications.
Type 'demo()' for some demos, 'help()' for on-line help, or
'help.start()' for an HTML browser interface to help.
Type 'q()' to quit R.
> library(testthat)
> library(CAMTHC)
> 
> test_check("CAMTHC")
══ testthat results  ═══════════════════════════════════════════════════════════
[ OK: 5 | SKIPPED: 0 | WARNINGS: 0 | FAILED: 0 ]
> 
> proc.time()
   user  system elapsed 
  3.027   0.237   3.186 
CAMTHC.Rcheck/CAMTHC-Ex.timings
| name | user | system | elapsed | |
| AS-accessor | 11.060 | 0.115 | 11.225 | |
| AfromMarkers | 0.565 | 0.028 | 0.593 | |
| CAM | 11.538 | 0.040 | 11.581 | |
| CAMASest | 11.867 | 0.017 | 11.886 | |
| CAMMGCluster | 13.789 | 0.020 | 13.803 | |
| CAMPrep | 11.632 | 0.012 | 11.635 | |
| MDL | 0 | 0 | 0 | |
| MGsforA | 24.110 | 0.024 | 24.362 | |
| MGstatistic | 0.586 | 0.027 | 0.618 | |
| PCAmat | 13.866 | 0.020 | 13.921 | |
| XWProj | 4.935 | 0.036 | 4.967 | |
| cornerSort | 0.082 | 0.000 | 0.110 | |
| redoASest | 11.401 | 0.040 | 11.434 | |
| reselectMG | 13.344 | 0.028 | 13.365 | |
| sffsHull | 0.051 | 0.000 | 0.051 | |
| simplexplot | 0.837 | 0.024 | 0.860 | |