| Back to Multiple platform build/check report for BioC 3.9 |
|
This page was generated on 2019-10-16 11:57:11 -0400 (Wed, 16 Oct 2019).
| Package 697/1741 | Hostname | OS / Arch | INSTALL | BUILD | CHECK | BUILD BIN | ||||||
| GOSemSim 2.10.0 Guangchuang Yu
| malbec2 | Linux (Ubuntu 18.04.2 LTS) / x86_64 | [ OK ] | OK | OK | |||||||
| tokay2 | Windows Server 2012 R2 Standard / x64 | OK | OK | OK | OK | |||||||
| celaya2 | OS X 10.11.6 El Capitan / x86_64 | OK | OK | OK | OK |
| Package: GOSemSim |
| Version: 2.10.0 |
| Command: /home/biocbuild/bbs-3.9-bioc/R/bin/R CMD INSTALL GOSemSim |
| StartedAt: 2019-10-15 18:19:30 -0400 (Tue, 15 Oct 2019) |
| EndedAt: 2019-10-15 18:19:51 -0400 (Tue, 15 Oct 2019) |
| EllapsedTime: 20.4 seconds |
| RetCode: 0 |
| Status: OK |
##############################################################################
##############################################################################
###
### Running command:
###
### /home/biocbuild/bbs-3.9-bioc/R/bin/R CMD INSTALL GOSemSim
###
##############################################################################
##############################################################################
* installing to library ‘/home/biocbuild/bbs-3.9-bioc/R/library’
* installing *source* package ‘GOSemSim’ ...
** using staged installation
** libs
g++ -std=gnu++11 -I"/home/biocbuild/bbs-3.9-bioc/R/include" -DNDEBUG -I"/home/biocbuild/bbs-3.9-bioc/R/library/Rcpp/include" -I/usr/local/include -fpic -g -O2 -Wall -c ICmethod.cpp -o ICmethod.o
ICmethod.cpp: In function ‘Rcpp::NumericMatrix infoContentMethod_cpp(Rcpp::StringVector&, Rcpp::StringVector&, Rcpp::List&, Rcpp::NumericVector&, const string&, const string&)’:
ICmethod.cpp:82:29: warning: comparison between signed and unsigned integer expressions [-Wsign-compare]
for (std::size_t i=0; i < ic_.size(); i++ ) {
~~^~~~~~~~~~~~
ICmethod.cpp:88:29: warning: comparison between signed and unsigned integer expressions [-Wsign-compare]
for (std::size_t i=0; i < ic_.size(); i++ ) {
~~^~~~~~~~~~~~
ICmethod.cpp:107:29: warning: comparison between signed and unsigned integer expressions [-Wsign-compare]
for (std::size_t i=0; i < anc_.size(); i++ ) {
~~^~~~~~~~~~~~~
ICmethod.cpp:118:30: warning: comparison between signed and unsigned integer expressions [-Wsign-compare]
for ( std::size_t i = 0; i < id1_.size(); i++ ) {
~~^~~~~~~~~~~~~
ICmethod.cpp:125:34: warning: comparison between signed and unsigned integer expressions [-Wsign-compare]
for ( std::size_t j = 0; j < id2_.size(); j++ ) {
~~^~~~~~~~~~~~~
ICmethod.cpp:152:34: warning: comparison between signed and unsigned integer expressions [-Wsign-compare]
for ( std::size_t j = 0; j < id2_.size(); j++ ) {
~~^~~~~~~~~~~~~
g++ -std=gnu++11 -I"/home/biocbuild/bbs-3.9-bioc/R/include" -DNDEBUG -I"/home/biocbuild/bbs-3.9-bioc/R/library/Rcpp/include" -I/usr/local/include -fpic -g -O2 -Wall -c RcppExports.cpp -o RcppExports.o
g++ -std=gnu++11 -shared -L/home/biocbuild/bbs-3.9-bioc/R/lib -L/usr/local/lib -o GOSemSim.so ICmethod.o RcppExports.o -L/home/biocbuild/bbs-3.9-bioc/R/lib -lR
installing to /home/biocbuild/bbs-3.9-bioc/R/library/00LOCK-GOSemSim/00new/GOSemSim/libs
** R
** data
** inst
** byte-compile and prepare package for lazy loading
** help
*** installing help indices
** building package indices
** installing vignettes
** testing if installed package can be loaded from temporary location
** checking absolute paths in shared objects and dynamic libraries
** testing if installed package can be loaded from final location
** testing if installed package keeps a record of temporary installation path
* DONE (GOSemSim)