| Back to Multiple platform build/check report for BioC 3.9 |
|
This page was generated on 2019-10-16 11:57:37 -0400 (Wed, 16 Oct 2019).
| Package 1219/1741 | Hostname | OS / Arch | INSTALL | BUILD | CHECK | BUILD BIN | ||||||
| plateCore 1.42.0 Errol Strain
| malbec2 | Linux (Ubuntu 18.04.2 LTS) / x86_64 | ERROR | [ ERROR ] | skipped | |||||||
| tokay2 | Windows Server 2012 R2 Standard / x64 | ERROR | ERROR | skipped | skipped | |||||||
| celaya2 | OS X 10.11.6 El Capitan / x86_64 | ERROR | ERROR | skipped | skipped |
| Package: plateCore |
| Version: 1.42.0 |
| Command: /home/biocbuild/bbs-3.9-bioc/R/bin/R CMD build --keep-empty-dirs --no-resave-data plateCore |
| StartedAt: 2019-10-15 19:52:50 -0400 (Tue, 15 Oct 2019) |
| EndedAt: 2019-10-15 19:52:55 -0400 (Tue, 15 Oct 2019) |
| EllapsedTime: 5.0 seconds |
| RetCode: 1 |
| Status: ERROR |
| PackageFile: None |
| PackageFileSize: NA |
##############################################################################
##############################################################################
###
### Running command:
###
### /home/biocbuild/bbs-3.9-bioc/R/bin/R CMD build --keep-empty-dirs --no-resave-data plateCore
###
##############################################################################
##############################################################################
* checking for file ‘plateCore/DESCRIPTION’ ... OK
* preparing ‘plateCore’:
* checking DESCRIPTION meta-information ... OK
* installing the package to build vignettes
-----------------------------------
* installing *source* package ‘plateCore’ ...
** using staged installation
** R
** data
** byte-compile and prepare package for lazy loading
No methods found in package ‘flowStats’ for request: ‘%on%’ when loading ‘plateCore’
Error in reconcilePropertiesAndPrototype(name, slots, prototype, superClasses, :
The prototype for class “flowPlate” has undefined slot(s): 'plateConfig'
Error: unable to load R code in package ‘plateCore’
Execution halted
ERROR: lazy loading failed for package ‘plateCore’
* removing ‘/tmp/RtmpAXnM9h/Rinst76224ae55663/plateCore’
-----------------------------------
ERROR: package installation failed