| Back to Multiple platform build/check report for BioC 3.9 |
|
This page was generated on 2019-10-16 12:02:28 -0400 (Wed, 16 Oct 2019).
| Package 429/1741 | Hostname | OS / Arch | INSTALL | BUILD | CHECK | BUILD BIN | ||||||
| dexus 1.24.0 Guenter Klambauer
| malbec2 | Linux (Ubuntu 18.04.2 LTS) / x86_64 | [ OK ] | OK | OK | |||||||
| tokay2 | Windows Server 2012 R2 Standard / x64 | OK | OK | OK | OK | |||||||
| celaya2 | OS X 10.11.6 El Capitan / x86_64 | OK | OK | OK | OK |
| Package: dexus |
| Version: 1.24.0 |
| Command: /home/biocbuild/bbs-3.9-bioc/R/bin/R CMD INSTALL dexus |
| StartedAt: 2019-10-15 18:13:14 -0400 (Tue, 15 Oct 2019) |
| EndedAt: 2019-10-15 18:13:24 -0400 (Tue, 15 Oct 2019) |
| EllapsedTime: 10.6 seconds |
| RetCode: 0 |
| Status: OK |
##############################################################################
##############################################################################
###
### Running command:
###
### /home/biocbuild/bbs-3.9-bioc/R/bin/R CMD INSTALL dexus
###
##############################################################################
##############################################################################
* installing to library ‘/home/biocbuild/bbs-3.9-bioc/R/library’
* installing *source* package ‘dexus’ ...
** using staged installation
** libs
g++ -std=gnu++11 -I"/home/biocbuild/bbs-3.9-bioc/R/include" -DNDEBUG -I/usr/local/include -fpic -g -O2 -Wall -c dexus.cpp -o dexus.o
dexus.cpp: In function ‘SEXPREC* dexus_impl(SEXP, SEXP, SEXP, SEXP, SEXP, SEXP, SEXP, SEXP, SEXP, SEXP, int*, SEXP, SEXP, SEXP)’:
dexus.cpp:193:15: warning: unused variable ‘DEFAULT_R’ [-Wunused-variable]
const double DEFAULT_R = 20; // R value used when re-setting clusters
^~~~~~~~~
dexus.cpp: In function ‘SEXPREC* dexss_impl(SEXP, SEXP, SEXP, SEXP, SEXP, SEXP, SEXP, SEXP, SEXP, SEXP, int*, SEXP, SEXP, SEXP)’:
dexus.cpp:575:15: warning: unused variable ‘DEFAULT_R’ [-Wunused-variable]
const double DEFAULT_R = 20; // R value used when re-setting clusters
^~~~~~~~~
g++ -std=gnu++11 -shared -L/home/biocbuild/bbs-3.9-bioc/R/lib -L/usr/local/lib -o dexus.so dexus.o -L/home/biocbuild/bbs-3.9-bioc/R/lib -lR
installing to /home/biocbuild/bbs-3.9-bioc/R/library/00LOCK-dexus/00new/dexus/libs
** R
** data
** inst
** byte-compile and prepare package for lazy loading
** help
*** installing help indices
** building package indices
** installing vignettes
** testing if installed package can be loaded from temporary location
** checking absolute paths in shared objects and dynamic libraries
** testing if installed package can be loaded from final location
** testing if installed package keeps a record of temporary installation path
* DONE (dexus)