| Back to Multiple platform build/check report for BioC 3.9 | 
 | 
This page was generated on 2019-10-16 12:08:54 -0400 (Wed, 16 Oct 2019).
| Package 513/1741 | Hostname | OS / Arch | INSTALL | BUILD | CHECK | BUILD BIN | ||||||
| epivizrData 1.12.0 Hector Corrada Bravo 
 | malbec2 | Linux (Ubuntu 18.04.2 LTS) / x86_64 | OK | [ OK ] | OK |  | ||||||
| tokay2 | Windows Server 2012 R2 Standard / x64 | OK | OK | WARNINGS | OK |  | ||||||
| celaya2 | OS X 10.11.6 El Capitan / x86_64 | OK | OK | OK | OK |  | 
| Package: epivizrData | 
| Version: 1.12.0 | 
| Command: /home/biocbuild/bbs-3.9-bioc/R/bin/R CMD build --keep-empty-dirs --no-resave-data epivizrData | 
| StartedAt: 2019-10-15 21:58:07 -0400 (Tue, 15 Oct 2019) | 
| EndedAt: 2019-10-15 21:58:51 -0400 (Tue, 15 Oct 2019) | 
| EllapsedTime: 44.3 seconds | 
| RetCode: 0 | 
| Status: OK | 
| PackageFile: epivizrData_1.12.0.tar.gz | 
| PackageFileSize: 244.2 KiB | 
############################################################################## ############################################################################## ### ### Running command: ### ### /home/biocbuild/bbs-3.9-bioc/R/bin/R CMD build --keep-empty-dirs --no-resave-data epivizrData ### ############################################################################## ############################################################################## * checking for file ‘epivizrData/DESCRIPTION’ ... OK * preparing ‘epivizrData’: * checking DESCRIPTION meta-information ... OK * installing the package to build vignettes * creating vignettes ... OK * checking for LF line-endings in source and make files and shell scripts * checking for empty or unneeded directories * building ‘epivizrData_1.12.0.tar.gz’