| Back to Multiple platform build/check report for BioC 3.9 |
|
This page was generated on 2019-10-16 12:02:06 -0400 (Wed, 16 Oct 2019).
| Package 1719/1741 | Hostname | OS / Arch | INSTALL | BUILD | CHECK | BUILD BIN | ||||||
| wateRmelon 1.28.0 Leo
| malbec2 | Linux (Ubuntu 18.04.2 LTS) / x86_64 | OK | [ OK ] | WARNINGS | |||||||
| tokay2 | Windows Server 2012 R2 Standard / x64 | OK | OK | WARNINGS | OK | |||||||
| celaya2 | OS X 10.11.6 El Capitan / x86_64 | OK | OK | WARNINGS | OK |
| Package: wateRmelon |
| Version: 1.28.0 |
| Command: /home/biocbuild/bbs-3.9-bioc/R/bin/R CMD build --keep-empty-dirs --no-resave-data wateRmelon |
| StartedAt: 2019-10-15 20:33:48 -0400 (Tue, 15 Oct 2019) |
| EndedAt: 2019-10-15 20:35:24 -0400 (Tue, 15 Oct 2019) |
| EllapsedTime: 95.9 seconds |
| RetCode: 0 |
| Status: OK |
| PackageFile: wateRmelon_1.28.0.tar.gz |
| PackageFileSize: 1.05 MiB |
##############################################################################
##############################################################################
###
### Running command:
###
### /home/biocbuild/bbs-3.9-bioc/R/bin/R CMD build --keep-empty-dirs --no-resave-data wateRmelon
###
##############################################################################
##############################################################################
* checking for file ‘wateRmelon/DESCRIPTION’ ... OK
* preparing ‘wateRmelon’:
* checking DESCRIPTION meta-information ... OK
* installing the package to build vignettes
* creating vignettes ... OK
Warning: ‘inst/doc’ file
‘wateRmelon.pdf’
ignored as vignettes have been rebuilt.
Run R CMD build with --no-build-vignettes to prevent rebuilding.
* checking for LF line-endings in source and make files and shell scripts
* checking for empty or unneeded directories
* looking to see if a ‘data/datalist’ file should be added
* building ‘wateRmelon_1.28.0.tar.gz’