| Back to Multiple platform build/check report for BioC 3.9 |
|
This page was generated on 2019-10-16 12:05:13 -0400 (Wed, 16 Oct 2019).
| Package 1104/1741 | Hostname | OS / Arch | INSTALL | BUILD | CHECK | BUILD BIN | ||||||
Xiaobei Zhao
| malbec2 | Linux (Ubuntu 18.04.2 LTS) / x86_64 | ERROR | [ ERROR ] | skipped | |||||||
| tokay2 | Windows Server 2012 R2 Standard / x64 | ERROR | ERROR | skipped | skipped | |||||||
| celaya2 | OS X 10.11.6 El Capitan / x86_64 | ERROR | ERROR | skipped | skipped |
| Package: NGScopy |
| Version: 1.18.0 |
| Command: /home/biocbuild/bbs-3.9-bioc/R/bin/R CMD build --keep-empty-dirs --no-resave-data NGScopy |
| StartedAt: 2019-10-15 21:04:39 -0400 (Tue, 15 Oct 2019) |
| EndedAt: 2019-10-15 21:04:41 -0400 (Tue, 15 Oct 2019) |
| EllapsedTime: 1.5 seconds |
| RetCode: 1 |
| Status: ERROR |
| PackageFile: None |
| PackageFileSize: NA |
##############################################################################
##############################################################################
###
### Running command:
###
### /home/biocbuild/bbs-3.9-bioc/R/bin/R CMD build --keep-empty-dirs --no-resave-data NGScopy
###
##############################################################################
##############################################################################
* checking for file ‘NGScopy/DESCRIPTION’ ... OK
* preparing ‘NGScopy’:
* checking DESCRIPTION meta-information ... OK
* installing the package to build vignettes
-----------------------------------
ERROR: dependency ‘rbamtools’ is not available for package ‘NGScopy’
* removing ‘/tmp/RtmpBroapd/Rinst705c5885e1b5/NGScopy’
-----------------------------------
ERROR: package installation failed