| Back to Multiple platform build/check report for BioC 3.9 |
|
This page was generated on 2019-10-16 12:01:35 -0400 (Wed, 16 Oct 2019).
| Package 1044/1741 | Hostname | OS / Arch | INSTALL | BUILD | CHECK | BUILD BIN | ||||||
| motifStack 1.28.0 Jianhong Ou
| malbec2 | Linux (Ubuntu 18.04.2 LTS) / x86_64 | OK | OK | [ OK ] | |||||||
| tokay2 | Windows Server 2012 R2 Standard / x64 | OK | OK | OK | OK | |||||||
| celaya2 | OS X 10.11.6 El Capitan / x86_64 | OK | OK | OK | OK |
| Package: motifStack |
| Version: 1.28.0 |
| Command: /home/biocbuild/bbs-3.9-bioc/R/bin/R CMD check --install=check:motifStack.install-out.txt --library=/home/biocbuild/bbs-3.9-bioc/R/library --no-vignettes --timings motifStack_1.28.0.tar.gz |
| StartedAt: 2019-10-16 03:20:06 -0400 (Wed, 16 Oct 2019) |
| EndedAt: 2019-10-16 03:24:22 -0400 (Wed, 16 Oct 2019) |
| EllapsedTime: 256.6 seconds |
| RetCode: 0 |
| Status: OK |
| CheckDir: motifStack.Rcheck |
| Warnings: 0 |
##############################################################################
##############################################################################
###
### Running command:
###
### /home/biocbuild/bbs-3.9-bioc/R/bin/R CMD check --install=check:motifStack.install-out.txt --library=/home/biocbuild/bbs-3.9-bioc/R/library --no-vignettes --timings motifStack_1.28.0.tar.gz
###
##############################################################################
##############################################################################
* using log directory ‘/home/biocbuild/bbs-3.9-bioc/meat/motifStack.Rcheck’
* using R version 3.6.1 (2019-07-05)
* using platform: x86_64-pc-linux-gnu (64-bit)
* using session charset: UTF-8
* using option ‘--no-vignettes’
* checking for file ‘motifStack/DESCRIPTION’ ... OK
* checking extension type ... Package
* this is package ‘motifStack’ version ‘1.28.0’
* checking package namespace information ... OK
* checking package dependencies ... OK
* checking if this is a source package ... OK
* checking if there is a namespace ... OK
* checking for hidden files and directories ... OK
* checking for portable file names ... OK
* checking for sufficient/correct file permissions ... OK
* checking whether package ‘motifStack’ can be installed ... OK
* checking installed package size ... OK
* checking package directory ... OK
* checking ‘build’ directory ... OK
* checking DESCRIPTION meta-information ... OK
* checking top-level files ... OK
* checking for left-over files ... OK
* checking index information ... OK
* checking package subdirectories ... OK
* checking R files for non-ASCII characters ... OK
* checking R files for syntax errors ... OK
* checking whether the package can be loaded ... OK
* checking whether the package can be loaded with stated dependencies ... OK
* checking whether the package can be unloaded cleanly ... OK
* checking whether the namespace can be loaded with stated dependencies ... OK
* checking whether the namespace can be unloaded cleanly ... OK
* checking dependencies in R code ... OK
* checking S3 generic/method consistency ... OK
* checking replacement functions ... OK
* checking foreign function calls ... OK
* checking R code for possible problems ... OK
* checking Rd files ... OK
* checking Rd metadata ... OK
* checking Rd cross-references ... OK
* checking for missing documentation entries ... OK
* checking for code/documentation mismatches ... OK
* checking Rd \usage sections ... OK
* checking Rd contents ... OK
* checking for unstated dependencies in examples ... OK
* checking files in ‘vignettes’ ... OK
* checking examples ... OK
Examples with CPU or elapsed time > 5s
user system elapsed
browseMotifs 6.229 0.143 6.387
* checking for unstated dependencies in ‘tests’ ... OK
* checking tests ...
Running ‘runTests.R’
OK
* checking for unstated dependencies in vignettes ... OK
* checking package vignettes in ‘inst/doc’ ... OK
* checking running R code from vignettes ... SKIPPED
* checking re-building of vignette outputs ... SKIPPED
* checking PDF version of manual ... OK
* DONE
Status: OK
motifStack.Rcheck/00install.out
############################################################################## ############################################################################## ### ### Running command: ### ### /home/biocbuild/bbs-3.9-bioc/R/bin/R CMD INSTALL motifStack ### ############################################################################## ############################################################################## * installing to library ‘/home/biocbuild/bbs-3.9-bioc/R/library’ * installing *source* package ‘motifStack’ ... ** using staged installation ** R ** inst ** byte-compile and prepare package for lazy loading ** help *** installing help indices ** building package indices ** installing vignettes ** testing if installed package can be loaded from temporary location ** testing if installed package can be loaded from final location ** testing if installed package keeps a record of temporary installation path * DONE (motifStack)
motifStack.Rcheck/tests/runTests.Rout
R version 3.6.1 (2019-07-05) -- "Action of the Toes"
Copyright (C) 2019 The R Foundation for Statistical Computing
Platform: x86_64-pc-linux-gnu (64-bit)
R is free software and comes with ABSOLUTELY NO WARRANTY.
You are welcome to redistribute it under certain conditions.
Type 'license()' or 'licence()' for distribution details.
R is a collaborative project with many contributors.
Type 'contributors()' for more information and
'citation()' on how to cite R or R packages in publications.
Type 'demo()' for some demos, 'help()' for on-line help, or
'help.start()' for an HTML browser interface to help.
Type 'q()' to quit R.
> require("motifStack") || stop("unable to load Package:motifStack")
Loading required package: motifStack
Loading required package: grImport2
Loading required package: grid
Loading required package: MotIV
Loading required package: BiocGenerics
Loading required package: parallel
Attaching package: 'BiocGenerics'
The following objects are masked from 'package:parallel':
clusterApply, clusterApplyLB, clusterCall, clusterEvalQ,
clusterExport, clusterMap, parApply, parCapply, parLapply,
parLapplyLB, parRapply, parSapply, parSapplyLB
The following objects are masked from 'package:stats':
IQR, mad, sd, var, xtabs
The following objects are masked from 'package:base':
Filter, Find, Map, Position, Reduce, anyDuplicated, append,
as.data.frame, basename, cbind, colnames, dirname, do.call,
duplicated, eval, evalq, get, grep, grepl, intersect, is.unsorted,
lapply, mapply, match, mget, order, paste, pmax, pmax.int, pmin,
pmin.int, rank, rbind, rownames, sapply, setdiff, sort, table,
tapply, union, unique, unsplit, which, which.max, which.min
Attaching package: 'MotIV'
The following object is masked from 'package:stats':
filter
Loading required package: ade4
Attaching package: 'ade4'
The following object is masked from 'package:BiocGenerics':
score
Loading required package: Biostrings
Loading required package: S4Vectors
Loading required package: stats4
Attaching package: 'S4Vectors'
The following object is masked from 'package:base':
expand.grid
Loading required package: IRanges
Loading required package: XVector
Attaching package: 'Biostrings'
The following object is masked from 'package:base':
strsplit
[1] TRUE
> #require("MotifDb") || stop("unalble to load Package::motifDb")
> BiocGenerics:::testPackage("motifStack")
RUNIT TEST PROTOCOL -- Wed Oct 16 03:24:18 2019
***********************************************
Number of test functions: 10
Number of errors: 0
Number of failures: 0
1 Test Suite :
motifStack RUnit Tests - 10 test functions, 0 errors, 0 failures
Number of test functions: 10
Number of errors: 0
Number of failures: 0
>
> proc.time()
user system elapsed
11.576 0.441 12.063
motifStack.Rcheck/motifStack-Ex.timings
| name | user | system | elapsed | |
| DNAmotifAlignment | 0.244 | 0.008 | 0.270 | |
| browseMotifs | 6.229 | 0.143 | 6.387 | |
| colorset | 0 | 0 | 0 | |
| getRankedUniqueMotifs | 0.001 | 0.000 | 0.002 | |
| highlightCol | 0.001 | 0.000 | 0.001 | |
| importMatrix | 0.015 | 0.003 | 0.019 | |
| mergeMotifs | 0.154 | 0.001 | 0.155 | |
| motifCircos | 0.004 | 0.000 | 0.005 | |
| motifCloud | 0.002 | 0.000 | 0.003 | |
| motifPiles | 0.005 | 0.000 | 0.005 | |
| motifSignature | 0.003 | 0.000 | 0.003 | |
| motifStack | 0.001 | 0.000 | 0.001 | |
| ouNode-class | 0.004 | 0.000 | 0.004 | |
| pcm-class | 0.597 | 0.000 | 0.598 | |
| pcm-methods | 0.007 | 0.000 | 0.007 | |
| pfm-class | 0.179 | 0.000 | 0.178 | |
| pfm-methods | 0.007 | 0.000 | 0.008 | |
| pfm2pwm | 0.189 | 0.000 | 0.190 | |
| plotAffinityLogo | 0.983 | 0.000 | 0.983 | |
| plotMotifLogo | 0.213 | 0.000 | 0.213 | |
| plotMotifLogoA | 0.198 | 0.000 | 0.198 | |
| plotMotifLogoStack | 0.279 | 0.004 | 0.283 | |
| plotMotifLogoStackWithTree | 2.764 | 0.008 | 2.771 | |
| plotMotifOverMotif | 0.295 | 0.000 | 0.295 | |
| plotMotifStackWithPhylog | 0.002 | 0.000 | 0.002 | |
| plotMotifStackWithRadialPhylog | 0.002 | 0.000 | 0.002 | |
| psam-class | 0.990 | 0.000 | 0.991 | |
| psam-methods | 0.015 | 0.000 | 0.015 | |
| readPCM | 0.013 | 0.000 | 0.013 | |
| reorderUPGMAtree | 0.002 | 0.000 | 0.002 | |