| Back to Multiple platform build/check report for BioC 3.9 |
|
This page was generated on 2019-10-16 12:05:32 -0400 (Wed, 16 Oct 2019).
| Package 1182/1741 | Hostname | OS / Arch | INSTALL | BUILD | CHECK | BUILD BIN | ||||||
| paxtoolsr 1.18.0 Augustin Luna
| malbec2 | Linux (Ubuntu 18.04.2 LTS) / x86_64 | OK | OK | [ OK ] | |||||||
| tokay2 | Windows Server 2012 R2 Standard / x64 | OK | OK | OK | OK | |||||||
| celaya2 | OS X 10.11.6 El Capitan / x86_64 | OK | OK | OK | OK |
| Package: paxtoolsr |
| Version: 1.18.0 |
| Command: /home/biocbuild/bbs-3.9-bioc/R/bin/R CMD check --install=check:paxtoolsr.install-out.txt --library=/home/biocbuild/bbs-3.9-bioc/R/library --no-vignettes --timings paxtoolsr_1.18.0.tar.gz |
| StartedAt: 2019-10-16 03:48:28 -0400 (Wed, 16 Oct 2019) |
| EndedAt: 2019-10-16 03:51:15 -0400 (Wed, 16 Oct 2019) |
| EllapsedTime: 166.9 seconds |
| RetCode: 0 |
| Status: OK |
| CheckDir: paxtoolsr.Rcheck |
| Warnings: 0 |
##############################################################################
##############################################################################
###
### Running command:
###
### /home/biocbuild/bbs-3.9-bioc/R/bin/R CMD check --install=check:paxtoolsr.install-out.txt --library=/home/biocbuild/bbs-3.9-bioc/R/library --no-vignettes --timings paxtoolsr_1.18.0.tar.gz
###
##############################################################################
##############################################################################
* using log directory ‘/home/biocbuild/bbs-3.9-bioc/meat/paxtoolsr.Rcheck’
* using R version 3.6.1 (2019-07-05)
* using platform: x86_64-pc-linux-gnu (64-bit)
* using session charset: UTF-8
* using option ‘--no-vignettes’
* checking for file ‘paxtoolsr/DESCRIPTION’ ... OK
* checking extension type ... Package
* this is package ‘paxtoolsr’ version ‘1.18.0’
* checking package namespace information ... OK
* checking package dependencies ... OK
* checking if this is a source package ... OK
* checking if there is a namespace ... OK
* checking for hidden files and directories ... OK
* checking for portable file names ... OK
* checking for sufficient/correct file permissions ... OK
* checking whether package ‘paxtoolsr’ can be installed ... OK
* checking installed package size ... NOTE
installed size is 31.6Mb
sub-directories of 1Mb or more:
extdata 6.8Mb
java 24.5Mb
* checking package directory ... OK
* checking ‘build’ directory ... OK
* checking DESCRIPTION meta-information ... OK
* checking top-level files ... OK
* checking for left-over files ... OK
* checking index information ... OK
* checking package subdirectories ... OK
* checking R files for non-ASCII characters ... OK
* checking R files for syntax errors ... OK
* checking whether the package can be loaded ... OK
* checking whether the package can be loaded with stated dependencies ... OK
* checking whether the package can be unloaded cleanly ... OK
* checking whether the namespace can be loaded with stated dependencies ... OK
* checking whether the namespace can be unloaded cleanly ... OK
* checking dependencies in R code ... NOTE
'library' or 'require' call to ‘org.Hs.eg.db’ in package code.
Please use :: or requireNamespace() instead.
See section 'Suggested packages' in the 'Writing R Extensions' manual.
* checking S3 generic/method consistency ... OK
* checking replacement functions ... OK
* checking foreign function calls ... OK
* checking R code for possible problems ... NOTE
convertIds: no visible global function definition for ‘select’
convertIds: no visible binding for global variable ‘org.Hs.eg.db’
splitSifnxByPathway: no visible global function definition for
‘%dopar%’
Undefined global functions or variables:
%dopar% org.Hs.eg.db select
* checking Rd files ... OK
* checking Rd metadata ... OK
* checking Rd cross-references ... OK
* checking for missing documentation entries ... OK
* checking for code/documentation mismatches ... OK
* checking Rd \usage sections ... OK
* checking Rd contents ... OK
* checking for unstated dependencies in examples ... OK
* checking files in ‘vignettes’ ... OK
* checking examples ... OK
Examples with CPU or elapsed time > 5s
user system elapsed
readPcPathwaysInfo 45.29 0.223 45.494
* checking for unstated dependencies in ‘tests’ ... OK
* checking tests ...
Running ‘testthat.R’
OK
* checking for unstated dependencies in vignettes ... OK
* checking package vignettes in ‘inst/doc’ ... OK
* checking running R code from vignettes ... SKIPPED
* checking re-building of vignette outputs ... SKIPPED
* checking PDF version of manual ... OK
* DONE
Status: 3 NOTEs
See
‘/home/biocbuild/bbs-3.9-bioc/meat/paxtoolsr.Rcheck/00check.log’
for details.
paxtoolsr.Rcheck/00install.out
############################################################################## ############################################################################## ### ### Running command: ### ### /home/biocbuild/bbs-3.9-bioc/R/bin/R CMD INSTALL paxtoolsr ### ############################################################################## ############################################################################## * installing to library ‘/home/biocbuild/bbs-3.9-bioc/R/library’ * installing *source* package ‘paxtoolsr’ ... ** using staged installation ** R ** inst ** byte-compile and prepare package for lazy loading ** help *** installing help indices ** building package indices ** installing vignettes ** testing if installed package can be loaded from temporary location ** testing if installed package can be loaded from final location ** testing if installed package keeps a record of temporary installation path * DONE (paxtoolsr)
paxtoolsr.Rcheck/tests/testthat.Rout
R version 3.6.1 (2019-07-05) -- "Action of the Toes"
Copyright (C) 2019 The R Foundation for Statistical Computing
Platform: x86_64-pc-linux-gnu (64-bit)
R is free software and comes with ABSOLUTELY NO WARRANTY.
You are welcome to redistribute it under certain conditions.
Type 'license()' or 'licence()' for distribution details.
R is a collaborative project with many contributors.
Type 'contributors()' for more information and
'citation()' on how to cite R or R packages in publications.
Type 'demo()' for some demos, 'help()' for on-line help, or
'help.start()' for an HTML browser interface to help.
Type 'q()' to quit R.
> library(testthat)
> library(paxtoolsr)
Loading required package: rJava
Loading required package: XML
Consider citing this package: Luna A, et al. PaxtoolsR: pathway analysis in R using Pathway Commons. PMID: 26685306; citation("paxtoolsr")
>
> test_check("paxtoolsr")
URL: http://www.pathwaycommons.org/pc2/get?uri=http%3A%2F%2Fidentifiers.org%2Funiprot%2FQ06609&uri=http%3A%2F%2Fidentifiers.org%2Funiprot%2FQ96EB6&format=BIOPAX
2019-10-16 03:51:07,757 555 [main] INFO org.biopax.paxtools.PaxtoolsMain - Collecting proteins for a pathway, the converter will also consider its sub-pathways, their sub-pathways, etc.
2019-10-16 03:51:07,770 568 [pool-1-thread-1] INFO org.biopax.paxtools.io.gsea.GSEAConverter - Begin converting Glycolysis Pathway pathway, uri=http://www.biopax.org/examples/myExamplePathway50
2019-10-16 03:51:07,776 574 [pool-1-thread-1] INFO org.biopax.paxtools.io.gsea.GSEAConverter - - fetched PRs: 2
2019-10-16 03:51:07,777 575 [pool-1-thread-1] INFO org.biopax.paxtools.io.gsea.GSEAConverter - - grouping the PRs by organism...
2019-10-16 03:51:07,788 586 [pool-1-thread-1] INFO org.biopax.paxtools.io.gsea.GSEAConverter - - creating GSEA/GMT entries...
2019-10-16 03:51:07,789 587 [pool-2-thread-1] INFO org.biopax.paxtools.io.gsea.GSEAConverter - adding uniprot IDs of proteins (PRs) from 'Glycolysis Pathway', amaze;kegg pathway...
2019-10-16 03:51:07,791 589 [pool-1-thread-1] INFO org.biopax.paxtools.io.gsea.GSEAConverter - - collected 1entries.
2019-10-16 03:51:07,791 589 [main] INFO org.biopax.paxtools.io.gsea.GSEAConverter - Creating entries for the rest fo (unused) PRs...
2019-10-16 03:51:08,199 997 [main] INFO org.biopax.paxtools.client.BiopaxValidatorClient - BioPAX Validator location: http://biopax.baderlab.org/check.html
2019-10-16 03:51:08,683 1481 [main] INFO org.biopax.paxtools.client.BiopaxValidatorClient - BioPAX Validator location: http://biopax.baderlab.org/check.html
2019-10-16 03:51:09,146 1944 [main] INFO org.biopax.paxtools.PaxtoolsMain - Elements in the result model: 240
SBGN-PD Layout is running...
success ratio: 0.8571428571428571
enhanced ratio: 0.8571428571428571
Total execution time: 94 miliseconds.
2019-10-16 03:51:09,804 2602 [main] INFO org.biopax.paxtools.PaxtoolsMain - toSifnx: not blacklisting ubiquitous molecules (no blacklist.txt found)
2019-10-16 03:51:10,416 3214 [main] INFO org.biopax.paxtools.PaxtoolsMain - toSif: not blacklisting ubiquitous molecules (no blacklist.txt found)
2019-10-16 03:51:11,027 3825 [main] INFO org.biopax.paxtools.PaxtoolsMain - toSif: not blacklisting ubiquitous molecules (no blacklist.txt found)
══ testthat results ═══════════════════════════════════════════════════════════
[ OK: 40 | SKIPPED: 10 | WARNINGS: 0 | FAILED: 0 ]
>
> proc.time()
user system elapsed
18.787 0.578 13.090
paxtoolsr.Rcheck/paxtoolsr-Ex.timings
| name | user | system | elapsed | |
| addAttributeList | 0.02 | 0.00 | 0.02 | |
| convertDataFrameListsToVectors | 0.006 | 0.000 | 0.006 | |
| convertIds | 2.581 | 0.088 | 2.666 | |
| convertSifToGmt | 0.022 | 0.001 | 0.031 | |
| downloadFile | 0.100 | 0.004 | 0.322 | |
| downloadPc2 | 0 | 0 | 0 | |
| downloadSignedPC | 0.000 | 0.000 | 0.001 | |
| fetch | 3.588 | 0.118 | 0.909 | |
| filterSif | 0.283 | 0.012 | 0.103 | |
| getCacheFiles | 0 | 0 | 0 | |
| getErrorMessage | 0 | 0 | 0 | |
| getNeighbors | 0.790 | 0.016 | 0.143 | |
| getPc | 0 | 0 | 0 | |
| getPcDatabaseNames | 0.213 | 0.004 | 0.202 | |
| getPcUrl | 0.000 | 0.000 | 0.001 | |
| getShortestPathSif | 0.068 | 0.000 | 0.041 | |
| getSifInteractionCategories | 0.000 | 0.000 | 0.001 | |
| graphPc | 0.000 | 0.000 | 0.001 | |
| integrateBiopax | 2.812 | 0.044 | 0.649 | |
| loadSifInIgraph | 0.009 | 0.000 | 0.004 | |
| mapValues | 0.000 | 0.000 | 0.001 | |
| mergeBiopax | 0.891 | 0.036 | 0.457 | |
| pcDirections | 0.000 | 0.000 | 0.001 | |
| pcFormats | 0.000 | 0.000 | 0.001 | |
| pcGraphQueries | 0 | 0 | 0 | |
| processPcRequest | 0.017 | 0.000 | 0.012 | |
| readBiopax | 0.011 | 0.000 | 0.009 | |
| readGmt | 0.109 | 0.008 | 0.070 | |
| readPcPathwaysInfo | 45.290 | 0.223 | 45.494 | |
| readSbgn | 0.001 | 0.000 | 0.193 | |
| readSif | 0.002 | 0.000 | 0.002 | |
| readSifnx | 0.010 | 0.000 | 0.025 | |
| searchListOfVectors | 0.001 | 0.000 | 0.001 | |
| searchPc | 0 | 0 | 0 | |
| summarize | 0.176 | 0.008 | 0.072 | |
| summarizeSif | 0.004 | 0.000 | 0.004 | |
| toCytoscape | 0.024 | 0.000 | 0.023 | |
| toGSEA | 0.135 | 0.000 | 0.250 | |
| toLevel3 | 0.352 | 0.000 | 0.071 | |
| toSBGN | 1.670 | 0.033 | 1.093 | |
| toSif | 2.360 | 0.024 | 0.490 | |
| toSifnx | 2.756 | 0.016 | 0.511 | |
| topPathways | 0 | 0 | 0 | |
| traverse | 0 | 0 | 0 | |
| validate | 1.730 | 0.048 | 1.077 | |