| Back to Multiple platform build/check report for BioC 3.9 | 
 | 
This page was generated on 2019-10-16 12:03:27 -0400 (Wed, 16 Oct 2019).
| Package 385/1741 | Hostname | OS / Arch | INSTALL | BUILD | CHECK | BUILD BIN | ||||||
| dagLogo 1.22.3 Jianhong Ou 
 | malbec2 | Linux (Ubuntu 18.04.2 LTS) / x86_64 | OK | [ OK ] | OK |  | ||||||
| tokay2 | Windows Server 2012 R2 Standard / x64 | OK | OK | OK | OK |  | ||||||
| celaya2 | OS X 10.11.6 El Capitan / x86_64 | OK | OK | OK | OK |  | 
| Package: dagLogo | 
| Version: 1.22.3 | 
| Command: /home/biocbuild/bbs-3.9-bioc/R/bin/R CMD build --keep-empty-dirs --no-resave-data dagLogo | 
| StartedAt: 2019-10-15 20:44:44 -0400 (Tue, 15 Oct 2019) | 
| EndedAt: 2019-10-15 20:46:40 -0400 (Tue, 15 Oct 2019) | 
| EllapsedTime: 116.7 seconds | 
| RetCode: 0 | 
| Status: OK | 
| PackageFile: dagLogo_1.22.3.tar.gz | 
| PackageFileSize: 2.544 MiB | 
############################################################################## ############################################################################## ### ### Running command: ### ### /home/biocbuild/bbs-3.9-bioc/R/bin/R CMD build --keep-empty-dirs --no-resave-data dagLogo ### ############################################################################## ############################################################################## * checking for file ‘dagLogo/DESCRIPTION’ ... OK * preparing ‘dagLogo’: * checking DESCRIPTION meta-information ... OK * installing the package to build vignettes * creating vignettes ... OK * checking for LF line-endings in source and make files and shell scripts * checking for empty or unneeded directories * looking to see if a ‘data/datalist’ file should be added * building ‘dagLogo_1.22.3.tar.gz’