| Back to Multiple platform build/check report for BioC 3.9 |
|
This page was generated on 2019-10-16 12:00:45 -0400 (Wed, 16 Oct 2019).
| Package 1676/1741 | Hostname | OS / Arch | INSTALL | BUILD | CHECK | BUILD BIN | ||||||
| trigger 1.30.0 John D. Storey
| malbec2 | Linux (Ubuntu 18.04.2 LTS) / x86_64 | [ OK ] | OK | OK | |||||||
| tokay2 | Windows Server 2012 R2 Standard / x64 | OK | OK | OK | OK | |||||||
| celaya2 | OS X 10.11.6 El Capitan / x86_64 | OK | OK | OK | OK |
| Package: trigger |
| Version: 1.30.0 |
| Command: /home/biocbuild/bbs-3.9-bioc/R/bin/R CMD INSTALL trigger |
| StartedAt: 2019-10-15 18:44:47 -0400 (Tue, 15 Oct 2019) |
| EndedAt: 2019-10-15 18:45:11 -0400 (Tue, 15 Oct 2019) |
| EllapsedTime: 23.5 seconds |
| RetCode: 0 |
| Status: OK |
##############################################################################
##############################################################################
###
### Running command:
###
### /home/biocbuild/bbs-3.9-bioc/R/bin/R CMD INSTALL trigger
###
##############################################################################
##############################################################################
* installing to library ‘/home/biocbuild/bbs-3.9-bioc/R/library’
* installing *source* package ‘trigger’ ...
** using staged installation
** libs
gcc -I"/home/biocbuild/bbs-3.9-bioc/R/include" -DNDEBUG -I/usr/local/include -fpic -g -O2 -Wall -c trigger.c -o trigger.o
trigger.c: In function ‘mergeorder’:
trigger.c:25:20: warning: variable ‘n3’ set but not used [-Wunused-but-set-variable]
int i1,i2,i3,n1,n2,n3;
^~
trigger.c: In function ‘sec_link_stat’:
trigger.c:81:10: warning: variable ‘nct’ set but not used [-Wunused-but-set-variable]
int ntr, nct, i, j;
^~~
trigger.c: In function ‘sec_link_stat_x’:
trigger.c:153:10: warning: variable ‘nct’ set but not used [-Wunused-but-set-variable]
int ntr, nct, i, j, k, nk;
^~~
trigger.c: In function ‘condi_indep_stat’:
trigger.c:233:10: warning: variable ‘nct’ set but not used [-Wunused-but-set-variable]
int ntr, nct, i, j;
^~~
trigger.c: In function ‘condi_indep_stat_x’:
trigger.c:310:10: warning: variable ‘nct’ set but not used [-Wunused-but-set-variable]
int ntr, nct, i, j, k, nk;
^~~
trigger.c: In function ‘condi_indep_stat_rx’:
trigger.c:393:10: warning: variable ‘nct’ set but not used [-Wunused-but-set-variable]
int ntr, nct, i, j, k, nk;
^~~
gcc -shared -L/home/biocbuild/bbs-3.9-bioc/R/lib -L/usr/local/lib -o trigger.so trigger.o -L/home/biocbuild/bbs-3.9-bioc/R/lib -lR
installing to /home/biocbuild/bbs-3.9-bioc/R/library/00LOCK-trigger/00new/trigger/libs
** R
** data
** inst
** byte-compile and prepare package for lazy loading
** help
*** installing help indices
** building package indices
** installing vignettes
** testing if installed package can be loaded from temporary location
** checking absolute paths in shared objects and dynamic libraries
** testing if installed package can be loaded from final location
** testing if installed package keeps a record of temporary installation path
* DONE (trigger)