| Back to Multiple platform build/check report for BioC 3.9 | 
 | 
This page was generated on 2019-10-16 12:11:17 -0400 (Wed, 16 Oct 2019).
| Package 1008/1741 | Hostname | OS / Arch | INSTALL | BUILD | CHECK | BUILD BIN | ||||||
| miRBaseConverter 1.8.0 Taosheng Xu 
 | malbec2 | Linux (Ubuntu 18.04.2 LTS) / x86_64 | OK | [ OK ] | OK |  | ||||||
| tokay2 | Windows Server 2012 R2 Standard / x64 | OK | OK | OK | OK |  | ||||||
| celaya2 | OS X 10.11.6 El Capitan / x86_64 | OK | OK | OK | OK |  | 
| Package: miRBaseConverter | 
| Version: 1.8.0 | 
| Command: /home/biocbuild/bbs-3.9-bioc/R/bin/R CMD build --keep-empty-dirs --no-resave-data miRBaseConverter | 
| StartedAt: 2019-10-15 22:30:57 -0400 (Tue, 15 Oct 2019) | 
| EndedAt: 2019-10-15 22:31:19 -0400 (Tue, 15 Oct 2019) | 
| EllapsedTime: 22.2 seconds | 
| RetCode: 0 | 
| Status: OK | 
| PackageFile: miRBaseConverter_1.8.0.tar.gz | 
| PackageFileSize: 1.942 MiB | 
##############################################################################
##############################################################################
###
### Running command:
###
###   /home/biocbuild/bbs-3.9-bioc/R/bin/R CMD build --keep-empty-dirs --no-resave-data miRBaseConverter
###
##############################################################################
##############################################################################
* checking for file ‘miRBaseConverter/DESCRIPTION’ ... OK
* preparing ‘miRBaseConverter’:
* checking DESCRIPTION meta-information ... OK
* installing the package to build vignettes
* creating vignettes ... OK
Warning: ‘inst/doc’ files
    ‘miRBaseConverter-vignette.html’, ‘miRBaseConverter-vignette.R’
  ignored as vignettes have been rebuilt.
  Run R CMD build with --no-build-vignettes to prevent rebuilding.
* checking for LF line-endings in source and make files and shell scripts
* checking for empty or unneeded directories
* looking to see if a ‘data/datalist’ file should be added
* building ‘miRBaseConverter_1.8.0.tar.gz’