| Back to Multiple platform build/check report for BioC 3.9 |
|
This page was generated on 2019-10-16 12:03:16 -0400 (Wed, 16 Oct 2019).
| Package 134/1741 | Hostname | OS / Arch | INSTALL | BUILD | CHECK | BUILD BIN | ||||||
| BiGGR 1.20.0 Anand K. Gavai
| malbec2 | Linux (Ubuntu 18.04.2 LTS) / x86_64 | OK | [ OK ] | OK | |||||||
| tokay2 | Windows Server 2012 R2 Standard / x64 | OK | OK | OK | OK | |||||||
| celaya2 | OS X 10.11.6 El Capitan / x86_64 | OK | OK | OK | OK |
| Package: BiGGR |
| Version: 1.20.0 |
| Command: /home/biocbuild/bbs-3.9-bioc/R/bin/R CMD build --keep-empty-dirs --no-resave-data BiGGR |
| StartedAt: 2019-10-15 20:43:09 -0400 (Tue, 15 Oct 2019) |
| EndedAt: 2019-10-15 20:43:26 -0400 (Tue, 15 Oct 2019) |
| EllapsedTime: 17.6 seconds |
| RetCode: 0 |
| Status: OK |
| PackageFile: BiGGR_1.20.0.tar.gz |
| PackageFileSize: 4.234 MiB |
##############################################################################
##############################################################################
###
### Running command:
###
### /home/biocbuild/bbs-3.9-bioc/R/bin/R CMD build --keep-empty-dirs --no-resave-data BiGGR
###
##############################################################################
##############################################################################
* checking for file ‘BiGGR/DESCRIPTION’ ... OK
* preparing ‘BiGGR’:
* checking DESCRIPTION meta-information ... OK
* installing the package to build vignettes
* creating vignettes ... OK
Warning: ‘inst/doc’ files
‘BiGGR.Rnw’, ‘BiGGR.pdf’, ‘BiGGR.R’
ignored as vignettes have been rebuilt.
Run R CMD build with --no-build-vignettes to prevent rebuilding.
* checking for LF line-endings in source and make files and shell scripts
* checking for empty or unneeded directories
* looking to see if a ‘data/datalist’ file should be added
* building ‘BiGGR_1.20.0.tar.gz’