| Back to Multiple platform build/check report for BioC 3.9 | 
 | 
This page was generated on 2019-10-16 12:09:24 -0400 (Wed, 16 Oct 2019).
| Package 87/1741 | Hostname | OS / Arch | INSTALL | BUILD | CHECK | BUILD BIN | ||||||
| ASpli 1.10.0 Estefania Mancini 
 | malbec2 | Linux (Ubuntu 18.04.2 LTS) / x86_64 | OK | [ OK ] | OK |  | ||||||
| tokay2 | Windows Server 2012 R2 Standard / x64 | OK | OK | OK | OK |  | ||||||
| celaya2 | OS X 10.11.6 El Capitan / x86_64 | OK | OK | OK | OK |  | 
| Package: ASpli | 
| Version: 1.10.0 | 
| Command: /home/biocbuild/bbs-3.9-bioc/R/bin/R CMD build --keep-empty-dirs --no-resave-data ASpli | 
| StartedAt: 2019-10-15 22:04:33 -0400 (Tue, 15 Oct 2019) | 
| EndedAt: 2019-10-15 22:05:35 -0400 (Tue, 15 Oct 2019) | 
| EllapsedTime: 61.7 seconds | 
| RetCode: 0 | 
| Status: OK | 
| PackageFile: ASpli_1.10.0.tar.gz | 
| PackageFileSize: 2.243 MiB | 
############################################################################## ############################################################################## ### ### Running command: ### ### /home/biocbuild/bbs-3.9-bioc/R/bin/R CMD build --keep-empty-dirs --no-resave-data ASpli ### ############################################################################## ############################################################################## * checking for file ‘ASpli/DESCRIPTION’ ... OK * preparing ‘ASpli’: * checking DESCRIPTION meta-information ... OK * installing the package to build vignettes * creating vignettes ... OK * checking for LF line-endings in source and make files and shell scripts * checking for empty or unneeded directories * building ‘ASpli_1.10.0.tar.gz’