| Back to Multiple platform build/check report for BioC 3.9 |
|
This page was generated on 2019-10-16 12:00:44 -0400 (Wed, 16 Oct 2019).
| Package 1088/1741 | Hostname | OS / Arch | INSTALL | BUILD | CHECK | BUILD BIN | ||||||
| ncdfFlow 2.30.1 Mike Jiang
| malbec2 | Linux (Ubuntu 18.04.2 LTS) / x86_64 | OK | OK | [ OK ] | |||||||
| tokay2 | Windows Server 2012 R2 Standard / x64 | OK | OK | OK | OK | |||||||
| celaya2 | OS X 10.11.6 El Capitan / x86_64 | OK | OK | OK | OK |
| Package: ncdfFlow |
| Version: 2.30.1 |
| Command: /home/biocbuild/bbs-3.9-bioc/R/bin/R CMD check --install=check:ncdfFlow.install-out.txt --library=/home/biocbuild/bbs-3.9-bioc/R/library --no-vignettes --timings ncdfFlow_2.30.1.tar.gz |
| StartedAt: 2019-10-16 03:31:18 -0400 (Wed, 16 Oct 2019) |
| EndedAt: 2019-10-16 03:32:40 -0400 (Wed, 16 Oct 2019) |
| EllapsedTime: 81.6 seconds |
| RetCode: 0 |
| Status: OK |
| CheckDir: ncdfFlow.Rcheck |
| Warnings: 0 |
##############################################################################
##############################################################################
###
### Running command:
###
### /home/biocbuild/bbs-3.9-bioc/R/bin/R CMD check --install=check:ncdfFlow.install-out.txt --library=/home/biocbuild/bbs-3.9-bioc/R/library --no-vignettes --timings ncdfFlow_2.30.1.tar.gz
###
##############################################################################
##############################################################################
* using log directory ‘/home/biocbuild/bbs-3.9-bioc/meat/ncdfFlow.Rcheck’
* using R version 3.6.1 (2019-07-05)
* using platform: x86_64-pc-linux-gnu (64-bit)
* using session charset: UTF-8
* using option ‘--no-vignettes’
* checking for file ‘ncdfFlow/DESCRIPTION’ ... OK
* this is package ‘ncdfFlow’ version ‘2.30.1’
* checking package namespace information ... OK
* checking package dependencies ... OK
* checking if this is a source package ... OK
* checking if there is a namespace ... OK
* checking for hidden files and directories ... OK
* checking for portable file names ... OK
* checking for sufficient/correct file permissions ... OK
* checking whether package ‘ncdfFlow’ can be installed ... OK
* checking installed package size ... NOTE
installed size is 24.2Mb
sub-directories of 1Mb or more:
lib 6.7Mb
libs 16.9Mb
* checking package directory ... OK
* checking ‘build’ directory ... OK
* checking DESCRIPTION meta-information ... NOTE
Malformed Title field: should not end in a period.
Package listed in more than one of Depends, Imports, Suggests, Enhances:
‘flowCore’
A package should be listed in only one of these fields.
* checking top-level files ... OK
* checking for left-over files ... OK
* checking index information ... OK
* checking package subdirectories ... OK
* checking R files for non-ASCII characters ... OK
* checking R files for syntax errors ... OK
* checking whether the package can be loaded ... OK
* checking whether the package can be loaded with stated dependencies ... OK
* checking whether the package can be unloaded cleanly ... OK
* checking whether the namespace can be loaded with stated dependencies ... OK
* checking whether the namespace can be unloaded cleanly ... OK
* checking dependencies in R code ... NOTE
'library' or 'require' call to ‘parallel’ in package code.
Please use :: or requireNamespace() instead.
See section 'Suggested packages' in the 'Writing R Extensions' manual.
Packages in Depends field not imported from:
‘BH’ ‘RcppArmadillo’
These packages need to be imported from (in the NAMESPACE file)
for when this namespace is loaded but not attached.
* checking S3 generic/method consistency ... OK
* checking replacement functions ... OK
* checking foreign function calls ... OK
* checking R code for possible problems ... NOTE
ncdfFlowSet,flowSet: warning in assign(guid, new("flowFrame", exprs =
matrix(numeric(0), nrow = 0, ncol = 0), parameters(x[[guid]]),
description(x[[guid]])), env = e1): partial argument match of 'env'
to 'envir'
rbind2,ncdfFlowList-ANY : : : warning in
assign(curSample, NA, env = indiceEnv): partial argument match of
'env' to 'envir'
read.ncdfFlowSet: no visible global function definition for ‘mclapply’
Undefined global functions or variables:
mclapply
* checking Rd files ... OK
* checking Rd metadata ... OK
* checking Rd cross-references ... OK
* checking for missing documentation entries ... OK
* checking for code/documentation mismatches ... OK
* checking Rd \usage sections ... OK
* checking Rd contents ... OK
* checking for unstated dependencies in examples ... OK
* checking line endings in C/C++/Fortran sources/headers ... OK
* checking line endings in Makefiles ... OK
* checking compilation flags in Makevars ... OK
* checking for GNU extensions in Makefiles ... OK
* checking for portable use of $(BLAS_LIBS) and $(LAPACK_LIBS) ... OK
* checking compiled code ... NOTE
Note: information on .o files is not available
File ‘/home/biocbuild/bbs-3.9-bioc/R/library/ncdfFlow/libs/ncdfFlow.so’:
Found ‘abort’, possibly from ‘abort’ (C)
Found ‘rand_r’, possibly from ‘rand_r’ (C)
Found ‘stderr’, possibly from ‘stderr’ (C)
Found ‘stdout’, possibly from ‘stdout’ (C)
Compiled code should not call entry points which might terminate R nor
write to stdout/stderr instead of to the console, nor use Fortran I/O
nor system RNGs. The detected symbols are linked into the code but
might come from libraries and not actually be called.
See ‘Writing portable packages’ in the ‘Writing R Extensions’ manual.
* checking files in ‘vignettes’ ... OK
* checking examples ... OK
* checking for unstated dependencies in ‘tests’ ... OK
* checking tests ...
Running ‘testthat.R’
OK
* checking for unstated dependencies in vignettes ... OK
* checking package vignettes in ‘inst/doc’ ... OK
* checking running R code from vignettes ... SKIPPED
* checking re-building of vignette outputs ... SKIPPED
* checking PDF version of manual ... OK
* DONE
Status: 5 NOTEs
See
‘/home/biocbuild/bbs-3.9-bioc/meat/ncdfFlow.Rcheck/00check.log’
for details.
ncdfFlow.Rcheck/00install.out
############################################################################## ############################################################################## ### ### Running command: ### ### /home/biocbuild/bbs-3.9-bioc/R/bin/R CMD INSTALL ncdfFlow ### ############################################################################## ############################################################################## * installing to library ‘/home/biocbuild/bbs-3.9-bioc/R/library’ * installing *source* package ‘ncdfFlow’ ... ** using staged installation ** libs g++ -std=gnu++11 -I"/home/biocbuild/bbs-3.9-bioc/R/include" -DNDEBUG -I"/home/biocbuild/bbs-3.9-bioc/R/library/Rcpp/include" -I"/home/biocbuild/bbs-3.9-bioc/R/library/RcppArmadillo/include" -I"/home/biocbuild/bbs-3.9-bioc/R/library/BH/include" -I"/home/biocbuild/bbs-3.9-bioc/R/library/Rhdf5lib/include" -I/usr/local/include -fpic -g -O2 -Wall -c RcppExports.cpp -o RcppExports.o g++ -std=gnu++11 -I"/home/biocbuild/bbs-3.9-bioc/R/include" -DNDEBUG -I"/home/biocbuild/bbs-3.9-bioc/R/library/Rcpp/include" -I"/home/biocbuild/bbs-3.9-bioc/R/library/RcppArmadillo/include" -I"/home/biocbuild/bbs-3.9-bioc/R/library/BH/include" -I"/home/biocbuild/bbs-3.9-bioc/R/library/Rhdf5lib/include" -I/usr/local/include -fpic -g -O2 -Wall -c bitOps.cpp -o bitOps.o g++ -std=gnu++11 -I"/home/biocbuild/bbs-3.9-bioc/R/include" -DNDEBUG -I"/home/biocbuild/bbs-3.9-bioc/R/library/Rcpp/include" -I"/home/biocbuild/bbs-3.9-bioc/R/library/RcppArmadillo/include" -I"/home/biocbuild/bbs-3.9-bioc/R/library/BH/include" -I"/home/biocbuild/bbs-3.9-bioc/R/library/Rhdf5lib/include" -I/usr/local/include -fpic -g -O2 -Wall -c hdfFlow.cpp -o hdfFlow.o hdfFlow.cpp: In function ‘void readSlice_cpp(hid_t, hid_t, hid_t, std::vector, unsigned int, unsigned int, double*, bool)’: hdfFlow.cpp:486:14: warning: variable ‘status’ set but not used [-Wunused-but-set-variable] herr_t status; ^~~~~~ gcc -I"/home/biocbuild/bbs-3.9-bioc/R/include" -DNDEBUG -I"/home/biocbuild/bbs-3.9-bioc/R/library/Rcpp/include" -I"/home/biocbuild/bbs-3.9-bioc/R/library/RcppArmadillo/include" -I"/home/biocbuild/bbs-3.9-bioc/R/library/BH/include" -I"/home/biocbuild/bbs-3.9-bioc/R/library/Rhdf5lib/include" -I/usr/local/include -fpic -g -O2 -Wall -c init.c -o init.o g++ -std=gnu++11 -I"/home/biocbuild/bbs-3.9-bioc/R/include" -DNDEBUG -I"/home/biocbuild/bbs-3.9-bioc/R/library/Rcpp/include" -I"/home/biocbuild/bbs-3.9-bioc/R/library/RcppArmadillo/include" -I"/home/biocbuild/bbs-3.9-bioc/R/library/BH/include" -I"/home/biocbuild/bbs-3.9-bioc/R/library/Rhdf5lib/include" -I/usr/local/include -fpic -g -O2 -Wall -c readFrame.cpp -o readFrame.o mkdir -p "/home/biocbuild/bbs-3.9-bioc/R/library/00LOCK-ncdfFlow/00new/ncdfFlow/lib" ar rs "/home/biocbuild/bbs-3.9-bioc/R/library/00LOCK-ncdfFlow/00new/ncdfFlow/lib/libncdfFlow.a" RcppExports.o bitOps.o hdfFlow.o init.o readFrame.o ar: creating /home/biocbuild/bbs-3.9-bioc/R/library/00LOCK-ncdfFlow/00new/ncdfFlow/lib/libncdfFlow.a g++ -std=gnu++11 -shared -L/home/biocbuild/bbs-3.9-bioc/R/lib -L/usr/local/lib -o ncdfFlow.so RcppExports.o bitOps.o hdfFlow.o init.o readFrame.o /home/biocbuild/bbs-3.9-bioc/R/library/Rhdf5lib/lib/libhdf5.a /home/biocbuild/bbs-3.9-bioc/R/library/Rhdf5lib/lib/libsz.a -lz -L/home/biocbuild/bbs-3.9-bioc/R/lib -lR installing to /home/biocbuild/bbs-3.9-bioc/R/library/00LOCK-ncdfFlow/00new/ncdfFlow/libs ** R ** inst ** byte-compile and prepare package for lazy loading ** help *** installing help indices ** building package indices ** installing vignettes ** testing if installed package can be loaded from temporary location ** checking absolute paths in shared objects and dynamic libraries ** testing if installed package can be loaded from final location ** testing if installed package keeps a record of temporary installation path * DONE (ncdfFlow)
ncdfFlow.Rcheck/tests/testthat.Rout
R version 3.6.1 (2019-07-05) -- "Action of the Toes"
Copyright (C) 2019 The R Foundation for Statistical Computing
Platform: x86_64-pc-linux-gnu (64-bit)
R is free software and comes with ABSOLUTELY NO WARRANTY.
You are welcome to redistribute it under certain conditions.
Type 'license()' or 'licence()' for distribution details.
R is a collaborative project with many contributors.
Type 'contributors()' for more information and
'citation()' on how to cite R or R packages in publications.
Type 'demo()' for some demos, 'help()' for on-line help, or
'help.start()' for an HTML browser interface to help.
Type 'q()' to quit R.
> library(testthat)
> library(ncdfFlow)
Loading required package: flowCore
Loading required package: RcppArmadillo
Loading required package: BH
>
> test_check("ncdfFlow")
══ testthat results ═══════════════════════════════════════════════════════════
[ OK: 402 | SKIPPED: 0 | WARNINGS: 0 | FAILED: 0 ]
Warning message:
In for (i in seq_len(n)) { :
closing unused connection 4 (/tmp/RtmpboMs3S/file6da7acb716b)
> #devtools::test("~/rglab/workspace/ncdfFlow")
> #test_file("~/rglab/workspace/ncdfFlow/inst/tests/test_ncdfFlowSet_accessor.R")
> #test_file("~/rglab/workspace/ncdfFlow/inst/tests/test_ncdfFlowList.R")
>
>
> proc.time()
user system elapsed
10.586 0.305 11.780
ncdfFlow.Rcheck/ncdfFlow-Ex.timings
| name | user | system | elapsed | |
| Indices | 1.057 | 0.045 | 1.566 | |
| as.flowSet | 0.936 | 0.012 | 0.947 | |
| clone.ncdfFlowSet | 0.289 | 0.004 | 0.612 | |
| extractFlowFrame | 0.742 | 0.036 | 0.798 | |
| ncdfFlowList-class | 0.834 | 0.044 | 0.915 | |
| ncdfFlowSet-constructor | 0.871 | 0.020 | 1.114 | |
| ncfsApply-ncdfFlowSet-method | 1.066 | 0.012 | 1.141 | |
| rbind2-method | 1.213 | 0.024 | 1.255 | |
| read.ncdfFlowSet | 0.403 | 0.000 | 0.402 | |
| replacement-method-for-ncdfFlowSet | 0.534 | 0.044 | 0.578 | |
| save_ncfs | 0 | 0 | 0 | |
| subset-methods | 0.520 | 0.032 | 0.551 | |
| unlink-ncdfFlowSet-method | 0.557 | 0.020 | 0.577 | |