| Back to Multiple platform build/check report for BioC 3.9 |
|
This page was generated on 2019-10-16 12:08:47 -0400 (Wed, 16 Oct 2019).
| Package 1184/1741 | Hostname | OS / Arch | INSTALL | BUILD | CHECK | BUILD BIN | ||||||
| pcaExplorer 2.10.1 Federico Marini
| malbec2 | Linux (Ubuntu 18.04.2 LTS) / x86_64 | OK | OK | [ OK ] | |||||||
| tokay2 | Windows Server 2012 R2 Standard / x64 | OK | OK | OK | OK | |||||||
| celaya2 | OS X 10.11.6 El Capitan / x86_64 | OK | OK | OK | OK |
| Package: pcaExplorer |
| Version: 2.10.1 |
| Command: /home/biocbuild/bbs-3.9-bioc/R/bin/R CMD check --install=check:pcaExplorer.install-out.txt --library=/home/biocbuild/bbs-3.9-bioc/R/library --no-vignettes --timings pcaExplorer_2.10.1.tar.gz |
| StartedAt: 2019-10-16 03:48:56 -0400 (Wed, 16 Oct 2019) |
| EndedAt: 2019-10-16 03:54:35 -0400 (Wed, 16 Oct 2019) |
| EllapsedTime: 338.9 seconds |
| RetCode: 0 |
| Status: OK |
| CheckDir: pcaExplorer.Rcheck |
| Warnings: 0 |
############################################################################## ############################################################################## ### ### Running command: ### ### /home/biocbuild/bbs-3.9-bioc/R/bin/R CMD check --install=check:pcaExplorer.install-out.txt --library=/home/biocbuild/bbs-3.9-bioc/R/library --no-vignettes --timings pcaExplorer_2.10.1.tar.gz ### ############################################################################## ############################################################################## * using log directory ‘/home/biocbuild/bbs-3.9-bioc/meat/pcaExplorer.Rcheck’ * using R version 3.6.1 (2019-07-05) * using platform: x86_64-pc-linux-gnu (64-bit) * using session charset: UTF-8 * using option ‘--no-vignettes’ * checking for file ‘pcaExplorer/DESCRIPTION’ ... OK * checking extension type ... Package * this is package ‘pcaExplorer’ version ‘2.10.1’ * package encoding: UTF-8 * checking package namespace information ... OK * checking package dependencies ... OK * checking if this is a source package ... OK * checking if there is a namespace ... OK * checking for hidden files and directories ... OK * checking for portable file names ... OK * checking for sufficient/correct file permissions ... OK * checking whether package ‘pcaExplorer’ can be installed ... OK * checking installed package size ... OK * checking package directory ... OK * checking ‘build’ directory ... OK * checking DESCRIPTION meta-information ... OK * checking top-level files ... OK * checking for left-over files ... OK * checking index information ... OK * checking package subdirectories ... OK * checking R files for non-ASCII characters ... OK * checking R files for syntax errors ... OK * checking whether the package can be loaded ... OK * checking whether the package can be loaded with stated dependencies ... OK * checking whether the package can be unloaded cleanly ... OK * checking whether the namespace can be loaded with stated dependencies ... OK * checking whether the namespace can be unloaded cleanly ... OK * checking dependencies in R code ... OK * checking S3 generic/method consistency ... OK * checking replacement functions ... OK * checking foreign function calls ... OK * checking R code for possible problems ... NOTE pcaExplorer: no visible binding for '<<-' assignment to ‘pcaexplorer_env’ pcaExplorer :: no visible binding for global variable ‘airway’ pcaExplorer : : no visible binding for global variable ‘pcaexplorer_env’ Undefined global functions or variables: airway pcaexplorer_env * checking Rd files ... OK * checking Rd metadata ... OK * checking Rd cross-references ... OK * checking for missing documentation entries ... OK * checking for code/documentation mismatches ... OK * checking Rd \usage sections ... OK * checking Rd contents ... OK * checking for unstated dependencies in examples ... OK * checking files in ‘vignettes’ ... OK * checking examples ... OK * checking for unstated dependencies in ‘tests’ ... OK * checking tests ... Running ‘testthat.R’ OK * checking for unstated dependencies in vignettes ... OK * checking package vignettes in ‘inst/doc’ ... OK * checking running R code from vignettes ... SKIPPED * checking re-building of vignette outputs ... SKIPPED * checking PDF version of manual ... OK * DONE Status: 1 NOTE See ‘/home/biocbuild/bbs-3.9-bioc/meat/pcaExplorer.Rcheck/00check.log’ for details.
pcaExplorer.Rcheck/00install.out
############################################################################## ############################################################################## ### ### Running command: ### ### /home/biocbuild/bbs-3.9-bioc/R/bin/R CMD INSTALL pcaExplorer ### ############################################################################## ############################################################################## * installing to library ‘/home/biocbuild/bbs-3.9-bioc/R/library’ * installing *source* package ‘pcaExplorer’ ... ** using staged installation ** R ** inst ** byte-compile and prepare package for lazy loading ** help *** installing help indices ** building package indices ** installing vignettes ** testing if installed package can be loaded from temporary location ** testing if installed package can be loaded from final location ** testing if installed package keeps a record of temporary installation path * DONE (pcaExplorer)
pcaExplorer.Rcheck/tests/testthat.Rout
R version 3.6.1 (2019-07-05) -- "Action of the Toes"
Copyright (C) 2019 The R Foundation for Statistical Computing
Platform: x86_64-pc-linux-gnu (64-bit)
R is free software and comes with ABSOLUTELY NO WARRANTY.
You are welcome to redistribute it under certain conditions.
Type 'license()' or 'licence()' for distribution details.
R is a collaborative project with many contributors.
Type 'contributors()' for more information and
'citation()' on how to cite R or R packages in publications.
Type 'demo()' for some demos, 'help()' for on-line help, or
'help.start()' for an HTML browser interface to help.
Type 'q()' to quit R.
> library(testthat)
> library(pcaExplorer)
Welcome to pcaExplorer v2.10.1
If you use pcaExplorer in your work, please cite:
Federico Marini, Harald Binder
pcaExplorer: an R/Bioconductor package for interacting with RNA-seq principal components
biorXiv, 2018 - https://doi.org/10.1101/493551
>
> test_check("pcaExplorer")
══ testthat results ═══════════════════════════════════════════════════════════
[ OK: 17 | SKIPPED: 0 | WARNINGS: 1 | FAILED: 0 ]
>
> proc.time()
user system elapsed
77.777 0.724 78.816
pcaExplorer.Rcheck/pcaExplorer-Ex.timings
| name | user | system | elapsed | |
| correlatePCs | 3.459 | 0.020 | 3.479 | |
| distro_expr | 3.432 | 0.004 | 3.435 | |
| geneprofiler | 2.471 | 0.008 | 2.479 | |
| genespca | 3.731 | 0.008 | 3.739 | |
| get_annotation | 2.904 | 0.040 | 2.949 | |
| get_annotation_orgdb | 2.455 | 0.032 | 2.493 | |
| hi_loadings | 2.638 | 0.012 | 2.650 | |
| limmaquickpca2go | 2.459 | 0.032 | 2.491 | |
| makeExampleDESeqDataSet_multifac | 0.174 | 0.000 | 0.175 | |
| pair_corr | 1.988 | 0.032 | 2.020 | |
| pca2go | 2.295 | 0.032 | 2.328 | |
| pcaExplorer | 2.272 | 0.059 | 2.332 | |
| pcaplot | 3.418 | 0.001 | 3.418 | |
| pcaplot3d | 2.793 | 0.028 | 2.863 | |
| pcascree | 2.823 | 0.012 | 2.834 | |
| plotPCcorrs | 2.306 | 0.004 | 2.310 | |
| topGOtable | 2.315 | 0.016 | 2.331 | |