Back to Multiple platform build/check report for BioC 3.22:   simplified   long
ABCDEFGHIJKLMNOPQ[R]STUVWXYZ

This page was generated on 2025-05-09 12:04 -0400 (Fri, 09 May 2025).

HostnameOSArch (*)R versionInstalled pkgs
nebbiolo2Linux (Ubuntu 24.04.1 LTS)x86_644.5.0 (2025-04-11) -- "How About a Twenty-Six" 4749
palomino8Windows Server 2022 Datacenterx644.5.0 (2025-04-11 ucrt) -- "How About a Twenty-Six" 4510
lconwaymacOS 12.7.1 Montereyx86_644.5.0 Patched (2025-04-21 r88169) -- "How About a Twenty-Six" 4548
kjohnson3macOS 13.7.1 Venturaarm644.5.0 Patched (2025-04-21 r88169) -- "How About a Twenty-Six" 4489
taishanLinux (openEuler 24.03 LTS)aarch644.5.0 (2025-04-11) -- "How About a Twenty-Six" 4449
Click on any hostname to see more info about the system (e.g. compilers)      (*) as reported by 'uname -p', except on Windows and Mac OS X

All results for package rtracklayer


To the developers/maintainers of the rtracklayer package:
- Allow up to 24 hours (and sometimes 48 hours) for your latest push to git@git.bioconductor.org:packages/rtracklayer.git to reflect on this report. See Troubleshooting Build Report for more information.
- Use the following Renviron settings to reproduce errors and warnings.
- If 'R CMD check' started to fail recently on the Linux builder(s) over a missing dependency, add the missing dependency to 'Suggests:' in your DESCRIPTION file. See Renviron.bioc for more information.

raw results

Package 1824/2304HostnameOS / ArchINSTALLBUILDCHECKBUILD BIN
rtracklayer 1.69.0  (landing page)
Michael Lawrence
Snapshot Date: 2025-05-08 13:00 -0400 (Thu, 08 May 2025)
git_url: https://git.bioconductor.org/packages/rtracklayer
git_branch: devel
git_last_commit: a4a0093
git_last_commit_date: 2025-04-15 09:41:54 -0400 (Tue, 15 Apr 2025)
nebbiolo2Linux (Ubuntu 24.04.1 LTS) / x86_64  OK    OK    WARNINGS  UNNEEDED, same version is already published
palomino8Windows Server 2022 Datacenter / x64  OK    OK    WARNINGS    OK  UNNEEDED, same version is already published
lconwaymacOS 12.7.1 Monterey / x86_64  OK    OK    WARNINGS    OK  UNNEEDED, same version is already published
kjohnson3macOS 13.7.1 Ventura / arm64  OK    OK    WARNINGS    OK  UNNEEDED, same version is already published
taishanLinux (openEuler 24.03 LTS) / aarch64  OK    OK    WARNINGS  



Results for Bioconductor software packages that depend directly on package rtracklayer

QUICK STATSOS / ArchINSTALLBUILDCHECKBUILD BIN
nebbiolo2Linux (Ubuntu 24.04.1 LTS) / x86_64
08171
012167
0937121
palomino8Windows Server 2022 Datacenter / x64
09161
014156
0732117
00156
lconwaymacOS 12.7.1 Monterey / x86_64
08171
013166
0836122
00166
kjohnson3macOS 13.7.1 Ventura / arm64
011168
016163
01032121
00163
taishanLinux (openEuler 24.03 LTS) / aarch64
012167
527147
3212994
Package 1/179HostnameOS / ArchINSTALLBUILDCHECKBUILD BIN
AnnotationHubData 1.39.1  (landing page)
Bioconductor Package Maintainer
git_last_commit: 431b17b
git_last_commit_date: 2025-04-21 13:01:12 -0400
nebbiolo2Linux (Ubuntu 24.04.1 LTS) / x86_64  OK    OK    WARNINGS  UNNEEDED, same version is already published
palomino8Windows Server 2022 Datacenter / x64  OK    OK    WARNINGS    OK  UNNEEDED, same version is already published
lconwaymacOS 12.7.1 Monterey / x86_64  OK    OK    WARNINGS    OK  UNNEEDED, same version is already published
kjohnson3macOS 13.7.1 Ventura / arm64  OK    OK    WARNINGS    OK  UNNEEDED, same version is already published
taishanLinux (openEuler 24.03 LTS) / aarch64  OK    OK    WARNINGS  
Package 2/179HostnameOS / ArchINSTALLBUILDCHECKBUILD BIN
annotatr 1.35.0  (landing page)
Raymond G. Cavalcante
git_last_commit: bc9860d
git_last_commit_date: 2025-04-15 11:06:31 -0400
nebbiolo2Linux (Ubuntu 24.04.1 LTS) / x86_64  OK    OK    OK  NO, package depends on 'regioneR' which is not available
palomino8Windows Server 2022 Datacenter / x64  OK    OK    OK    OK  NO, package depends on 'regioneR' which is not available
lconwaymacOS 12.7.1 Monterey / x86_64  OK    OK    OK    OK  NO, package depends on 'regioneR' which is not available
kjohnson3macOS 13.7.1 Ventura / arm64  OK    OK    OK    OK  NO, package depends on 'regioneR' which is not available
taishanLinux (openEuler 24.03 LTS) / aarch64  OK    OK    OK  
Package 3/179HostnameOS / ArchINSTALLBUILDCHECKBUILD BIN
APAlyzer 1.23.0  (landing page)
Ruijia Wang
git_last_commit: 1bff29d
git_last_commit_date: 2025-04-15 11:48:46 -0400
nebbiolo2Linux (Ubuntu 24.04.1 LTS) / x86_64  OK    OK    WARNINGS  UNNEEDED, same version is already published
palomino8Windows Server 2022 Datacenter / x64  OK    OK    WARNINGS    OK  UNNEEDED, same version is already published
lconwaymacOS 12.7.1 Monterey / x86_64  OK    OK    WARNINGS    OK  UNNEEDED, same version is already published
kjohnson3macOS 13.7.1 Ventura / arm64  OK    OK    WARNINGS    OK  UNNEEDED, same version is already published
taishanLinux (openEuler 24.03 LTS) / aarch64  OK    OK    ERROR  
Package 4/179HostnameOS / ArchINSTALLBUILDCHECKBUILD BIN
ATACseqQC 1.33.1  (landing page)
Jianhong Ou
git_last_commit: 3e4fc42
git_last_commit_date: 2025-05-05 09:53:40 -0400
nebbiolo2Linux (Ubuntu 24.04.1 LTS) / x86_64  OK    OK    OK  NO, package depends on 'ChIPpeakAnno' which is not available
palomino8Windows Server 2022 Datacenter / x64  OK    OK    OK    OK  NO, package depends on 'ChIPpeakAnno' which is not available
lconwaymacOS 12.7.1 Monterey / x86_64  OK    OK    OK    OK  NO, package depends on 'ChIPpeakAnno' which is not available
kjohnson3macOS 13.7.1 Ventura / arm64  OK    OK    OK    OK  NO, package depends on 'ChIPpeakAnno' which is not available
taishanLinux (openEuler 24.03 LTS) / aarch64  OK    ERROR  skipped
Package 5/179HostnameOS / ArchINSTALLBUILDCHECKBUILD BIN
ATACseqTFEA 1.11.0  (landing page)
Jianhong Ou
git_last_commit: fb33642
git_last_commit_date: 2025-04-15 12:54:51 -0400
nebbiolo2Linux (Ubuntu 24.04.1 LTS) / x86_64  OK    OK    OK  UNNEEDED, same version is already published
palomino8Windows Server 2022 Datacenter / x64  OK    OK    OK    OK  UNNEEDED, same version is already published
lconwaymacOS 12.7.1 Monterey / x86_64  OK    OK    OK    OK  UNNEEDED, same version is already published
kjohnson3macOS 13.7.1 Ventura / arm64  OK    OK    OK    OK  UNNEEDED, same version is already published
taishanLinux (openEuler 24.03 LTS) / aarch64  OK    OK    OK  
Package 6/179HostnameOS / ArchINSTALLBUILDCHECKBUILD BIN
ballgown 2.41.0  (landing page)
Jack Fu
git_last_commit: 7ad0d69
git_last_commit_date: 2025-04-15 10:32:48 -0400
nebbiolo2Linux (Ubuntu 24.04.1 LTS) / x86_64  OK    OK    OK  UNNEEDED, same version is already published
palomino8Windows Server 2022 Datacenter / x64  OK    OK    OK    OK  UNNEEDED, same version is already published
lconwaymacOS 12.7.1 Monterey / x86_64  OK    OK    OK    OK  UNNEEDED, same version is already published
kjohnson3macOS 13.7.1 Ventura / arm64  OK    OK    OK    OK  UNNEEDED, same version is already published
taishanLinux (openEuler 24.03 LTS) / aarch64  OK    OK    OK  
Package 7/179HostnameOS / ArchINSTALLBUILDCHECKBUILD BIN
bedbaser 1.1.0  (landing page)
Andres Wokaty
git_last_commit: d5a2c6a
git_last_commit_date: 2025-04-15 13:47:37 -0400
nebbiolo2Linux (Ubuntu 24.04.1 LTS) / x86_64  OK    ERROR  skipped
palomino8Windows Server 2022 Datacenter / x64  OK    ERROR  skippedskipped
lconwaymacOS 12.7.1 Monterey / x86_64  OK    ERROR  skippedskipped
kjohnson3macOS 13.7.1 Ventura / arm64  OK    ERROR  skippedskipped
taishanLinux (openEuler 24.03 LTS) / aarch64  OK    ERROR  skipped
Package 8/179HostnameOS / ArchINSTALLBUILDCHECKBUILD BIN
BgeeCall 1.25.0  (landing page)
Julien Wollbrett
git_last_commit: a9b1373
git_last_commit_date: 2025-04-15 11:53:29 -0400
nebbiolo2Linux (Ubuntu 24.04.1 LTS) / x86_64  OK    OK    ERROR  
palomino8Windows Server 2022 Datacenter / x64  OK    OK    OK    OK  UNNEEDED, same version is already published
lconwaymacOS 12.7.1 Monterey / x86_64  OK    OK    OK    OK  UNNEEDED, same version is already published
kjohnson3macOS 13.7.1 Ventura / arm64  OK    OK    OK    OK  UNNEEDED, same version is already published
taishanLinux (openEuler 24.03 LTS) / aarch64  OK    OK    TIMEOUT  
Package 9/179HostnameOS / ArchINSTALLBUILDCHECKBUILD BIN
BindingSiteFinder 2.7.0  (landing page)
Mirko Brüggemann
git_last_commit: 75d593f
git_last_commit_date: 2025-04-15 12:35:25 -0400
nebbiolo2Linux (Ubuntu 24.04.1 LTS) / x86_64  OK    OK    OK  UNNEEDED, same version is already published
palomino8Windows Server 2022 Datacenter / x64  OK    OK    OK    OK  UNNEEDED, same version is already published
lconwaymacOS 12.7.1 Monterey / x86_64  OK    OK    OK    OK  UNNEEDED, same version is already published
kjohnson3macOS 13.7.1 Ventura / arm64  OK    OK    OK    OK  UNNEEDED, same version is already published
taishanLinux (openEuler 24.03 LTS) / aarch64  OK    OK    TIMEOUT  
Package 10/179HostnameOS / ArchINSTALLBUILDCHECKBUILD BIN
biscuiteer 1.23.0  (landing page)
Jacob Morrison
git_last_commit: 700b6be
git_last_commit_date: 2025-04-15 11:51:53 -0400
nebbiolo2Linux (Ubuntu 24.04.1 LTS) / x86_64  OK    OK    WARNINGS  NO, package depends on 'dmrseq' which is not available
palomino8Windows Server 2022 Datacenter / x64  OK    OK    WARNINGS    OK  NO, package depends on 'dmrseq' which is not available
lconwaymacOS 12.7.1 Monterey / x86_64  OK    OK    WARNINGS    OK  NO, package depends on 'dmrseq' which is not available
kjohnson3macOS 13.7.1 Ventura / arm64  OK    OK    WARNINGS    OK  NO, package depends on 'bsseq' which is only available as a source package that needs compilation
taishanLinux (openEuler 24.03 LTS) / aarch64  OK    OK    WARNINGS  
Package 11/179HostnameOS / ArchINSTALLBUILDCHECKBUILD BIN
BiSeq 1.49.0  (landing page)
Katja Hebestreit
git_last_commit: 5bc655b
git_last_commit_date: 2025-04-15 10:24:01 -0400
nebbiolo2Linux (Ubuntu 24.04.1 LTS) / x86_64  OK    OK    OK  UNNEEDED, same version is already published
palomino8Windows Server 2022 Datacenter / x64  OK    OK    OK    OK  UNNEEDED, same version is already published
lconwaymacOS 12.7.1 Monterey / x86_64  OK    OK    OK    OK  UNNEEDED, same version is already published
kjohnson3macOS 13.7.1 Ventura / arm64  OK    OK    OK    OK  UNNEEDED, same version is already published
taishanLinux (openEuler 24.03 LTS) / aarch64  OK    OK    WARNINGS  
Package 12/179HostnameOS / ArchINSTALLBUILDCHECKBUILD BIN
branchpointer 1.35.0  (landing page)
Beth Signal
git_last_commit: dedb6d2
git_last_commit_date: 2025-04-15 11:09:22 -0400
nebbiolo2Linux (Ubuntu 24.04.1 LTS) / x86_64  OK    OK    OK  UNNEEDED, same version is already published
palomino8Windows Server 2022 Datacenter / x64  OK    OK    OK    OK  UNNEEDED, same version is already published
lconwaymacOS 12.7.1 Monterey / x86_64  OK    OK    OK    OK  UNNEEDED, same version is already published
kjohnson3macOS 13.7.1 Ventura / arm64  OK    OK    OK    OK  UNNEEDED, same version is already published
taishanLinux (openEuler 24.03 LTS) / aarch64  OK    OK    OK  
Package 13/179HostnameOS / ArchINSTALLBUILDCHECKBUILD BIN
BSgenome 1.77.0  (landing page)
Hervé Pagès
git_last_commit: 3f6749f
git_last_commit_date: 2025-04-15 09:38:32 -0400
nebbiolo2Linux (Ubuntu 24.04.1 LTS) / x86_64  OK    OK    WARNINGS  UNNEEDED, same version is already published
palomino8Windows Server 2022 Datacenter / x64  OK    OK    WARNINGS    OK  UNNEEDED, same version is already published
lconwaymacOS 12.7.1 Monterey / x86_64  OK    OK    WARNINGS    OK  UNNEEDED, same version is already published
kjohnson3macOS 13.7.1 Ventura / arm64  OK    OK    WARNINGS    OK  UNNEEDED, same version is already published
taishanLinux (openEuler 24.03 LTS) / aarch64  OK    OK    ERROR  
Package 14/179HostnameOS / ArchINSTALLBUILDCHECKBUILD BIN
BSgenomeForge 1.9.0  (landing page)
Hervé Pagès
git_last_commit: 9fa80af
git_last_commit_date: 2025-04-15 13:12:49 -0400
nebbiolo2Linux (Ubuntu 24.04.1 LTS) / x86_64  OK    OK    OK  UNNEEDED, same version is already published
palomino8Windows Server 2022 Datacenter / x64  OK    OK    ERROR    OK  
lconwaymacOS 12.7.1 Monterey / x86_64  OK    OK    OK    OK  UNNEEDED, same version is already published
kjohnson3macOS 13.7.1 Ventura / arm64  OK    OK    OK    OK  UNNEEDED, same version is already published
taishanLinux (openEuler 24.03 LTS) / aarch64  OK    OK    OK  
Package 15/179HostnameOS / ArchINSTALLBUILDCHECKBUILD BIN
CAGEfightR 1.29.0  (landing page)
Malte Thodberg
git_last_commit: 95883fd
git_last_commit_date: 2025-04-15 11:33:34 -0400
nebbiolo2Linux (Ubuntu 24.04.1 LTS) / x86_64  OK    OK    OK  UNNEEDED, same version is already published
palomino8Windows Server 2022 Datacenter / x64  OK    OK    OK    OK  UNNEEDED, same version is already published
lconwaymacOS 12.7.1 Monterey / x86_64  OK    OK    OK    OK  UNNEEDED, same version is already published
kjohnson3macOS 13.7.1 Ventura / arm64  OK    OK    OK    OK  UNNEEDED, same version is already published
taishanLinux (openEuler 24.03 LTS) / aarch64  OK    OK    OK  
Package 16/179HostnameOS / ArchINSTALLBUILDCHECKBUILD BIN
CAGEr 2.15.0  (landing page)
Charles Plessy
git_last_commit: 8e51229
git_last_commit_date: 2025-04-15 10:18:00 -0400
nebbiolo2Linux (Ubuntu 24.04.1 LTS) / x86_64  OK    OK    OK  UNNEEDED, same version is already published
palomino8Windows Server 2022 Datacenter / x64  OK    OK    OK    OK  UNNEEDED, same version is already published
lconwaymacOS 12.7.1 Monterey / x86_64  OK    OK    OK    OK  UNNEEDED, same version is already published
kjohnson3macOS 13.7.1 Ventura / arm64  OK    OK    OK    OK  UNNEEDED, same version is already published
taishanLinux (openEuler 24.03 LTS) / aarch64  OK    OK    ERROR  
Package 17/179HostnameOS / ArchINSTALLBUILDCHECKBUILD BIN
casper 2.43.0  (landing page)
David Rossell
git_last_commit: 6f4a837
git_last_commit_date: 2025-04-15 10:17:22 -0400
nebbiolo2Linux (Ubuntu 24.04.1 LTS) / x86_64  OK    OK    WARNINGS  UNNEEDED, same version is already published
palomino8Windows Server 2022 Datacenter / x64  OK    OK    WARNINGS    OK  UNNEEDED, same version is already published
lconwaymacOS 12.7.1 Monterey / x86_64  OK    ERROR  skippedskipped
kjohnson3macOS 13.7.1 Ventura / arm64  OK    ERROR  skippedskipped
taishanLinux (openEuler 24.03 LTS) / aarch64  OK    OK    WARNINGS  
Package 18/179HostnameOS / ArchINSTALLBUILDCHECKBUILD BIN
CexoR 1.47.0  (landing page)
Pedro Madrigal
git_last_commit: 1dfe0ef
git_last_commit_date: 2025-04-15 12:39:45 -0400
nebbiolo2Linux (Ubuntu 24.04.1 LTS) / x86_64  OK    OK    OK  UNNEEDED, same version is already published
palomino8Windows Server 2022 Datacenter / x64  OK    OK    OK    OK  UNNEEDED, same version is already published
lconwaymacOS 12.7.1 Monterey / x86_64  OK    OK    OK    OK  UNNEEDED, same version is already published
kjohnson3macOS 13.7.1 Ventura / arm64  OK    OK    OK    OK  UNNEEDED, same version is already published
taishanLinux (openEuler 24.03 LTS) / aarch64  OK    OK    OK  
Package 19/179HostnameOS / ArchINSTALLBUILDCHECKBUILD BIN
ChIPanalyser 1.31.0  (landing page)
Patrick C.N. Martin
git_last_commit: 8054212
git_last_commit_date: 2025-04-15 11:13:58 -0400
nebbiolo2Linux (Ubuntu 24.04.1 LTS) / x86_64  OK    OK    OK  UNNEEDED, same version is already published
palomino8Windows Server 2022 Datacenter / x64  OK    OK    OK    OK  UNNEEDED, same version is already published
lconwaymacOS 12.7.1 Monterey / x86_64  OK    OK    OK    OK  UNNEEDED, same version is already published
kjohnson3macOS 13.7.1 Ventura / arm64  OK    OK    OK    OK  UNNEEDED, same version is already published
taishanLinux (openEuler 24.03 LTS) / aarch64  OK    OK    OK  
Package 20/179HostnameOS / ArchINSTALLBUILDCHECKBUILD BIN
ChIPComp 1.39.0  (landing page)
Li Chen
git_last_commit: ded52d4
git_last_commit_date: 2025-04-15 10:52:52 -0400
nebbiolo2Linux (Ubuntu 24.04.1 LTS) / x86_64  OK    OK    OK  UNNEEDED, same version is already published
palomino8Windows Server 2022 Datacenter / x64  OK    OK    OK    OK  UNNEEDED, same version is already published
lconwaymacOS 12.7.1 Monterey / x86_64  OK    OK    OK    OK  UNNEEDED, same version is already published
kjohnson3macOS 13.7.1 Ventura / arm64  OK    OK    OK    OK  UNNEEDED, same version is already published
taishanLinux (openEuler 24.03 LTS) / aarch64  OK    OK    OK  
Package 21/179HostnameOS / ArchINSTALLBUILDCHECKBUILD BIN
chipenrich 2.33.0  (landing page)
Kai Wang
git_last_commit: a63695d
git_last_commit_date: 2025-04-15 10:26:18 -0400
nebbiolo2Linux (Ubuntu 24.04.1 LTS) / x86_64  OK    OK    OK  UNNEEDED, same version is already published
palomino8Windows Server 2022 Datacenter / x64  OK    OK    OK    OK  UNNEEDED, same version is already published
lconwaymacOS 12.7.1 Monterey / x86_64  OK    OK    OK    OK  UNNEEDED, same version is already published
kjohnson3macOS 13.7.1 Ventura / arm64  OK    OK    OK    OK  UNNEEDED, same version is already published
taishanLinux (openEuler 24.03 LTS) / aarch64  OK    OK    OK  
Package 22/179HostnameOS / ArchINSTALLBUILDCHECKBUILD BIN
ChIPpeakAnno 3.43.0  (landing page)
Jianhong Ou
git_last_commit: de64a04
git_last_commit_date: 2025-04-15 09:45:26 -0400
nebbiolo2Linux (Ubuntu 24.04.1 LTS) / x86_64  OK    OK    OK  NO, package depends on 'regioneR' which is not available
palomino8Windows Server 2022 Datacenter / x64  OK    OK    OK    OK  NO, package depends on 'regioneR' which is not available
lconwaymacOS 12.7.1 Monterey / x86_64  OK    OK    OK    OK  NO, package depends on 'regioneR' which is not available
kjohnson3macOS 13.7.1 Ventura / arm64  OK    OK    OK    OK  NO, package depends on 'regioneR' which is not available
taishanLinux (openEuler 24.03 LTS) / aarch64  OK    OK    OK  
Package 23/179HostnameOS / ArchINSTALLBUILDCHECKBUILD BIN
ChIPseeker 1.45.0  (landing page)
Guangchuang Yu
git_last_commit: 3fa2bfb
git_last_commit_date: 2025-04-15 10:31:07 -0400
nebbiolo2Linux (Ubuntu 24.04.1 LTS) / x86_64  OK    OK    OK  UNNEEDED, same version is already published
palomino8Windows Server 2022 Datacenter / x64  OK    OK    OK    OK  UNNEEDED, same version is already published
lconwaymacOS 12.7.1 Monterey / x86_64  OK    OK    OK    OK  UNNEEDED, same version is already published
kjohnson3macOS 13.7.1 Ventura / arm64  OK    OK    OK    OK  UNNEEDED, same version is already published
taishanLinux (openEuler 24.03 LTS) / aarch64  OK    OK    OK  
Package 24/179HostnameOS / ArchINSTALLBUILDCHECKBUILD BIN
ChromHeatMap 1.63.0  (landing page)
Tim F. Rayner
git_last_commit: ec39bbd
git_last_commit_date: 2025-04-15 09:46:06 -0400
nebbiolo2Linux (Ubuntu 24.04.1 LTS) / x86_64  OK    OK    OK  UNNEEDED, same version is already published
palomino8Windows Server 2022 Datacenter / x64  OK    OK    OK    OK  UNNEEDED, same version is already published
lconwaymacOS 12.7.1 Monterey / x86_64  OK    OK    OK    OK  UNNEEDED, same version is already published
kjohnson3macOS 13.7.1 Ventura / arm64  OK    OK    OK    OK  UNNEEDED, same version is already published
taishanLinux (openEuler 24.03 LTS) / aarch64  OK    OK    OK  
Package 25/179HostnameOS / ArchINSTALLBUILDCHECKBUILD BIN
ChromSCape 1.19.0  (landing page)
Pacome Prompsy
git_last_commit: 76b4b21
git_last_commit_date: 2025-04-15 12:10:31 -0400
nebbiolo2Linux (Ubuntu 24.04.1 LTS) / x86_64  OK    OK    ERROR  
palomino8Windows Server 2022 Datacenter / x64  OK    OK    ERROR    OK  
lconwaymacOS 12.7.1 Monterey / x86_64  OK    OK    ERROR    OK  
kjohnson3macOS 13.7.1 Ventura / arm64  OK    OK    ERROR    OK  
taishanLinux (openEuler 24.03 LTS) / aarch64  OK    OK    ERROR  
Package 26/179HostnameOS / ArchINSTALLBUILDCHECKBUILD BIN
circRNAprofiler 1.23.1  (landing page)
Simona Aufiero
git_last_commit: 0e1b534
git_last_commit_date: 2025-05-06 12:30:34 -0400
nebbiolo2Linux (Ubuntu 24.04.1 LTS) / x86_64  OK    OK    OK  UNNEEDED, same version is already published
palomino8Windows Server 2022 Datacenter / x64  ERROR    ERROR  skippedskipped
lconwaymacOS 12.7.1 Monterey / x86_64  OK    OK    OK    OK  UNNEEDED, same version is already published
kjohnson3macOS 13.7.1 Ventura / arm64  OK    OK    OK    OK  UNNEEDED, same version is already published
taishanLinux (openEuler 24.03 LTS) / aarch64  OK    OK    ERROR  
Package 27/179HostnameOS / ArchINSTALLBUILDCHECKBUILD BIN
cliProfiler 1.15.0  (landing page)
You Zhou
git_last_commit: 7e1f37b
git_last_commit_date: 2025-04-15 12:40:26 -0400
nebbiolo2Linux (Ubuntu 24.04.1 LTS) / x86_64  OK    OK    OK  UNNEEDED, same version is already published
palomino8Windows Server 2022 Datacenter / x64  OK    OK    OK    OK  UNNEEDED, same version is already published
lconwaymacOS 12.7.1 Monterey / x86_64  OK    OK    OK    OK  UNNEEDED, same version is already published
kjohnson3macOS 13.7.1 Ventura / arm64  OK    OK    OK    OK  UNNEEDED, same version is already published
taishanLinux (openEuler 24.03 LTS) / aarch64  OK    ERROR  skipped
Package 28/179HostnameOS / ArchINSTALLBUILDCHECKBUILD BIN
CNEr 1.45.0  (landing page)
Ge Tan
git_last_commit: 0622fa1
git_last_commit_date: 2025-04-15 10:28:43 -0400
nebbiolo2Linux (Ubuntu 24.04.1 LTS) / x86_64  ERROR    ERROR  skipped
palomino8Windows Server 2022 Datacenter / x64  ERROR    ERROR  skippedskipped
lconwaymacOS 12.7.1 Monterey / x86_64  OK    OK    WARNINGS    OK  UNNEEDED, same version is already published
kjohnson3macOS 13.7.1 Ventura / arm64  ERROR    ERROR  skippedskipped
taishanLinux (openEuler 24.03 LTS) / aarch64  ERROR    ERROR  skipped
Package 29/179HostnameOS / ArchINSTALLBUILDCHECKBUILD BIN
consensusSeekeR 1.37.0  (landing page)
Astrid Deschênes
git_last_commit: 4bcec3d
git_last_commit_date: 2025-04-15 10:56:31 -0400
nebbiolo2Linux (Ubuntu 24.04.1 LTS) / x86_64  OK    OK    OK  UNNEEDED, same version is already published
palomino8Windows Server 2022 Datacenter / x64  OK    OK    OK    OK  UNNEEDED, same version is already published
lconwaymacOS 12.7.1 Monterey / x86_64  OK    OK    OK    OK  UNNEEDED, same version is already published
kjohnson3macOS 13.7.1 Ventura / arm64  OK    OK    OK    OK  UNNEEDED, same version is already published
taishanLinux (openEuler 24.03 LTS) / aarch64  OK    OK    OK  
Package 30/179HostnameOS / ArchINSTALLBUILDCHECKBUILD BIN
conumee 1.43.0  (landing page)
Volker Hovestadt
git_last_commit: 748b185
git_last_commit_date: 2025-04-15 10:50:20 -0400
nebbiolo2Linux (Ubuntu 24.04.1 LTS) / x86_64  OK    OK    OK  UNNEEDED, same version is already published
palomino8Windows Server 2022 Datacenter / x64... NOT SUPPORTED ...
lconwaymacOS 12.7.1 Monterey / x86_64  OK    OK    OK    OK  UNNEEDED, same version is already published
kjohnson3macOS 13.7.1 Ventura / arm64  OK    OK    OK    OK  UNNEEDED, same version is already published
taishanLinux (openEuler 24.03 LTS) / aarch64  OK    OK    OK  
Package 31/179HostnameOS / ArchINSTALLBUILDCHECKBUILD BIN
CoverageView 1.47.0  (landing page)
Ernesto Lowy
git_last_commit: d613dda
git_last_commit_date: 2025-04-15 10:30:35 -0400
nebbiolo2Linux (Ubuntu 24.04.1 LTS) / x86_64  OK    OK    WARNINGS  UNNEEDED, same version is already published
palomino8Windows Server 2022 Datacenter / x64... NOT SUPPORTED ...
lconwaymacOS 12.7.1 Monterey / x86_64  OK    OK    WARNINGS    OK  UNNEEDED, same version is already published
kjohnson3macOS 13.7.1 Ventura / arm64  OK    OK    WARNINGS    OK  UNNEEDED, same version is already published
taishanLinux (openEuler 24.03 LTS) / aarch64  OK    OK    WARNINGS  
Package 32/179HostnameOS / ArchINSTALLBUILDCHECKBUILD BIN
crisprDesign 1.11.0  (landing page)
Jean-Philippe Fortin
git_last_commit: a53dfdb
git_last_commit_date: 2025-04-15 12:53:58 -0400
nebbiolo2Linux (Ubuntu 24.04.1 LTS) / x86_64  OK    OK    OK  UNNEEDED, same version is already published
palomino8Windows Server 2022 Datacenter / x64  OK    OK    OK    OK  UNNEEDED, same version is already published
lconwaymacOS 12.7.1 Monterey / x86_64  OK    OK    OK    OK  UNNEEDED, same version is already published
kjohnson3macOS 13.7.1 Ventura / arm64  OK    OK    OK    OK  UNNEEDED, same version is already published
taishanLinux (openEuler 24.03 LTS) / aarch64  OK    OK    ERROR  
Package 33/179HostnameOS / ArchINSTALLBUILDCHECKBUILD BIN
crupR 1.1.0  (landing page)
Persia Akbari Omgba
git_last_commit: 789187e
git_last_commit_date: 2025-04-15 13:52:56 -0400
nebbiolo2Linux (Ubuntu 24.04.1 LTS) / x86_64  ERROR    ERROR  skipped
palomino8Windows Server 2022 Datacenter / x64  ERROR    ERROR  skippedskipped
lconwaymacOS 12.7.1 Monterey / x86_64  ERROR    ERROR  skippedskipped
kjohnson3macOS 13.7.1 Ventura / arm64  ERROR    ERROR  skippedskipped
taishanLinux (openEuler 24.03 LTS) / aarch64  ERROR    ERROR  skipped
Package 34/179HostnameOS / ArchINSTALLBUILDCHECKBUILD BIN
CSSQ 1.21.0  (landing page)
Fan Lab at Georgia Institute of Technology
git_last_commit: 2b891b4
git_last_commit_date: 2025-04-15 11:53:04 -0400
nebbiolo2Linux (Ubuntu 24.04.1 LTS) / x86_64  OK    OK    OK  UNNEEDED, same version is already published
palomino8Windows Server 2022 Datacenter / x64  OK    OK    OK    OK  UNNEEDED, same version is already published
lconwaymacOS 12.7.1 Monterey / x86_64  OK    OK    OK    OK  UNNEEDED, same version is already published
kjohnson3macOS 13.7.1 Ventura / arm64  OK    OK    OK    OK  UNNEEDED, same version is already published
taishanLinux (openEuler 24.03 LTS) / aarch64  OK    OK    OK  
Package 35/179HostnameOS / ArchINSTALLBUILDCHECKBUILD BIN
cummeRbund 2.51.0  (landing page)
Loyal A. Goff
git_last_commit: b8ee61a
git_last_commit_date: 2025-04-15 10:10:47 -0400
nebbiolo2Linux (Ubuntu 24.04.1 LTS) / x86_64  OK    OK    WARNINGS  UNNEEDED, same version is already published
palomino8Windows Server 2022 Datacenter / x64  OK    OK    WARNINGS    OK  UNNEEDED, same version is already published
lconwaymacOS 12.7.1 Monterey / x86_64  OK    OK    WARNINGS    OK  UNNEEDED, same version is already published
kjohnson3macOS 13.7.1 Ventura / arm64  OK    OK    WARNINGS    OK  UNNEEDED, same version is already published
taishanLinux (openEuler 24.03 LTS) / aarch64  OK    OK    WARNINGS  
Package 36/179HostnameOS / ArchINSTALLBUILDCHECKBUILD BIN
customProDB 1.49.0  (landing page)
Xiaojing Wang
git_last_commit: 2d2db50
git_last_commit_date: 2025-04-15 10:24:39 -0400
nebbiolo2Linux (Ubuntu 24.04.1 LTS) / x86_64  OK    OK    WARNINGS  UNNEEDED, same version is already published
palomino8Windows Server 2022 Datacenter / x64  OK    OK    WARNINGS    OK  UNNEEDED, same version is already published
lconwaymacOS 12.7.1 Monterey / x86_64  OK    OK    WARNINGS    OK  UNNEEDED, same version is already published
kjohnson3macOS 13.7.1 Ventura / arm64  OK    OK    WARNINGS    OK  UNNEEDED, same version is already published
taishanLinux (openEuler 24.03 LTS) / aarch64  OK    OK    WARNINGS  
Package 37/179HostnameOS / ArchINSTALLBUILDCHECKBUILD BIN
derfinder 1.43.0  (landing page)
Leonardo Collado-Torres
git_last_commit: 707dd36
git_last_commit_date: 2025-04-15 10:34:38 -0400
nebbiolo2Linux (Ubuntu 24.04.1 LTS) / x86_64  OK    OK    OK  UNNEEDED, same version is already published
palomino8Windows Server 2022 Datacenter / x64  OK    OK    OK    OK  UNNEEDED, same version is already published
lconwaymacOS 12.7.1 Monterey / x86_64  OK    OK    OK    OK  UNNEEDED, same version is already published
kjohnson3macOS 13.7.1 Ventura / arm64  OK    OK    OK    OK  UNNEEDED, same version is already published
taishanLinux (openEuler 24.03 LTS) / aarch64  OK    OK    OK  
Package 38/179HostnameOS / ArchINSTALLBUILDCHECKBUILD BIN
DEScan2 1.29.0  (landing page)
Dario Righelli
git_last_commit: 3d15d5c
git_last_commit_date: 2025-04-15 11:19:23 -0400
nebbiolo2Linux (Ubuntu 24.04.1 LTS) / x86_64  OK    OK    WARNINGS  NO, package depends on 'ChIPpeakAnno' which is not available
palomino8Windows Server 2022 Datacenter / x64  OK    OK    WARNINGS    OK  NO, package depends on 'ChIPpeakAnno' which is not available
lconwaymacOS 12.7.1 Monterey / x86_64  OK    OK    WARNINGS    OK  NO, package depends on 'ChIPpeakAnno' which is not available
kjohnson3macOS 13.7.1 Ventura / arm64  OK    OK    WARNINGS    OK  NO, package depends on 'ChIPpeakAnno' which is not available
taishanLinux (openEuler 24.03 LTS) / aarch64  OK    OK    WARNINGS  
Package 39/179HostnameOS / ArchINSTALLBUILDCHECKBUILD BIN
diffHic 1.41.0  (landing page)
Aaron Lun , Gordon Smyth , Hannah Coughlin
git_last_commit: 4516407
git_last_commit_date: 2025-04-15 10:50:41 -0400
nebbiolo2Linux (Ubuntu 24.04.1 LTS) / x86_64  OK    OK    OK  UNNEEDED, same version is already published
palomino8Windows Server 2022 Datacenter / x64  OK    OK    OK    OK  UNNEEDED, same version is already published
lconwaymacOS 12.7.1 Monterey / x86_64  OK    OK    OK    OK  UNNEEDED, same version is already published
kjohnson3macOS 13.7.1 Ventura / arm64  OK    OK    OK    OK  UNNEEDED, same version is already published
taishanLinux (openEuler 24.03 LTS) / aarch64  OK    OK    OK  
Package 40/179HostnameOS / ArchINSTALLBUILDCHECKBUILD BIN
diffUTR 1.17.0  (landing page)
Pierre-Luc Germain
git_last_commit: 6ce8365
git_last_commit_date: 2025-04-15 12:30:16 -0400
nebbiolo2Linux (Ubuntu 24.04.1 LTS) / x86_64  OK    OK    OK  UNNEEDED, same version is already published
palomino8Windows Server 2022 Datacenter / x64  OK    OK    OK    OK  UNNEEDED, same version is already published
lconwaymacOS 12.7.1 Monterey / x86_64  OK    OK    OK    OK  UNNEEDED, same version is already published
kjohnson3macOS 13.7.1 Ventura / arm64  OK    OK    OK    OK  UNNEEDED, same version is already published
taishanLinux (openEuler 24.03 LTS) / aarch64  OK    OK    OK  
Package 41/179HostnameOS / ArchINSTALLBUILDCHECKBUILD BIN
DMCFB 1.23.0  (landing page)
Farhad Shokoohi
git_last_commit: 733aae6
git_last_commit_date: 2025-04-15 11:51:00 -0400
nebbiolo2Linux (Ubuntu 24.04.1 LTS) / x86_64  OK    OK    OK  UNNEEDED, same version is already published
palomino8Windows Server 2022 Datacenter / x64  OK    OK    OK    OK  UNNEEDED, same version is already published
lconwaymacOS 12.7.1 Monterey / x86_64  OK    OK    OK    OK  UNNEEDED, same version is already published
kjohnson3macOS 13.7.1 Ventura / arm64  OK    OK    OK    OK  UNNEEDED, same version is already published
taishanLinux (openEuler 24.03 LTS) / aarch64  OK    OK    OK  
Package 42/179HostnameOS / ArchINSTALLBUILDCHECKBUILD BIN
DMCHMM 1.31.0  (landing page)
Farhad Shokoohi
git_last_commit: 0b5ee5c
git_last_commit_date: 2025-04-15 11:13:46 -0400
nebbiolo2Linux (Ubuntu 24.04.1 LTS) / x86_64  OK    OK    OK  UNNEEDED, same version is already published
palomino8Windows Server 2022 Datacenter / x64  OK    OK    WARNINGS    OK  UNNEEDED, same version is already published
lconwaymacOS 12.7.1 Monterey / x86_64  OK    OK    OK    OK  UNNEEDED, same version is already published
kjohnson3macOS 13.7.1 Ventura / arm64  OK    OK    OK    OK  UNNEEDED, same version is already published
taishanLinux (openEuler 24.03 LTS) / aarch64  OK    OK    OK  
Package 43/179HostnameOS / ArchINSTALLBUILDCHECKBUILD BIN
dmrseq 1.29.0  (landing page)
Keegan Korthauer
git_last_commit: a075f72
git_last_commit_date: 2025-04-15 11:18:21 -0400
nebbiolo2Linux (Ubuntu 24.04.1 LTS) / x86_64  OK    OK    OK  NO, package depends on 'annotatr' which is not available
palomino8Windows Server 2022 Datacenter / x64  OK    OK    OK    OK  NO, package depends on 'annotatr' which is not available
lconwaymacOS 12.7.1 Monterey / x86_64  OK    OK    OK    OK  NO, package depends on 'annotatr' which is not available
kjohnson3macOS 13.7.1 Ventura / arm64  OK    OK    OK    OK  NO, package depends on 'bsseq' which is only available as a source package that needs compilation
taishanLinux (openEuler 24.03 LTS) / aarch64  OK    TIMEOUT  skipped
Package 44/179HostnameOS / ArchINSTALLBUILDCHECKBUILD BIN
DuplexDiscovereR 1.3.0  (landing page)
Egor Semenchenko
git_last_commit: 6b6acf4
git_last_commit_date: 2025-04-15 13:42:20 -0400
nebbiolo2Linux (Ubuntu 24.04.1 LTS) / x86_64  OK    OK    OK  UNNEEDED, same version is already published
palomino8Windows Server 2022 Datacenter / x64  OK    OK    OK    OK  UNNEEDED, same version is already published
lconwaymacOS 12.7.1 Monterey / x86_64  OK    OK    OK    OK  UNNEEDED, same version is already published
kjohnson3macOS 13.7.1 Ventura / arm64  OK    OK    OK    OK  UNNEEDED, same version is already published
taishanLinux (openEuler 24.03 LTS) / aarch64  OK    OK    OK  
Package 45/179HostnameOS / ArchINSTALLBUILDCHECKBUILD BIN
easylift 1.7.0  (landing page)
Abdullah Al Nahid
git_last_commit: c67c566
git_last_commit_date: 2025-04-15 13:20:46 -0400
nebbiolo2Linux (Ubuntu 24.04.1 LTS) / x86_64  OK    OK    OK  UNNEEDED, same version is already published
palomino8Windows Server 2022 Datacenter / x64  OK    OK    OK    OK  UNNEEDED, same version is already published
lconwaymacOS 12.7.1 Monterey / x86_64  OK    OK    OK    OK  UNNEEDED, same version is already published
kjohnson3macOS 13.7.1 Ventura / arm64  OK    OK    OK    OK  UNNEEDED, same version is already published
taishanLinux (openEuler 24.03 LTS) / aarch64  OK    OK    OK  
Package 46/179HostnameOS / ArchINSTALLBUILDCHECKBUILD BIN
ELMER 2.33.0  (landing page)
Tiago Chedraoui Silva
git_last_commit: e462c31
git_last_commit_date: 2025-04-15 10:51:24 -0400
nebbiolo2Linux (Ubuntu 24.04.1 LTS) / x86_64  OK    OK    OK  UNNEEDED, same version is already published
palomino8Windows Server 2022 Datacenter / x64  OK    OK    OK    OK  UNNEEDED, same version is already published
lconwaymacOS 12.7.1 Monterey / x86_64  OK    OK    OK    OK  UNNEEDED, same version is already published
kjohnson3macOS 13.7.1 Ventura / arm64  OK    OK    OK    OK  NO, package depends on 'DelayedArray' which is only available as a source package that needs compilation
taishanLinux (openEuler 24.03 LTS) / aarch64  ERROR    ERROR  skipped
Package 47/179HostnameOS / ArchINSTALLBUILDCHECKBUILD BIN
enhancerHomologSearch 1.15.0  (landing page)
Jianhong Ou
git_last_commit: 66a3cf6
git_last_commit_date: 2025-04-15 12:36:26 -0400
nebbiolo2Linux (Ubuntu 24.04.1 LTS) / x86_64  OK    OK    OK  UNNEEDED, same version is already published
palomino8Windows Server 2022 Datacenter / x64  OK    OK    OK    OK  UNNEEDED, same version is already published
lconwaymacOS 12.7.1 Monterey / x86_64  OK    OK    OK    OK  UNNEEDED, same version is already published
kjohnson3macOS 13.7.1 Ventura / arm64  OK    OK    OK    OK  UNNEEDED, same version is already published
taishanLinux (openEuler 24.03 LTS) / aarch64  OK    ERROR  skipped
Package 48/179HostnameOS / ArchINSTALLBUILDCHECKBUILD BIN
ensembldb 2.33.0  (landing page)
Johannes Rainer
git_last_commit: 136f370
git_last_commit_date: 2025-04-15 10:49:23 -0400
nebbiolo2Linux (Ubuntu 24.04.1 LTS) / x86_64  OK    OK    OK  UNNEEDED, same version is already published
palomino8Windows Server 2022 Datacenter / x64  OK    OK    OK    OK  UNNEEDED, same version is already published
lconwaymacOS 12.7.1 Monterey / x86_64  OK    OK    OK    OK  UNNEEDED, same version is already published
kjohnson3macOS 13.7.1 Ventura / arm64  OK    OK    OK    OK  UNNEEDED, same version is already published
taishanLinux (openEuler 24.03 LTS) / aarch64  OK    OK    OK  
Package 49/179HostnameOS / ArchINSTALLBUILDCHECKBUILD BIN
EpiCompare 1.13.0  (landing page)
Hiranyamaya Dash
git_last_commit: 0fe51fc
git_last_commit_date: 2025-04-15 12:51:17 -0400
nebbiolo2Linux (Ubuntu 24.04.1 LTS) / x86_64  OK    OK    OK  UNNEEDED, same version is already published
palomino8Windows Server 2022 Datacenter / x64  OK    OK    OK    OK  UNNEEDED, same version is already published
lconwaymacOS 12.7.1 Monterey / x86_64  OK    OK    OK    OK  UNNEEDED, same version is already published
kjohnson3macOS 13.7.1 Ventura / arm64  OK    OK    OK    OK  UNNEEDED, same version is already published
taishanLinux (openEuler 24.03 LTS) / aarch64  OK    OK    ERROR  
Package 50/179HostnameOS / ArchINSTALLBUILDCHECKBUILD BIN
epidecodeR 1.17.0  (landing page)
Kandarp Joshi
git_last_commit: 30001ed
git_last_commit_date: 2025-04-15 12:25:32 -0400
nebbiolo2Linux (Ubuntu 24.04.1 LTS) / x86_64  OK    OK    OK  UNNEEDED, same version is already published
palomino8Windows Server 2022 Datacenter / x64  OK    OK    OK    OK  UNNEEDED, same version is already published
lconwaymacOS 12.7.1 Monterey / x86_64  OK    OK    OK    OK  UNNEEDED, same version is already published
kjohnson3macOS 13.7.1 Ventura / arm64  OK    OK    OK    OK  UNNEEDED, same version is already published
taishanLinux (openEuler 24.03 LTS) / aarch64  OK    OK    OK  
Package 51/179HostnameOS / ArchINSTALLBUILDCHECKBUILD BIN
epigraHMM 1.17.0  (landing page)
Pedro Baldoni
git_last_commit: ef67dfe
git_last_commit_date: 2025-04-15 12:32:00 -0400
nebbiolo2Linux (Ubuntu 24.04.1 LTS) / x86_64  ERROR    ERROR  skipped
palomino8Windows Server 2022 Datacenter / x64  ERROR    ERROR  skippedskipped
lconwaymacOS 12.7.1 Monterey / x86_64  ERROR    ERROR  skippedskipped
kjohnson3macOS 13.7.1 Ventura / arm64  ERROR    ERROR  skippedskipped
taishanLinux (openEuler 24.03 LTS) / aarch64  ERROR    ERROR  skipped
Package 52/179HostnameOS / ArchINSTALLBUILDCHECKBUILD BIN
epimutacions 1.13.0  (landing page)
Dolors Pelegri-Siso
git_last_commit: fa459c5
git_last_commit_date: 2025-04-15 12:49:38 -0400
nebbiolo2Linux (Ubuntu 24.04.1 LTS) / x86_64  OK    ERROR  skipped
palomino8Windows Server 2022 Datacenter / x64  OK    ERROR  skippedskipped
lconwaymacOS 12.7.1 Monterey / x86_64  OK    ERROR  skippedskipped
kjohnson3macOS 13.7.1 Ventura / arm64  OK    ERROR  skippedskipped
taishanLinux (openEuler 24.03 LTS) / aarch64  OK    ERROR  skipped
Package 53/179HostnameOS / ArchINSTALLBUILDCHECKBUILD BIN
esATAC 1.31.0  (landing page)
Zheng Wei
git_last_commit: 58c890e
git_last_commit_date: 2025-04-15 11:16:14 -0400
nebbiolo2Linux (Ubuntu 24.04.1 LTS) / x86_64  OK    OK    OK  UNNEEDED, same version is already published
palomino8Windows Server 2022 Datacenter / x64  OK    OK    OK    OK  UNNEEDED, same version is already published
lconwaymacOS 12.7.1 Monterey / x86_64  OK    OK    OK    OK  UNNEEDED, same version is already published
kjohnson3macOS 13.7.1 Ventura / arm64  OK    OK    OK    OK  UNNEEDED, same version is already published
taishanLinux (openEuler 24.03 LTS) / aarch64  OK    OK    OK  
Package 54/179HostnameOS / ArchINSTALLBUILDCHECKBUILD BIN
ExCluster 1.27.0  (landing page)
R. Matthew Tanner
git_last_commit: 869c105
git_last_commit_date: 2025-04-15 11:37:30 -0400
nebbiolo2Linux (Ubuntu 24.04.1 LTS) / x86_64  OK    OK    OK  UNNEEDED, same version is already published
palomino8Windows Server 2022 Datacenter / x64... NOT SUPPORTED ...
lconwaymacOS 12.7.1 Monterey / x86_64  OK    OK    OK    OK  UNNEEDED, same version is already published
kjohnson3macOS 13.7.1 Ventura / arm64  OK    OK    OK    OK  UNNEEDED, same version is already published
taishanLinux (openEuler 24.03 LTS) / aarch64  OK    OK    OK  
Package 55/179HostnameOS / ArchINSTALLBUILDCHECKBUILD BIN
extraChIPs 1.13.0  (landing page)
Stevie Pederson
git_last_commit: 56d2081
git_last_commit_date: 2025-04-15 12:50:15 -0400
nebbiolo2Linux (Ubuntu 24.04.1 LTS) / x86_64  OK    OK    OK  UNNEEDED, same version is already published
palomino8Windows Server 2022 Datacenter / x64  OK    OK    OK    OK  UNNEEDED, same version is already published
lconwaymacOS 12.7.1 Monterey / x86_64  OK    OK    OK    OK  UNNEEDED, same version is already published
kjohnson3macOS 13.7.1 Ventura / arm64  OK    OK    OK    OK  UNNEEDED, same version is already published
taishanLinux (openEuler 24.03 LTS) / aarch64  OK    OK    OK  
Package 56/179HostnameOS / ArchINSTALLBUILDCHECKBUILD BIN
factR 1.11.0  (landing page)
Fursham Hamid
git_last_commit: f039609
git_last_commit_date: 2025-04-15 12:53:05 -0400
nebbiolo2Linux (Ubuntu 24.04.1 LTS) / x86_64  OK    OK    OK  UNNEEDED, same version is already published
palomino8Windows Server 2022 Datacenter / x64  OK    OK    OK    OK  UNNEEDED, same version is already published
lconwaymacOS 12.7.1 Monterey / x86_64  OK    OK    OK    OK  UNNEEDED, same version is already published
kjohnson3macOS 13.7.1 Ventura / arm64  OK    OK    OK    OK  UNNEEDED, same version is already published
taishanLinux (openEuler 24.03 LTS) / aarch64  OK    ERROR  skipped
Package 57/179HostnameOS / ArchINSTALLBUILDCHECKBUILD BIN
fcScan 1.23.0  (landing page)
Pierre Khoueiry Abdullah El-Kurdi
git_last_commit: bdd0440
git_last_commit_date: 2025-04-15 11:48:51 -0400
nebbiolo2Linux (Ubuntu 24.04.1 LTS) / x86_64  OK    OK    OK  UNNEEDED, same version is already published
palomino8Windows Server 2022 Datacenter / x64  OK    OK    OK    OK  UNNEEDED, same version is already published
lconwaymacOS 12.7.1 Monterey / x86_64  OK    OK    OK    OK  UNNEEDED, same version is already published
kjohnson3macOS 13.7.1 Ventura / arm64  OK    OK    OK    OK  UNNEEDED, same version is already published
taishanLinux (openEuler 24.03 LTS) / aarch64  OK    OK    OK  
Package 58/179HostnameOS / ArchINSTALLBUILDCHECKBUILD BIN
FindIT2 1.15.0  (landing page)
Guandong Shang
git_last_commit: 77e881a
git_last_commit_date: 2025-04-15 12:34:18 -0400
nebbiolo2Linux (Ubuntu 24.04.1 LTS) / x86_64  OK    OK    OK  UNNEEDED, same version is already published
palomino8Windows Server 2022 Datacenter / x64  OK    OK    OK    OK  UNNEEDED, same version is already published
lconwaymacOS 12.7.1 Monterey / x86_64  OK    OK    OK    OK  UNNEEDED, same version is already published
kjohnson3macOS 13.7.1 Ventura / arm64  OK    OK    OK    OK  UNNEEDED, same version is already published
taishanLinux (openEuler 24.03 LTS) / aarch64  OK    OK    OK  
Package 59/179HostnameOS / ArchINSTALLBUILDCHECKBUILD BIN
FLAMES 2.3.0  (landing page)
Changqing Wang
git_last_commit: a2e1e1d
git_last_commit_date: 2025-04-15 12:35:03 -0400
nebbiolo2Linux (Ubuntu 24.04.1 LTS) / x86_64  OK    OK    OK  UNNEEDED, same version is already published
palomino8Windows Server 2022 Datacenter / x64... NOT SUPPORTED ...
lconwaymacOS 12.7.1 Monterey / x86_64  OK    OK    OK    OK  UNNEEDED, same version is already published
kjohnson3macOS 13.7.1 Ventura / arm64  OK    OK    OK    OK  NO, package depends on 'DropletUtils' which is only available as a source package that needs compilation
taishanLinux (openEuler 24.03 LTS) / aarch64  OK    OK    ERROR  
Package 60/179HostnameOS / ArchINSTALLBUILDCHECKBUILD BIN
geneAttribution 1.35.0  (landing page)
Arthur Wuster
git_last_commit: d1614f7
git_last_commit_date: 2025-04-15 11:04:45 -0400
nebbiolo2Linux (Ubuntu 24.04.1 LTS) / x86_64  OK    OK    OK  UNNEEDED, same version is already published
palomino8Windows Server 2022 Datacenter / x64  OK    OK    OK    OK  UNNEEDED, same version is already published
lconwaymacOS 12.7.1 Monterey / x86_64  OK    OK    OK    OK  UNNEEDED, same version is already published
kjohnson3macOS 13.7.1 Ventura / arm64  OK    OK    OK    OK  UNNEEDED, same version is already published
taishanLinux (openEuler 24.03 LTS) / aarch64  OK    OK    OK  
Package 61/179HostnameOS / ArchINSTALLBUILDCHECKBUILD BIN
GeneStructureTools 1.29.0  (landing page)
Beth Signal
git_last_commit: 6d9702f
git_last_commit_date: 2025-04-15 11:19:16 -0400
nebbiolo2Linux (Ubuntu 24.04.1 LTS) / x86_64  OK    OK    OK  UNNEEDED, same version is already published
palomino8Windows Server 2022 Datacenter / x64  OK    OK    OK    OK  UNNEEDED, same version is already published
lconwaymacOS 12.7.1 Monterey / x86_64  OK    OK    OK    OK  UNNEEDED, same version is already published
kjohnson3macOS 13.7.1 Ventura / arm64  OK    OK    OK    OK  UNNEEDED, same version is already published
taishanLinux (openEuler 24.03 LTS) / aarch64  ERROR    ERROR  skipped
Package 62/179HostnameOS / ArchINSTALLBUILDCHECKBUILD BIN
geneXtendeR 1.35.0  (landing page)
Bohdan Khomtchouk
git_last_commit: 7cf0afc
git_last_commit_date: 2025-04-15 11:05:48 -0400
nebbiolo2Linux (Ubuntu 24.04.1 LTS) / x86_64  OK    OK    WARNINGS  UNNEEDED, same version is already published
palomino8Windows Server 2022 Datacenter / x64  OK    OK    WARNINGS    OK  UNNEEDED, same version is already published
lconwaymacOS 12.7.1 Monterey / x86_64  OK    OK    WARNINGS    OK  UNNEEDED, same version is already published
kjohnson3macOS 13.7.1 Ventura / arm64  OK    OK    WARNINGS    OK  UNNEEDED, same version is already published
taishanLinux (openEuler 24.03 LTS) / aarch64  OK    OK    WARNINGS  
Package 63/179HostnameOS / ArchINSTALLBUILDCHECKBUILD BIN
genomation 1.41.0  (landing page)
Altuna Akalin , Vedran Franke
git_last_commit: 30fd5b6
git_last_commit_date: 2025-04-15 10:36:42 -0400
nebbiolo2Linux (Ubuntu 24.04.1 LTS) / x86_64  OK    OK    WARNINGS  UNNEEDED, same version is already published
palomino8Windows Server 2022 Datacenter / x64  OK    OK    WARNINGS    OK  UNNEEDED, same version is already published
lconwaymacOS 12.7.1 Monterey / x86_64  OK    OK    WARNINGS    OK  UNNEEDED, same version is already published
kjohnson3macOS 13.7.1 Ventura / arm64  OK    OK    WARNINGS    OK  UNNEEDED, same version is already published
taishanLinux (openEuler 24.03 LTS) / aarch64  OK    OK    WARNINGS  
Package 64/179HostnameOS / ArchINSTALLBUILDCHECKBUILD BIN
GenomicFeatures 1.61.0  (landing page)
H. Pagès
git_last_commit: 4acc8a7
git_last_commit_date: 2025-04-15 09:45:53 -0400
nebbiolo2Linux (Ubuntu 24.04.1 LTS) / x86_64  OK    OK    OK  UNNEEDED, same version is already published
palomino8Windows Server 2022 Datacenter / x64  OK    OK    OK    OK  UNNEEDED, same version is already published
lconwaymacOS 12.7.1 Monterey / x86_64  OK    OK    OK    OK  UNNEEDED, same version is already published
kjohnson3macOS 13.7.1 Ventura / arm64  OK    OK    OK    OK  UNNEEDED, same version is already published
taishanLinux (openEuler 24.03 LTS) / aarch64  OK    OK    OK  
Package 65/179HostnameOS / ArchINSTALLBUILDCHECKBUILD BIN
GenomicFiles 1.45.0  (landing page)
Bioconductor Package Maintainer
git_last_commit: d9a3498
git_last_commit_date: 2025-04-15 10:30:56 -0400
nebbiolo2Linux (Ubuntu 24.04.1 LTS) / x86_64  OK    OK    WARNINGS  UNNEEDED, same version is already published
palomino8Windows Server 2022 Datacenter / x64  OK    OK    ERROR    OK  
lconwaymacOS 12.7.1 Monterey / x86_64  OK    OK    WARNINGS    OK  UNNEEDED, same version is already published
kjohnson3macOS 13.7.1 Ventura / arm64  OK    OK    WARNINGS    OK  UNNEEDED, same version is already published
taishanLinux (openEuler 24.03 LTS) / aarch64  OK    OK    WARNINGS  
Package 66/179HostnameOS / ArchINSTALLBUILDCHECKBUILD BIN
GenomicInteractions 1.43.0  (landing page)
Liz Ing-Simmons
git_last_commit: df13b4b
git_last_commit_date: 2025-04-15 10:34:28 -0400
nebbiolo2Linux (Ubuntu 24.04.1 LTS) / x86_64  OK    OK    OK  UNNEEDED, same version is already published
palomino8Windows Server 2022 Datacenter / x64  OK    OK    OK    OK  UNNEEDED, same version is already published
lconwaymacOS 12.7.1 Monterey / x86_64  OK    OK    OK    OK  UNNEEDED, same version is already published
kjohnson3macOS 13.7.1 Ventura / arm64  OK    OK    OK    OK  UNNEEDED, same version is already published
taishanLinux (openEuler 24.03 LTS) / aarch64  OK    OK    OK  
Package 67/179HostnameOS / ArchINSTALLBUILDCHECKBUILD BIN
GenomicPlot 1.7.0  (landing page)
Shuye Pu
git_last_commit: 14ff791
git_last_commit_date: 2025-04-15 13:19:54 -0400
nebbiolo2Linux (Ubuntu 24.04.1 LTS) / x86_64  OK    OK    OK  UNNEEDED, same version is already published
palomino8Windows Server 2022 Datacenter / x64  OK    OK    OK    OK  UNNEEDED, same version is already published
lconwaymacOS 12.7.1 Monterey / x86_64  OK    OK    OK    OK  UNNEEDED, same version is already published
kjohnson3macOS 13.7.1 Ventura / arm64  OK    OK    OK    OK  UNNEEDED, same version is already published
taishanLinux (openEuler 24.03 LTS) / aarch64  OK    OK    TIMEOUT  
Package 68/179HostnameOS / ArchINSTALLBUILDCHECKBUILD BIN
ggbio 1.57.0  (landing page)
Michael Lawrence
git_last_commit: ab46b83
git_last_commit_date: 2025-04-15 10:11:14 -0400
nebbiolo2Linux (Ubuntu 24.04.1 LTS) / x86_64  OK    OK    WARNINGS  UNNEEDED, same version is already published
palomino8Windows Server 2022 Datacenter / x64  OK    OK    WARNINGS    OK  UNNEEDED, same version is already published
lconwaymacOS 12.7.1 Monterey / x86_64  OK    OK    WARNINGS    OK  UNNEEDED, same version is already published
kjohnson3macOS 13.7.1 Ventura / arm64  OK    OK    WARNINGS    OK  UNNEEDED, same version is already published
taishanLinux (openEuler 24.03 LTS) / aarch64  OK    OK    WARNINGS  
Package 69/179HostnameOS / ArchINSTALLBUILDCHECKBUILD BIN
gmapR 1.51.0  (landing page)
Michael Lawrence
git_last_commit: 84ae920
git_last_commit_date: 2025-04-15 10:14:37 -0400
nebbiolo2Linux (Ubuntu 24.04.1 LTS) / x86_64  OK    OK    WARNINGS  UNNEEDED, same version is already published
palomino8Windows Server 2022 Datacenter / x64... NOT SUPPORTED ...
lconwaymacOS 12.7.1 Monterey / x86_64  OK    OK    WARNINGS    OK  UNNEEDED, same version is already published
kjohnson3macOS 13.7.1 Ventura / arm64  ERROR    ERROR  skippedskipped
taishanLinux (openEuler 24.03 LTS) / aarch64  OK    OK    WARNINGS  
Package 70/179HostnameOS / ArchINSTALLBUILDCHECKBUILD BIN
gmoviz 1.21.0  (landing page)
Kathleen Zeglinski
git_last_commit: a54a109
git_last_commit_date: 2025-04-15 11:56:09 -0400
nebbiolo2Linux (Ubuntu 24.04.1 LTS) / x86_64  OK    OK    OK  UNNEEDED, same version is already published
palomino8Windows Server 2022 Datacenter / x64  OK    OK    OK    OK  UNNEEDED, same version is already published
lconwaymacOS 12.7.1 Monterey / x86_64  OK    OK    OK    OK  UNNEEDED, same version is already published
kjohnson3macOS 13.7.1 Ventura / arm64  OK    OK    OK    OK  UNNEEDED, same version is already published
taishanLinux (openEuler 24.03 LTS) / aarch64  OK    OK    OK  
Package 71/179HostnameOS / ArchINSTALLBUILDCHECKBUILD BIN
goseq 1.61.0  (landing page)
Federico Marini
git_last_commit: d470b4b
git_last_commit_date: 2025-04-15 09:59:13 -0400
nebbiolo2Linux (Ubuntu 24.04.1 LTS) / x86_64  OK    OK    OK  UNNEEDED, same version is already published
palomino8Windows Server 2022 Datacenter / x64  OK    OK    OK    OK  UNNEEDED, same version is already published
lconwaymacOS 12.7.1 Monterey / x86_64  OK    OK    OK    OK  UNNEEDED, same version is already published
kjohnson3macOS 13.7.1 Ventura / arm64  OK    OK    OK    OK  UNNEEDED, same version is already published
taishanLinux (openEuler 24.03 LTS) / aarch64  OK    OK    OK  
Package 72/179HostnameOS / ArchINSTALLBUILDCHECKBUILD BIN
GOTHiC 1.45.0  (landing page)
Borbala Mifsud
git_last_commit: f76ecb0
git_last_commit_date: 2025-04-15 11:47:40 -0400
nebbiolo2Linux (Ubuntu 24.04.1 LTS) / x86_64  OK    OK    OK  UNNEEDED, same version is already published
palomino8Windows Server 2022 Datacenter / x64  OK    OK    OK    OK  UNNEEDED, same version is already published
lconwaymacOS 12.7.1 Monterey / x86_64  OK    OK    OK    OK  UNNEEDED, same version is already published
kjohnson3macOS 13.7.1 Ventura / arm64  OK    OK    OK    OK  UNNEEDED, same version is already published
taishanLinux (openEuler 24.03 LTS) / aarch64  OK    OK    ERROR  
Package 73/179HostnameOS / ArchINSTALLBUILDCHECKBUILD BIN
GreyListChIP 1.41.0  (landing page)
Matt Eldridge
git_last_commit: e88160b
git_last_commit_date: 2025-04-15 10:37:43 -0400
nebbiolo2Linux (Ubuntu 24.04.1 LTS) / x86_64  OK    OK    OK  UNNEEDED, same version is already published
palomino8Windows Server 2022 Datacenter / x64  OK    OK    OK    OK  UNNEEDED, same version is already published
lconwaymacOS 12.7.1 Monterey / x86_64  OK    OK    OK    OK  UNNEEDED, same version is already published
kjohnson3macOS 13.7.1 Ventura / arm64  OK    OK    OK    OK  UNNEEDED, same version is already published
taishanLinux (openEuler 24.03 LTS) / aarch64  OK    OK    OK  
Package 74/179HostnameOS / ArchINSTALLBUILDCHECKBUILD BIN
groHMM 1.43.0  (landing page)
Tulip Nandu
git_last_commit: 8c55e5b
git_last_commit_date: 2025-04-15 10:35:50 -0400
nebbiolo2Linux (Ubuntu 24.04.1 LTS) / x86_64  OK    OK    WARNINGS  UNNEEDED, same version is already published
palomino8Windows Server 2022 Datacenter / x64  OK    OK    WARNINGS    OK  UNNEEDED, same version is already published
lconwaymacOS 12.7.1 Monterey / x86_64  OK    OK    WARNINGS    OK  UNNEEDED, same version is already published
kjohnson3macOS 13.7.1 Ventura / arm64  OK    OK    WARNINGS    OK  UNNEEDED, same version is already published
taishanLinux (openEuler 24.03 LTS) / aarch64  OK    OK    WARNINGS  
Package 75/179HostnameOS / ArchINSTALLBUILDCHECKBUILD BIN
Guitar 2.25.0  (landing page)
Jia Meng
git_last_commit: ca65b2b
git_last_commit_date: 2025-04-15 10:53:43 -0400
nebbiolo2Linux (Ubuntu 24.04.1 LTS) / x86_64  OK    OK    OK  UNNEEDED, same version is already published
palomino8Windows Server 2022 Datacenter / x64  OK    OK    OK    OK  UNNEEDED, same version is already published
lconwaymacOS 12.7.1 Monterey / x86_64  OK    OK    OK    OK  UNNEEDED, same version is already published
kjohnson3macOS 13.7.1 Ventura / arm64  OK    OK    OK    OK  UNNEEDED, same version is already published
taishanLinux (openEuler 24.03 LTS) / aarch64  OK    OK    OK  
Package 76/179HostnameOS / ArchINSTALLBUILDCHECKBUILD BIN
Gviz 1.53.0  (landing page)
Robert Ivanek
git_last_commit: 5b51ccd
git_last_commit_date: 2025-04-15 10:12:34 -0400
nebbiolo2Linux (Ubuntu 24.04.1 LTS) / x86_64  OK    OK    OK  UNNEEDED, same version is already published
palomino8Windows Server 2022 Datacenter / x64  OK    OK    OK    OK  UNNEEDED, same version is already published
lconwaymacOS 12.7.1 Monterey / x86_64  OK    OK    OK    OK  UNNEEDED, same version is already published
kjohnson3macOS 13.7.1 Ventura / arm64  OK    OK    OK    OK  UNNEEDED, same version is already published
taishanLinux (openEuler 24.03 LTS) / aarch64  OK    OK    OK  
Package 77/179HostnameOS / ArchINSTALLBUILDCHECKBUILD BIN
HelloRanges 1.35.0  (landing page)
Michael Lawrence
git_last_commit: 2f3a7cf
git_last_commit_date: 2025-04-15 11:06:27 -0400
nebbiolo2Linux (Ubuntu 24.04.1 LTS) / x86_64  OK    OK    OK  UNNEEDED, same version is already published
palomino8Windows Server 2022 Datacenter / x64  OK    OK    OK    OK  UNNEEDED, same version is already published
lconwaymacOS 12.7.1 Monterey / x86_64  OK    OK    OK    OK  UNNEEDED, same version is already published
kjohnson3macOS 13.7.1 Ventura / arm64  OK    OK    OK    OK  UNNEEDED, same version is already published
taishanLinux (openEuler 24.03 LTS) / aarch64  OK    OK    OK  
Package 78/179HostnameOS / ArchINSTALLBUILDCHECKBUILD BIN
hiAnnotator 1.43.0  (landing page)
Nirav V Malani
git_last_commit: f03d061
git_last_commit_date: 2025-04-15 10:31:18 -0400
nebbiolo2Linux (Ubuntu 24.04.1 LTS) / x86_64  OK    OK    OK  UNNEEDED, same version is already published
palomino8Windows Server 2022 Datacenter / x64  OK    OK    OK    OK  UNNEEDED, same version is already published
lconwaymacOS 12.7.1 Monterey / x86_64  OK    OK    OK    OK  UNNEEDED, same version is already published
kjohnson3macOS 13.7.1 Ventura / arm64  OK    OK    OK    OK  UNNEEDED, same version is already published
taishanLinux (openEuler 24.03 LTS) / aarch64  OK    OK    OK  
Package 79/179HostnameOS / ArchINSTALLBUILDCHECKBUILD BIN
HicAggR 1.5.0  (landing page)
Olivier Cuvier
git_last_commit: 818ded7
git_last_commit_date: 2025-04-15 13:35:49 -0400
nebbiolo2Linux (Ubuntu 24.04.1 LTS) / x86_64  OK    OK    WARNINGS  UNNEEDED, same version is already published
palomino8Windows Server 2022 Datacenter / x64  OK    OK    WARNINGS    OK  UNNEEDED, same version is already published
lconwaymacOS 12.7.1 Monterey / x86_64  OK    OK    WARNINGS    OK  UNNEEDED, same version is already published
kjohnson3macOS 13.7.1 Ventura / arm64  OK    OK    WARNINGS    OK  UNNEEDED, same version is already published
taishanLinux (openEuler 24.03 LTS) / aarch64  OK    OK    WARNINGS  
Package 80/179HostnameOS / ArchINSTALLBUILDCHECKBUILD BIN
HiCDCPlus 1.17.0  (landing page)
Merve Sahin
git_last_commit: 3954db1
git_last_commit_date: 2025-04-15 12:20:00 -0400
nebbiolo2Linux (Ubuntu 24.04.1 LTS) / x86_64  OK    OK    OK  UNNEEDED, same version is already published
palomino8Windows Server 2022 Datacenter / x64  OK    OK    OK    OK  UNNEEDED, same version is already published
lconwaymacOS 12.7.1 Monterey / x86_64  OK    OK    OK    OK  UNNEEDED, same version is already published
kjohnson3macOS 13.7.1 Ventura / arm64  OK    OK    OK    OK  UNNEEDED, same version is already published
taishanLinux (openEuler 24.03 LTS) / aarch64  OK    OK    ERROR  
Package 81/179HostnameOS / ArchINSTALLBUILDCHECKBUILD BIN
hicVennDiagram 1.7.1  (landing page)
Jianhong Ou
git_last_commit: 145260f
git_last_commit_date: 2025-04-18 11:07:17 -0400
nebbiolo2Linux (Ubuntu 24.04.1 LTS) / x86_64  OK    OK    OK  UNNEEDED, same version is already published
palomino8Windows Server 2022 Datacenter / x64  OK    OK    OK    OK  UNNEEDED, same version is already published
lconwaymacOS 12.7.1 Monterey / x86_64  OK    OK    OK    OK  UNNEEDED, same version is already published
kjohnson3macOS 13.7.1 Ventura / arm64  OK    OK    OK    OK  UNNEEDED, same version is already published
taishanLinux (openEuler 24.03 LTS) / aarch64  OK    OK    OK  
Package 82/179HostnameOS / ArchINSTALLBUILDCHECKBUILD BIN
HiTC 1.53.0  (landing page)
Nicolas Servant
git_last_commit: 3449887
git_last_commit_date: 2025-04-15 10:13:26 -0400
nebbiolo2Linux (Ubuntu 24.04.1 LTS) / x86_64  OK    OK    WARNINGS  UNNEEDED, same version is already published
palomino8Windows Server 2022 Datacenter / x64  OK    OK    WARNINGS    OK  UNNEEDED, same version is already published
lconwaymacOS 12.7.1 Monterey / x86_64  OK    OK    WARNINGS    OK  UNNEEDED, same version is already published
kjohnson3macOS 13.7.1 Ventura / arm64  OK    OK    WARNINGS    OK  UNNEEDED, same version is already published
taishanLinux (openEuler 24.03 LTS) / aarch64  OK    ERROR  skipped
Package 83/179HostnameOS / ArchINSTALLBUILDCHECKBUILD BIN
icetea 1.27.0  (landing page)
Vivek Bhardwaj
git_last_commit: 03f40bf
git_last_commit_date: 2025-04-15 11:34:40 -0400
nebbiolo2Linux (Ubuntu 24.04.1 LTS) / x86_64  OK    OK    WARNINGS  UNNEEDED, same version is already published
palomino8Windows Server 2022 Datacenter / x64  OK    OK    WARNINGS    OK  UNNEEDED, same version is already published
lconwaymacOS 12.7.1 Monterey / x86_64  OK    OK    WARNINGS    OK  UNNEEDED, same version is already published
kjohnson3macOS 13.7.1 Ventura / arm64  OK    OK    WARNINGS    OK  UNNEEDED, same version is already published
taishanLinux (openEuler 24.03 LTS) / aarch64  OK    OK    WARNINGS  
Package 84/179HostnameOS / ArchINSTALLBUILDCHECKBUILD BIN
IdeoViz 1.45.0  (landing page)
Shraddha Pai
git_last_commit: 54c2c2b
git_last_commit_date: 2025-04-15 10:34:53 -0400
nebbiolo2Linux (Ubuntu 24.04.1 LTS) / x86_64  OK    OK    WARNINGS  UNNEEDED, same version is already published
palomino8Windows Server 2022 Datacenter / x64  OK    OK    WARNINGS    OK  UNNEEDED, same version is already published
lconwaymacOS 12.7.1 Monterey / x86_64  OK    OK    WARNINGS    OK  UNNEEDED, same version is already published
kjohnson3macOS 13.7.1 Ventura / arm64  OK    OK    WARNINGS    OK  UNNEEDED, same version is already published
taishanLinux (openEuler 24.03 LTS) / aarch64  OK    OK    WARNINGS  
Package 85/179HostnameOS / ArchINSTALLBUILDCHECKBUILD BIN
igvR 1.29.0  (landing page)
Arkadiusz Gladki
git_last_commit: bdd35fc
git_last_commit_date: 2025-04-15 11:33:05 -0400
nebbiolo2Linux (Ubuntu 24.04.1 LTS) / x86_64  OK    OK    OK  UNNEEDED, same version is already published
palomino8Windows Server 2022 Datacenter / x64  OK    OK    OK    OK  UNNEEDED, same version is already published
lconwaymacOS 12.7.1 Monterey / x86_64  OK    OK    OK    OK  UNNEEDED, same version is already published
kjohnson3macOS 13.7.1 Ventura / arm64  OK    OK    OK    OK  UNNEEDED, same version is already published
taishanLinux (openEuler 24.03 LTS) / aarch64  OK    OK    OK  
Package 86/179HostnameOS / ArchINSTALLBUILDCHECKBUILD BIN
INSPEcT 1.39.0  (landing page)
Stefano de Pretis
git_last_commit: f74f4fc
git_last_commit_date: 2025-04-15 10:51:53 -0400
nebbiolo2Linux (Ubuntu 24.04.1 LTS) / x86_64  OK    OK    OK  UNNEEDED, same version is already published
palomino8Windows Server 2022 Datacenter / x64  OK    OK    OK    OK  UNNEEDED, same version is already published
lconwaymacOS 12.7.1 Monterey / x86_64  OK    OK    OK    OK  UNNEEDED, same version is already published
kjohnson3macOS 13.7.1 Ventura / arm64  OK    OK    OK    OK  UNNEEDED, same version is already published
taishanLinux (openEuler 24.03 LTS) / aarch64  OK    OK    OK  
Package 87/179HostnameOS / ArchINSTALLBUILDCHECKBUILD BIN
InTAD 1.29.0  (landing page)
Konstantin Okonechnikov
git_last_commit: 0e49c45
git_last_commit_date: 2025-04-15 11:20:45 -0400
nebbiolo2Linux (Ubuntu 24.04.1 LTS) / x86_64  OK    OK    OK  UNNEEDED, same version is already published
palomino8Windows Server 2022 Datacenter / x64  OK    OK    OK    OK  UNNEEDED, same version is already published
lconwaymacOS 12.7.1 Monterey / x86_64  OK    OK    OK    OK  UNNEEDED, same version is already published
kjohnson3macOS 13.7.1 Ventura / arm64  OK    OK    OK    OK  UNNEEDED, same version is already published
taishanLinux (openEuler 24.03 LTS) / aarch64  OK    OK    OK  
Package 88/179HostnameOS / ArchINSTALLBUILDCHECKBUILD BIN
IsoformSwitchAnalyzeR 2.9.0  (landing page)
Kristoffer Vitting-Seerup
git_last_commit: 7c3ecbe
git_last_commit_date: 2025-04-15 11:11:37 -0400
nebbiolo2Linux (Ubuntu 24.04.1 LTS) / x86_64  OK    OK    OK  UNNEEDED, same version is already published
palomino8Windows Server 2022 Datacenter / x64  OK    OK    OK    OK  UNNEEDED, same version is already published
lconwaymacOS 12.7.1 Monterey / x86_64  OK    OK    OK    OK  UNNEEDED, same version is already published
kjohnson3macOS 13.7.1 Ventura / arm64  OK    OK    OK    OK  UNNEEDED, same version is already published
taishanLinux (openEuler 24.03 LTS) / aarch64  OK    OK    OK  
Package 89/179HostnameOS / ArchINSTALLBUILDCHECKBUILD BIN
karyoploteR 1.35.0  (landing page)
Bernat Gel
git_last_commit: 06c3a16
git_last_commit_date: 2025-04-15 11:08:24 -0400
nebbiolo2Linux (Ubuntu 24.04.1 LTS) / x86_64  ERROR    ERROR  skipped
palomino8Windows Server 2022 Datacenter / x64  ERROR    ERROR  skippedskipped
lconwaymacOS 12.7.1 Monterey / x86_64  ERROR    ERROR  skippedskipped
kjohnson3macOS 13.7.1 Ventura / arm64  ERROR    ERROR  skippedskipped
taishanLinux (openEuler 24.03 LTS) / aarch64  ERROR    ERROR  skipped
Package 90/179HostnameOS / ArchINSTALLBUILDCHECKBUILD BIN
m6Aboost 1.15.0  (landing page)
You Zhou
git_last_commit: ffc2ea6
git_last_commit_date: 2025-04-15 12:33:41 -0400
nebbiolo2Linux (Ubuntu 24.04.1 LTS) / x86_64  OK    OK    OK  UNNEEDED, same version is already published
palomino8Windows Server 2022 Datacenter / x64  OK    OK    OK    OK  UNNEEDED, same version is already published
lconwaymacOS 12.7.1 Monterey / x86_64  OK    OK    OK    OK  UNNEEDED, same version is already published
kjohnson3macOS 13.7.1 Ventura / arm64  OK    OK    OK    OK  UNNEEDED, same version is already published
taishanLinux (openEuler 24.03 LTS) / aarch64  OK    ERROR  skipped
Package 91/179HostnameOS / ArchINSTALLBUILDCHECKBUILD BIN
MADSEQ 1.35.0  (landing page)
Yu Kong
git_last_commit: ceda89e
git_last_commit_date: 2025-04-15 11:02:30 -0400
nebbiolo2Linux (Ubuntu 24.04.1 LTS) / x86_64  ERROR    ERROR  skipped
palomino8Windows Server 2022 Datacenter / x64  ERROR    ERROR  skippedskipped
lconwaymacOS 12.7.1 Monterey / x86_64  ERROR    ERROR  skippedskipped
kjohnson3macOS 13.7.1 Ventura / arm64  ERROR    ERROR  skippedskipped
taishanLinux (openEuler 24.03 LTS) / aarch64  ERROR    ERROR  skipped
Package 92/179HostnameOS / ArchINSTALLBUILDCHECKBUILD BIN
magpie 1.9.0  (landing page)
Daoyu Duan
git_last_commit: c5d9afd
git_last_commit_date: 2025-04-15 13:11:12 -0400
nebbiolo2Linux (Ubuntu 24.04.1 LTS) / x86_64  OK    OK    WARNINGS  UNNEEDED, same version is already published
palomino8Windows Server 2022 Datacenter / x64  OK    OK    WARNINGS    OK  UNNEEDED, same version is already published
lconwaymacOS 12.7.1 Monterey / x86_64  OK    OK    WARNINGS    OK  UNNEEDED, same version is already published
kjohnson3macOS 13.7.1 Ventura / arm64  OK    OK    WARNINGS    OK  UNNEEDED, same version is already published
taishanLinux (openEuler 24.03 LTS) / aarch64  OK    OK    WARNINGS  
Package 93/179HostnameOS / ArchINSTALLBUILDCHECKBUILD BIN
maser 1.27.0  (landing page)
Diogo F.T. Veiga
git_last_commit: a3dbc23
git_last_commit_date: 2025-04-15 11:34:05 -0400
nebbiolo2Linux (Ubuntu 24.04.1 LTS) / x86_64  OK    OK    OK  UNNEEDED, same version is already published
palomino8Windows Server 2022 Datacenter / x64  OK    OK    OK    OK  UNNEEDED, same version is already published
lconwaymacOS 12.7.1 Monterey / x86_64  OK    OK    OK    OK  UNNEEDED, same version is already published
kjohnson3macOS 13.7.1 Ventura / arm64  OK    OK    OK    OK  UNNEEDED, same version is already published
taishanLinux (openEuler 24.03 LTS) / aarch64  OK    OK    OK  
Package 94/179HostnameOS / ArchINSTALLBUILDCHECKBUILD BIN
MEDIPS 1.61.0  (landing page)
Lukas Chavez
git_last_commit: 4e64f00
git_last_commit_date: 2025-04-15 10:01:10 -0400
nebbiolo2Linux (Ubuntu 24.04.1 LTS) / x86_64  OK    OK    OK  UNNEEDED, same version is already published
palomino8Windows Server 2022 Datacenter / x64  OK    OK    OK    OK  UNNEEDED, same version is already published
lconwaymacOS 12.7.1 Monterey / x86_64  OK    OK    OK    OK  UNNEEDED, same version is already published
kjohnson3macOS 13.7.1 Ventura / arm64  OK    OK    OK    OK  UNNEEDED, same version is already published
taishanLinux (openEuler 24.03 LTS) / aarch64  OK    OK    OK  
Package 95/179HostnameOS / ArchINSTALLBUILDCHECKBUILD BIN
metagene2 1.25.0  (landing page)
Eric Fournier
git_last_commit: 620e51e
git_last_commit_date: 2025-04-15 11:44:22 -0400
nebbiolo2Linux (Ubuntu 24.04.1 LTS) / x86_64  OK    OK    WARNINGS  UNNEEDED, same version is already published
palomino8Windows Server 2022 Datacenter / x64  OK    OK    WARNINGS    OK  UNNEEDED, same version is already published
lconwaymacOS 12.7.1 Monterey / x86_64  OK    OK    WARNINGS    OK  UNNEEDED, same version is already published
kjohnson3macOS 13.7.1 Ventura / arm64  OK    OK    WARNINGS    OK  UNNEEDED, same version is already published
taishanLinux (openEuler 24.03 LTS) / aarch64  OK    OK    WARNINGS  
Package 96/179HostnameOS / ArchINSTALLBUILDCHECKBUILD BIN
metaseqR2 1.21.0  (landing page)
Panagiotis Moulos
git_last_commit: 5972858
git_last_commit_date: 2025-04-15 11:58:27 -0400
nebbiolo2Linux (Ubuntu 24.04.1 LTS) / x86_64  OK    OK    OK  UNNEEDED, same version is already published
palomino8Windows Server 2022 Datacenter / x64  OK    OK    OK    OK  UNNEEDED, same version is already published
lconwaymacOS 12.7.1 Monterey / x86_64  OK    OK    OK    OK  UNNEEDED, same version is already published
kjohnson3macOS 13.7.1 Ventura / arm64  OK    OK    OK    OK  NO, package depends on 'DSS' which is only available as a source package that needs compilation
taishanLinux (openEuler 24.03 LTS) / aarch64  OK    ERROR  skipped
Package 97/179HostnameOS / ArchINSTALLBUILDCHECKBUILD BIN
methodical 1.5.0  (landing page)
Richard Heery
git_last_commit: 071c5e5
git_last_commit_date: 2025-04-15 13:26:47 -0400
nebbiolo2Linux (Ubuntu 24.04.1 LTS) / x86_64  OK    OK    WARNINGS  NO, package depends on 'annotatr' which is not available
palomino8Windows Server 2022 Datacenter / x64... NOT SUPPORTED ...
lconwaymacOS 12.7.1 Monterey / x86_64  OK    OK    WARNINGS    OK  NO, package depends on 'annotatr' which is not available
kjohnson3macOS 13.7.1 Ventura / arm64  OK    OK    WARNINGS    OK  NO, package depends on 'annotatr' which is not available
taishanLinux (openEuler 24.03 LTS) / aarch64  OK    ERROR  skipped
Package 98/179HostnameOS / ArchINSTALLBUILDCHECKBUILD BIN
methrix 1.23.0  (landing page)
Anand Mayakonda
git_last_commit: 2f82b2b
git_last_commit_date: 2025-04-15 11:52:20 -0400
nebbiolo2Linux (Ubuntu 24.04.1 LTS) / x86_64  OK    OK    OK  UNNEEDED, same version is already published
palomino8Windows Server 2022 Datacenter / x64  OK    OK    OK    OK  UNNEEDED, same version is already published
lconwaymacOS 12.7.1 Monterey / x86_64  OK    OK    OK    OK  UNNEEDED, same version is already published
kjohnson3macOS 13.7.1 Ventura / arm64  OK    OK    OK    OK  NO, package depends on 'DelayedArray' which is only available as a source package that needs compilation
taishanLinux (openEuler 24.03 LTS) / aarch64  OK    OK    ERROR  
Package 99/179HostnameOS / ArchINSTALLBUILDCHECKBUILD BIN
methylKit 1.35.0  (landing page)
Altuna Akalin , Alexander Blume
git_last_commit: 6bc3419
git_last_commit_date: 2025-04-15 11:03:34 -0400
nebbiolo2Linux (Ubuntu 24.04.1 LTS) / x86_64  OK    OK    OK  UNNEEDED, same version is already published
palomino8Windows Server 2022 Datacenter / x64  OK    OK    OK    OK  UNNEEDED, same version is already published
lconwaymacOS 12.7.1 Monterey / x86_64  OK    OK    OK    OK  UNNEEDED, same version is already published
kjohnson3macOS 13.7.1 Ventura / arm64  OK    OK    OK    OK  UNNEEDED, same version is already published
taishanLinux (openEuler 24.03 LTS) / aarch64  OK    OK    OK  
Package 100/179HostnameOS / ArchINSTALLBUILDCHECKBUILD BIN
MethylSeekR 1.49.0  (landing page)
Lukas Burger
git_last_commit: be215f7
git_last_commit_date: 2025-04-15 10:17:36 -0400
nebbiolo2Linux (Ubuntu 24.04.1 LTS) / x86_64  OK    OK    OK  UNNEEDED, same version is already published
palomino8Windows Server 2022 Datacenter / x64  OK    OK    OK    OK  UNNEEDED, same version is already published
lconwaymacOS 12.7.1 Monterey / x86_64  OK    OK    OK    OK  UNNEEDED, same version is already published
kjohnson3macOS 13.7.1 Ventura / arm64  OK    OK    OK    OK  UNNEEDED, same version is already published
taishanLinux (openEuler 24.03 LTS) / aarch64  OK    ERROR  skipped
Package 101/179HostnameOS / ArchINSTALLBUILDCHECKBUILD BIN
mist 1.1.0  (landing page)
Daoyu Duan
git_last_commit: d810738
git_last_commit_date: 2025-04-15 13:45:05 -0400
nebbiolo2Linux (Ubuntu 24.04.1 LTS) / x86_64  OK    OK    WARNINGS  UNNEEDED, same version is already published
palomino8Windows Server 2022 Datacenter / x64  OK    OK    WARNINGS    OK  UNNEEDED, same version is already published
lconwaymacOS 12.7.1 Monterey / x86_64  OK    OK    WARNINGS    OK  UNNEEDED, same version is already published
kjohnson3macOS 13.7.1 Ventura / arm64  OK    OK    WARNINGS    OK  UNNEEDED, same version is already published
taishanLinux (openEuler 24.03 LTS) / aarch64  OK    OK    WARNINGS  
Package 102/179HostnameOS / ArchINSTALLBUILDCHECKBUILD BIN
mobileRNA 1.5.0  (landing page)
Katie Jeynes-Cupper
git_last_commit: 61bcc07
git_last_commit_date: 2025-04-15 13:29:13 -0400
nebbiolo2Linux (Ubuntu 24.04.1 LTS) / x86_64  OK    OK    OK  UNNEEDED, same version is already published
palomino8Windows Server 2022 Datacenter / x64  OK    OK    OK    OK  UNNEEDED, same version is already published
lconwaymacOS 12.7.1 Monterey / x86_64  OK    OK    OK    OK  UNNEEDED, same version is already published
kjohnson3macOS 13.7.1 Ventura / arm64  OK    OK    OK    OK  UNNEEDED, same version is already published
taishanLinux (openEuler 24.03 LTS) / aarch64  OK    OK    OK  
Package 103/179HostnameOS / ArchINSTALLBUILDCHECKBUILD BIN
Moonlight2R 1.7.0  (landing page)
Matteo Tiberti
git_last_commit: 8e53bf2
git_last_commit_date: 2025-04-15 13:21:13 -0400
nebbiolo2Linux (Ubuntu 24.04.1 LTS) / x86_64  OK    ERROR  skipped
palomino8Windows Server 2022 Datacenter / x64  OK    ERROR  skippedskipped
lconwaymacOS 12.7.1 Monterey / x86_64  OK    ERROR  skippedskipped
kjohnson3macOS 13.7.1 Ventura / arm64  OK    ERROR  skippedskipped
taishanLinux (openEuler 24.03 LTS) / aarch64  ERROR    ERROR  skipped
Package 104/179HostnameOS / ArchINSTALLBUILDCHECKBUILD BIN
motifbreakR 2.23.0  (landing page)
Simon Gert Coetzee
git_last_commit: 9bfa084
git_last_commit_date: 2025-04-15 10:53:23 -0400
nebbiolo2Linux (Ubuntu 24.04.1 LTS) / x86_64  OK    OK    WARNINGS  UNNEEDED, same version is already published
palomino8Windows Server 2022 Datacenter / x64  OK    OK    WARNINGS    OK  UNNEEDED, same version is already published
lconwaymacOS 12.7.1 Monterey / x86_64  OK    OK    WARNINGS    OK  UNNEEDED, same version is already published
kjohnson3macOS 13.7.1 Ventura / arm64  OK    OK    WARNINGS    OK  UNNEEDED, same version is already published
taishanLinux (openEuler 24.03 LTS) / aarch64  OK    OK    ERROR  
Package 105/179HostnameOS / ArchINSTALLBUILDCHECKBUILD BIN
MotifDb 1.51.0  (landing page)
Paul Shannon
git_last_commit: 2160961
git_last_commit_date: 2025-04-15 10:14:59 -0400
nebbiolo2Linux (Ubuntu 24.04.1 LTS) / x86_64  OK    OK    WARNINGS  UNNEEDED, same version is already published
palomino8Windows Server 2022 Datacenter / x64  OK    OK    WARNINGS    OK  UNNEEDED, same version is already published
lconwaymacOS 12.7.1 Monterey / x86_64  OK    OK    WARNINGS    OK  UNNEEDED, same version is already published
kjohnson3macOS 13.7.1 Ventura / arm64  OK    OK    WARNINGS    OK  UNNEEDED, same version is already published
taishanLinux (openEuler 24.03 LTS) / aarch64  OK    OK    WARNINGS  
Package 106/179HostnameOS / ArchINSTALLBUILDCHECKBUILD BIN
MotifPeeker 1.1.0  (landing page)
Hiranyamaya Dash
git_last_commit: abe2d70
git_last_commit_date: 2025-04-15 13:44:12 -0400
nebbiolo2Linux (Ubuntu 24.04.1 LTS) / x86_64  OK    OK    OK  UNNEEDED, same version is already published
palomino8Windows Server 2022 Datacenter / x64... NOT SUPPORTED ...
lconwaymacOS 12.7.1 Monterey / x86_64  OK    OK    OK    OK  UNNEEDED, same version is already published
kjohnson3macOS 13.7.1 Ventura / arm64  OK    OK    OK    OK  UNNEEDED, same version is already published
taishanLinux (openEuler 24.03 LTS) / aarch64  OK    OK    ERROR  
Package 107/179HostnameOS / ArchINSTALLBUILDCHECKBUILD BIN
multicrispr 1.19.0  (landing page)
Aditya Bhagwat
git_last_commit: dcbce61
git_last_commit_date: 2025-04-15 11:59:40 -0400
nebbiolo2Linux (Ubuntu 24.04.1 LTS) / x86_64  ERROR    ERROR  skipped
palomino8Windows Server 2022 Datacenter / x64  ERROR    ERROR  skippedskipped
lconwaymacOS 12.7.1 Monterey / x86_64  ERROR    ERROR  skippedskipped
kjohnson3macOS 13.7.1 Ventura / arm64  ERROR    ERROR  skippedskipped
taishanLinux (openEuler 24.03 LTS) / aarch64  ERROR    ERROR  skipped
Package 108/179HostnameOS / ArchINSTALLBUILDCHECKBUILD BIN
MungeSumstats 1.17.0  (landing page)
Alan Murphy
git_last_commit: 7ee8365
git_last_commit_date: 2025-04-15 12:26:47 -0400
nebbiolo2Linux (Ubuntu 24.04.1 LTS) / x86_64  OK    OK    OK  UNNEEDED, same version is already published
palomino8Windows Server 2022 Datacenter / x64  OK    OK    OK    OK  UNNEEDED, same version is already published
lconwaymacOS 12.7.1 Monterey / x86_64  OK    OK    OK    OK  UNNEEDED, same version is already published
kjohnson3macOS 13.7.1 Ventura / arm64  OK    OK    OK    OK  UNNEEDED, same version is already published
taishanLinux (openEuler 24.03 LTS) / aarch64  OK    ERROR  skipped
Package 109/179HostnameOS / ArchINSTALLBUILDCHECKBUILD BIN
NADfinder 1.33.0  (landing page)
Jianhong Ou
git_last_commit: fbb1058
git_last_commit_date: 2025-04-15 11:09:59 -0400
nebbiolo2Linux (Ubuntu 24.04.1 LTS) / x86_64  OK    OK    OK  NO, package depends on 'ATACseqQC' which is not available
palomino8Windows Server 2022 Datacenter / x64  OK    OK    OK    OK  NO, package depends on 'ATACseqQC' which is not available
lconwaymacOS 12.7.1 Monterey / x86_64  OK    OK    OK    OK  NO, package depends on 'ATACseqQC' which is not available
kjohnson3macOS 13.7.1 Ventura / arm64  OK    OK    OK    OK  NO, package depends on 'ATACseqQC' which is not available
taishanLinux (openEuler 24.03 LTS) / aarch64  OK    ERROR  skipped
Package 110/179HostnameOS / ArchINSTALLBUILDCHECKBUILD BIN
nearBynding 1.19.0  (landing page)
Veronica Busa
git_last_commit: 43ea797
git_last_commit_date: 2025-04-15 12:08:53 -0400
nebbiolo2Linux (Ubuntu 24.04.1 LTS) / x86_64  OK    OK    OK  UNNEEDED, same version is already published
palomino8Windows Server 2022 Datacenter / x64  OK    OK    OK    OK  UNNEEDED, same version is already published
lconwaymacOS 12.7.1 Monterey / x86_64  OK    OK    OK    OK  UNNEEDED, same version is already published
kjohnson3macOS 13.7.1 Ventura / arm64  OK    OK    OK    OK  UNNEEDED, same version is already published
taishanLinux (openEuler 24.03 LTS) / aarch64  OK    OK    OK  
Package 111/179HostnameOS / ArchINSTALLBUILDCHECKBUILD BIN
NoRCE 1.21.0  (landing page)
Gulden Olgun
git_last_commit: dd8b9e5
git_last_commit_date: 2025-04-15 11:55:53 -0400
nebbiolo2Linux (Ubuntu 24.04.1 LTS) / x86_64  ERROR    ERROR  skipped
palomino8Windows Server 2022 Datacenter / x64  ERROR    ERROR  skippedskipped
lconwaymacOS 12.7.1 Monterey / x86_64  ERROR    ERROR  skippedskipped
kjohnson3macOS 13.7.1 Ventura / arm64  ERROR    ERROR  skippedskipped
taishanLinux (openEuler 24.03 LTS) / aarch64  ERROR    ERROR  skipped
Package 112/179HostnameOS / ArchINSTALLBUILDCHECKBUILD BIN
normr 1.35.0  (landing page)
Johannes Helmuth
git_last_commit: d793450
git_last_commit_date: 2025-04-15 11:03:00 -0400
nebbiolo2Linux (Ubuntu 24.04.1 LTS) / x86_64  ERROR    ERROR  skipped
palomino8Windows Server 2022 Datacenter / x64  ERROR    ERROR  skippedskipped
lconwaymacOS 12.7.1 Monterey / x86_64  ERROR    ERROR  skippedskipped
kjohnson3macOS 13.7.1 Ventura / arm64  ERROR    ERROR  skippedskipped
taishanLinux (openEuler 24.03 LTS) / aarch64  ERROR    ERROR  skipped
Package 113/179HostnameOS / ArchINSTALLBUILDCHECKBUILD BIN
OGRE 1.13.0  (landing page)
Sven Berres
git_last_commit: 1552a40
git_last_commit_date: 2025-04-15 12:44:34 -0400
nebbiolo2Linux (Ubuntu 24.04.1 LTS) / x86_64  OK    OK    OK  UNNEEDED, same version is already published
palomino8Windows Server 2022 Datacenter / x64  OK    OK    OK    OK  UNNEEDED, same version is already published
lconwaymacOS 12.7.1 Monterey / x86_64  OK    OK    OK    OK  UNNEEDED, same version is already published
kjohnson3macOS 13.7.1 Ventura / arm64  OK    OK    OK    OK  UNNEEDED, same version is already published
taishanLinux (openEuler 24.03 LTS) / aarch64  OK    OK    OK  
Package 114/179HostnameOS / ArchINSTALLBUILDCHECKBUILD BIN
OMICsPCA 1.27.0  (landing page)
Subhadeep Das
git_last_commit: 06fed85
git_last_commit_date: 2025-04-15 11:37:34 -0400
nebbiolo2Linux (Ubuntu 24.04.1 LTS) / x86_64  OK    OK    OK  UNNEEDED, same version is already published
palomino8Windows Server 2022 Datacenter / x64  OK    OK    OK    OK  UNNEEDED, same version is already published
lconwaymacOS 12.7.1 Monterey / x86_64  OK    OK    OK    OK  UNNEEDED, same version is already published
kjohnson3macOS 13.7.1 Ventura / arm64  OK    OK    OK    OK  UNNEEDED, same version is already published
taishanLinux (openEuler 24.03 LTS) / aarch64  OK    OK    OK  
Package 115/179HostnameOS / ArchINSTALLBUILDCHECKBUILD BIN
ORFhunteR 1.17.0  (landing page)
Vasily V. Grinev
git_last_commit: 8b6eb4f
git_last_commit_date: 2025-04-15 12:18:28 -0400
nebbiolo2Linux (Ubuntu 24.04.1 LTS) / x86_64  OK    OK    WARNINGS  UNNEEDED, same version is already published
palomino8Windows Server 2022 Datacenter / x64  OK    OK    WARNINGS    OK  UNNEEDED, same version is already published
lconwaymacOS 12.7.1 Monterey / x86_64  OK    OK    WARNINGS    OK  UNNEEDED, same version is already published
kjohnson3macOS 13.7.1 Ventura / arm64  OK    OK    WARNINGS    OK  UNNEEDED, same version is already published
taishanLinux (openEuler 24.03 LTS) / aarch64  OK    OK    WARNINGS  
Package 116/179HostnameOS / ArchINSTALLBUILDCHECKBUILD BIN
ORFik 1.29.2  (landing page)
Haakon Tjeldnes
git_last_commit: c354336
git_last_commit_date: 2025-05-06 04:50:12 -0400
nebbiolo2Linux (Ubuntu 24.04.1 LTS) / x86_64  OK    OK    OK  UNNEEDED, same version is already published
palomino8Windows Server 2022 Datacenter / x64  OK    OK    OK    OK  UNNEEDED, same version is already published
lconwaymacOS 12.7.1 Monterey / x86_64  OK    OK    ERROR    OK  
kjohnson3macOS 13.7.1 Ventura / arm64  OK    OK    ERROR    OK  
taishanLinux (openEuler 24.03 LTS) / aarch64  OK    OK    OK  
Package 117/179HostnameOS / ArchINSTALLBUILDCHECKBUILD BIN
PAST 1.25.0  (landing page)
Thrash Adam
git_last_commit: a1079de
git_last_commit_date: 2025-04-15 11:46:41 -0400
nebbiolo2Linux (Ubuntu 24.04.1 LTS) / x86_64  OK    OK    WARNINGS  UNNEEDED, same version is already published
palomino8Windows Server 2022 Datacenter / x64  OK    OK    WARNINGS    OK  UNNEEDED, same version is already published
lconwaymacOS 12.7.1 Monterey / x86_64  OK    OK    WARNINGS    OK  UNNEEDED, same version is already published
kjohnson3macOS 13.7.1 Ventura / arm64  OK    OK    WARNINGS    OK  UNNEEDED, same version is already published
taishanLinux (openEuler 24.03 LTS) / aarch64  OK    OK    WARNINGS  
Package 118/179HostnameOS / ArchINSTALLBUILDCHECKBUILD BIN
periodicDNA 1.19.0  (landing page)
Jacques Serizay
git_last_commit: dedd8c6
git_last_commit_date: 2025-04-15 12:08:07 -0400
nebbiolo2Linux (Ubuntu 24.04.1 LTS) / x86_64  OK    OK    WARNINGS  UNNEEDED, same version is already published
palomino8Windows Server 2022 Datacenter / x64  OK    OK    WARNINGS    OK  UNNEEDED, same version is already published
lconwaymacOS 12.7.1 Monterey / x86_64  OK    OK    WARNINGS    OK  UNNEEDED, same version is already published
kjohnson3macOS 13.7.1 Ventura / arm64  OK    OK    WARNINGS    OK  UNNEEDED, same version is already published
taishanLinux (openEuler 24.03 LTS) / aarch64  OK    OK    ERROR  
Package 119/179HostnameOS / ArchINSTALLBUILDCHECKBUILD BIN
plyranges 1.29.0  (landing page)
Michael Love
git_last_commit: e3aa4b8
git_last_commit_date: 2025-04-15 11:20:13 -0400
nebbiolo2Linux (Ubuntu 24.04.1 LTS) / x86_64  OK    OK    OK  UNNEEDED, same version is already published
palomino8Windows Server 2022 Datacenter / x64  OK    OK    OK    OK  UNNEEDED, same version is already published
lconwaymacOS 12.7.1 Monterey / x86_64  OK    OK    OK    OK  UNNEEDED, same version is already published
kjohnson3macOS 13.7.1 Ventura / arm64  OK    OK    ERROR    OK  
taishanLinux (openEuler 24.03 LTS) / aarch64  OK    OK    OK  
Package 120/179HostnameOS / ArchINSTALLBUILDCHECKBUILD BIN
pram 1.25.0  (landing page)
Peng Liu
git_last_commit: c97415b
git_last_commit_date: 2025-04-15 11:42:01 -0400
nebbiolo2Linux (Ubuntu 24.04.1 LTS) / x86_64  OK    OK    OK  UNNEEDED, same version is already published
palomino8Windows Server 2022 Datacenter / x64  OK    OK    OK    OK  UNNEEDED, same version is already published
lconwaymacOS 12.7.1 Monterey / x86_64  OK    OK    OK    OK  UNNEEDED, same version is already published
kjohnson3macOS 13.7.1 Ventura / arm64  OK    OK    OK    OK  UNNEEDED, same version is already published
taishanLinux (openEuler 24.03 LTS) / aarch64  OK    OK    OK  
Package 121/179HostnameOS / ArchINSTALLBUILDCHECKBUILD BIN
primirTSS 1.27.0  (landing page)
Pumin Li
git_last_commit: e7b6a3b
git_last_commit_date: 2025-04-15 11:36:51 -0400
nebbiolo2Linux (Ubuntu 24.04.1 LTS) / x86_64  OK    OK    WARNINGS  UNNEEDED, same version is already published
palomino8Windows Server 2022 Datacenter / x64  OK    OK    WARNINGS    OK  UNNEEDED, same version is already published
lconwaymacOS 12.7.1 Monterey / x86_64  OK    OK    WARNINGS    OK  UNNEEDED, same version is already published
kjohnson3macOS 13.7.1 Ventura / arm64  OK    OK    WARNINGS    OK  UNNEEDED, same version is already published
taishanLinux (openEuler 24.03 LTS) / aarch64  ERROR    ERROR  skipped
Package 122/179HostnameOS / ArchINSTALLBUILDCHECKBUILD BIN
proBAMr 1.43.1  (landing page)
Xiaojing Wang
git_last_commit: c2450bb
git_last_commit_date: 2025-04-30 15:07:53 -0400
nebbiolo2Linux (Ubuntu 24.04.1 LTS) / x86_64  OK    OK    OK  UNNEEDED, same version is already published
palomino8Windows Server 2022 Datacenter / x64  OK    OK    OK    OK  UNNEEDED, same version is already published
lconwaymacOS 12.7.1 Monterey / x86_64  OK    OK    OK    OK  UNNEEDED, same version is already published
kjohnson3macOS 13.7.1 Ventura / arm64  OK    OK    OK    OK  UNNEEDED, same version is already published
taishanLinux (openEuler 24.03 LTS) / aarch64  OK    OK    OK  
Package 123/179HostnameOS / ArchINSTALLBUILDCHECKBUILD BIN
profileplyr 1.25.0  (landing page)
Tom Carroll , Doug Barrows
git_last_commit: f966c1a
git_last_commit_date: 2025-04-15 11:43:27 -0400
nebbiolo2Linux (Ubuntu 24.04.1 LTS) / x86_64  OK    OK    OK  UNNEEDED, same version is already published
palomino8Windows Server 2022 Datacenter / x64  OK    OK    OK    OK  UNNEEDED, same version is already published
lconwaymacOS 12.7.1 Monterey / x86_64  OK    OK    OK    OK  UNNEEDED, same version is already published
kjohnson3macOS 13.7.1 Ventura / arm64  OK    OK    OK    OK  UNNEEDED, same version is already published
taishanLinux (openEuler 24.03 LTS) / aarch64  OK    OK    OK  
Package 124/179HostnameOS / ArchINSTALLBUILDCHECKBUILD BIN
PureCN 2.15.3  (landing page)
Markus Riester
git_last_commit: 8b2629d
git_last_commit_date: 2025-04-23 13:42:03 -0400
nebbiolo2Linux (Ubuntu 24.04.1 LTS) / x86_64  OK    OK    OK  UNNEEDED, same version is already published
palomino8Windows Server 2022 Datacenter / x64  OK    OK    OK    OK  UNNEEDED, same version is already published
lconwaymacOS 12.7.1 Monterey / x86_64  OK    OK    OK    OK  UNNEEDED, same version is already published
kjohnson3macOS 13.7.1 Ventura / arm64  OK    OK    OK    OK  UNNEEDED, same version is already published
taishanLinux (openEuler 24.03 LTS) / aarch64  OK    OK    OK  
Package 125/179HostnameOS / ArchINSTALLBUILDCHECKBUILD BIN
qsea 1.35.0  (landing page)
Matthias Lienhard
git_last_commit: f21c202
git_last_commit_date: 2025-04-15 11:03:07 -0400
nebbiolo2Linux (Ubuntu 24.04.1 LTS) / x86_64  OK    OK    WARNINGS  UNNEEDED, same version is already published
palomino8Windows Server 2022 Datacenter / x64  OK    OK    WARNINGS    OK  UNNEEDED, same version is already published
lconwaymacOS 12.7.1 Monterey / x86_64  ERROR    ERROR  skippedskipped
kjohnson3macOS 13.7.1 Ventura / arm64  ERROR    ERROR  skippedskipped
taishanLinux (openEuler 24.03 LTS) / aarch64  OK    OK    WARNINGS  
Package 126/179HostnameOS / ArchINSTALLBUILDCHECKBUILD BIN
QuasR 1.49.1  (landing page)
Michael Stadler
git_last_commit: cbb6408
git_last_commit_date: 2025-05-01 04:53:36 -0400
nebbiolo2Linux (Ubuntu 24.04.1 LTS) / x86_64  OK    OK    WARNINGS  UNNEEDED, same version is already published
palomino8Windows Server 2022 Datacenter / x64  OK    OK    WARNINGS    OK  UNNEEDED, same version is already published
lconwaymacOS 12.7.1 Monterey / x86_64  OK    OK    WARNINGS    OK  UNNEEDED, same version is already published
kjohnson3macOS 13.7.1 Ventura / arm64  OK    OK    WARNINGS    OK  UNNEEDED, same version is already published
taishanLinux (openEuler 24.03 LTS) / aarch64  OK    OK    WARNINGS  
Package 127/179HostnameOS / ArchINSTALLBUILDCHECKBUILD BIN
r3Cseq 1.55.0  (landing page)
Supat Thongjuea or
git_last_commit: 0e2397e
git_last_commit_date: 2025-04-15 10:11:09 -0400
nebbiolo2Linux (Ubuntu 24.04.1 LTS) / x86_64  OK    OK    OK  UNNEEDED, same version is already published
palomino8Windows Server 2022 Datacenter / x64  OK    OK    OK    OK  UNNEEDED, same version is already published
lconwaymacOS 12.7.1 Monterey / x86_64  OK    OK    OK    OK  UNNEEDED, same version is already published
kjohnson3macOS 13.7.1 Ventura / arm64  OK    OK    OK    OK  UNNEEDED, same version is already published
taishanLinux (openEuler 24.03 LTS) / aarch64  OK    OK    ERROR  
Package 128/179HostnameOS / ArchINSTALLBUILDCHECKBUILD BIN
raer 1.7.0  (landing page)
Kent Riemondy
git_last_commit: d7ecf03
git_last_commit_date: 2025-04-15 13:23:25 -0400
nebbiolo2Linux (Ubuntu 24.04.1 LTS) / x86_64  OK    OK    OK  UNNEEDED, same version is already published
palomino8Windows Server 2022 Datacenter / x64  OK    OK    OK    OK  UNNEEDED, same version is already published
lconwaymacOS 12.7.1 Monterey / x86_64  OK    OK    OK    OK  UNNEEDED, same version is already published
kjohnson3macOS 13.7.1 Ventura / arm64  OK    OK    OK    OK  UNNEEDED, same version is already published
taishanLinux (openEuler 24.03 LTS) / aarch64  OK    OK    OK  
Package 129/179HostnameOS / ArchINSTALLBUILDCHECKBUILD BIN
RCAS 1.35.0  (landing page)
Bora Uyar
git_last_commit: 2067192
git_last_commit_date: 2025-04-15 11:03:46 -0400
nebbiolo2Linux (Ubuntu 24.04.1 LTS) / x86_64  OK    OK    OK  UNNEEDED, same version is already published
palomino8Windows Server 2022 Datacenter / x64  OK    OK    OK    OK  UNNEEDED, same version is already published
lconwaymacOS 12.7.1 Monterey / x86_64  OK    OK    OK    OK  UNNEEDED, same version is already published
kjohnson3macOS 13.7.1 Ventura / arm64  OK    OK    OK    OK  UNNEEDED, same version is already published
taishanLinux (openEuler 24.03 LTS) / aarch64  OK    OK    OK  
Package 130/179HostnameOS / ArchINSTALLBUILDCHECKBUILD BIN
recount 1.35.0  (landing page)
Leonardo Collado-Torres
git_last_commit: cddf02e
git_last_commit_date: 2025-04-15 11:04:08 -0400
nebbiolo2Linux (Ubuntu 24.04.1 LTS) / x86_64  OK    OK    OK  UNNEEDED, same version is already published
palomino8Windows Server 2022 Datacenter / x64  OK    OK    OK    OK  UNNEEDED, same version is already published
lconwaymacOS 12.7.1 Monterey / x86_64  OK    OK    OK    OK  UNNEEDED, same version is already published
kjohnson3macOS 13.7.1 Ventura / arm64  OK    OK    OK    OK  UNNEEDED, same version is already published
taishanLinux (openEuler 24.03 LTS) / aarch64  OK    TIMEOUT  skipped
Package 131/179HostnameOS / ArchINSTALLBUILDCHECKBUILD BIN
recount3 1.19.0  (landing page)
Leonardo Collado-Torres
git_last_commit: 841a715
git_last_commit_date: 2025-04-15 12:11:39 -0400
nebbiolo2Linux (Ubuntu 24.04.1 LTS) / x86_64  OK    OK    ERROR  
palomino8Windows Server 2022 Datacenter / x64  OK    OK    ERROR    OK  
lconwaymacOS 12.7.1 Monterey / x86_64  OK    OK    ERROR    OK  
kjohnson3macOS 13.7.1 Ventura / arm64  OK    OK    ERROR    OK  
taishanLinux (openEuler 24.03 LTS) / aarch64  OK    OK    ERROR  
Package 132/179HostnameOS / ArchINSTALLBUILDCHECKBUILD BIN
recoup 1.37.0  (landing page)
Panagiotis Moulos
git_last_commit: 012b1d6
git_last_commit_date: 2025-04-15 11:00:05 -0400
nebbiolo2Linux (Ubuntu 24.04.1 LTS) / x86_64  OK    OK    ERROR  
palomino8Windows Server 2022 Datacenter / x64  OK    OK    OK    OK  UNNEEDED, same version is already published
lconwaymacOS 12.7.1 Monterey / x86_64  OK    OK    ERROR    OK  
kjohnson3macOS 13.7.1 Ventura / arm64  OK    OK    ERROR    OK  
taishanLinux (openEuler 24.03 LTS) / aarch64  OK    OK    OK  
Package 133/179HostnameOS / ArchINSTALLBUILDCHECKBUILD BIN
regioneR 1.41.0  (landing page)
Bernat Gel
git_last_commit: ae8c3d7
git_last_commit_date: 2025-04-15 10:49:49 -0400
nebbiolo2Linux (Ubuntu 24.04.1 LTS) / x86_64  OK    ERROR  skipped
palomino8Windows Server 2022 Datacenter / x64  OK    ERROR  skippedskipped
lconwaymacOS 12.7.1 Monterey / x86_64  OK    ERROR  skippedskipped
kjohnson3macOS 13.7.1 Ventura / arm64  OK    ERROR  skippedskipped
taishanLinux (openEuler 24.03 LTS) / aarch64  OK    ERROR  skipped
Package 134/179HostnameOS / ArchINSTALLBUILDCHECKBUILD BIN
REMP 1.33.0  (landing page)
Yinan Zheng
git_last_commit: dd63564
git_last_commit_date: 2025-04-15 11:08:42 -0400
nebbiolo2Linux (Ubuntu 24.04.1 LTS) / x86_64  OK    OK    OK  UNNEEDED, same version is already published
palomino8Windows Server 2022 Datacenter / x64  OK    OK    OK    OK  UNNEEDED, same version is already published
lconwaymacOS 12.7.1 Monterey / x86_64  OK    OK    OK    OK  UNNEEDED, same version is already published
kjohnson3macOS 13.7.1 Ventura / arm64  OK    OK    OK    OK  UNNEEDED, same version is already published
taishanLinux (openEuler 24.03 LTS) / aarch64  OK    ERROR  skipped
Package 135/179HostnameOS / ArchINSTALLBUILDCHECKBUILD BIN
Repitools 1.55.0  (landing page)
Mark Robinson
git_last_commit: 96da662
git_last_commit_date: 2025-04-15 10:09:01 -0400
nebbiolo2Linux (Ubuntu 24.04.1 LTS) / x86_64  OK    OK    WARNINGS  UNNEEDED, same version is already published
palomino8Windows Server 2022 Datacenter / x64  OK    OK    WARNINGS    OK  UNNEEDED, same version is already published
lconwaymacOS 12.7.1 Monterey / x86_64  OK    OK    WARNINGS    OK  UNNEEDED, same version is already published
kjohnson3macOS 13.7.1 Ventura / arm64  ERROR    ERROR  skippedskipped
taishanLinux (openEuler 24.03 LTS) / aarch64  OK    OK    ERROR  
Package 136/179HostnameOS / ArchINSTALLBUILDCHECKBUILD BIN
RiboCrypt 1.15.0  (landing page)
Michal Swirski
git_last_commit: c948ec8
git_last_commit_date: 2025-04-15 12:42:29 -0400
nebbiolo2Linux (Ubuntu 24.04.1 LTS) / x86_64  OK    OK    ERROR  
palomino8Windows Server 2022 Datacenter / x64  OK    OK    ERROR    OK  
lconwaymacOS 12.7.1 Monterey / x86_64  OK    OK    ERROR    OK  
kjohnson3macOS 13.7.1 Ventura / arm64  OK    OK    ERROR    OK  
taishanLinux (openEuler 24.03 LTS) / aarch64  OK    OK    ERROR  
Package 137/179HostnameOS / ArchINSTALLBUILDCHECKBUILD BIN
RiboProfiling 1.39.0  (landing page)
A. Popa
git_last_commit: bdefbb7
git_last_commit_date: 2025-04-15 10:56:00 -0400
nebbiolo2Linux (Ubuntu 24.04.1 LTS) / x86_64  OK    OK    WARNINGS  UNNEEDED, same version is already published
palomino8Windows Server 2022 Datacenter / x64  OK    OK    WARNINGS    OK  UNNEEDED, same version is already published
lconwaymacOS 12.7.1 Monterey / x86_64  OK    OK    WARNINGS    OK  UNNEEDED, same version is already published
kjohnson3macOS 13.7.1 Ventura / arm64  OK    OK    WARNINGS    OK  UNNEEDED, same version is already published
taishanLinux (openEuler 24.03 LTS) / aarch64  OK    OK    WARNINGS  
Package 138/179HostnameOS / ArchINSTALLBUILDCHECKBUILD BIN
ribosomeProfilingQC 1.21.1  (landing page)
Jianhong Ou
git_last_commit: fabbd11
git_last_commit_date: 2025-05-02 10:47:39 -0400
nebbiolo2Linux (Ubuntu 24.04.1 LTS) / x86_64  OK    OK    OK  UNNEEDED, same version is already published
palomino8Windows Server 2022 Datacenter / x64  OK    OK    OK    OK  UNNEEDED, same version is already published
lconwaymacOS 12.7.1 Monterey / x86_64  OK    OK    OK    OK  UNNEEDED, same version is already published
kjohnson3macOS 13.7.1 Ventura / arm64  OK    OK    OK    OK  UNNEEDED, same version is already published
taishanLinux (openEuler 24.03 LTS) / aarch64  OK    OK    OK  
Package 139/179HostnameOS / ArchINSTALLBUILDCHECKBUILD BIN
rifi 1.13.0  (landing page)
Jens Georg
git_last_commit: 9442274
git_last_commit_date: 2025-04-15 12:51:32 -0400
nebbiolo2Linux (Ubuntu 24.04.1 LTS) / x86_64  OK    OK    WARNINGS  UNNEEDED, same version is already published
palomino8Windows Server 2022 Datacenter / x64... NOT SUPPORTED ...
lconwaymacOS 12.7.1 Monterey / x86_64  OK    OK    WARNINGS    OK  UNNEEDED, same version is already published
kjohnson3macOS 13.7.1 Ventura / arm64  OK    OK    WARNINGS    OK  UNNEEDED, same version is already published
taishanLinux (openEuler 24.03 LTS) / aarch64  OK    TIMEOUT  skipped
Package 140/179HostnameOS / ArchINSTALLBUILDCHECKBUILD BIN
rifiComparative 1.9.0  (landing page)
Loubna Youssar
git_last_commit: 901628c
git_last_commit_date: 2025-04-15 13:01:51 -0400
nebbiolo2Linux (Ubuntu 24.04.1 LTS) / x86_64  OK    OK    OK  UNNEEDED, same version is already published
palomino8Windows Server 2022 Datacenter / x64... NOT SUPPORTED ...
lconwaymacOS 12.7.1 Monterey / x86_64  OK    OK    OK    OK  UNNEEDED, same version is already published
kjohnson3macOS 13.7.1 Ventura / arm64  OK    OK    OK    OK  UNNEEDED, same version is already published
taishanLinux (openEuler 24.03 LTS) / aarch64  OK    OK    OK  
Package 141/179HostnameOS / ArchINSTALLBUILDCHECKBUILD BIN
rmspc 1.15.0  (landing page)
Meriem Bahda
git_last_commit: 0a383ed
git_last_commit_date: 2025-04-15 12:37:06 -0400
nebbiolo2Linux (Ubuntu 24.04.1 LTS) / x86_64  OK    OK    OK  UNNEEDED, same version is already published
palomino8Windows Server 2022 Datacenter / x64  OK    OK    OK    OK  UNNEEDED, same version is already published
lconwaymacOS 12.7.1 Monterey / x86_64  OK    OK    OK    OK  UNNEEDED, same version is already published
kjohnson3macOS 13.7.1 Ventura / arm64  OK    OK    OK    OK  UNNEEDED, same version is already published
taishanLinux (openEuler 24.03 LTS) / aarch64  OK    OK    OK  
Package 142/179HostnameOS / ArchINSTALLBUILDCHECKBUILD BIN
RNAmodR 1.23.0  (landing page)
Felix G.M. Ernst
git_last_commit: d7d567a
git_last_commit_date: 2025-04-15 11:47:08 -0400
nebbiolo2Linux (Ubuntu 24.04.1 LTS) / x86_64  OK    OK    OK  UNNEEDED, same version is already published
palomino8Windows Server 2022 Datacenter / x64  OK    OK    OK    OK  UNNEEDED, same version is already published
lconwaymacOS 12.7.1 Monterey / x86_64  OK    OK    OK    OK  UNNEEDED, same version is already published
kjohnson3macOS 13.7.1 Ventura / arm64  OK    OK    OK    OK  UNNEEDED, same version is already published
taishanLinux (openEuler 24.03 LTS) / aarch64  OK    OK    OK  
Package 143/179HostnameOS / ArchINSTALLBUILDCHECKBUILD BIN
roar 1.45.0  (landing page)
Elena Grassi
git_last_commit: b80b0b5
git_last_commit_date: 2025-04-15 10:28:04 -0400
nebbiolo2Linux (Ubuntu 24.04.1 LTS) / x86_64  OK    OK    OK  UNNEEDED, same version is already published
palomino8Windows Server 2022 Datacenter / x64  OK    OK    OK    OK  UNNEEDED, same version is already published
lconwaymacOS 12.7.1 Monterey / x86_64  OK    OK    OK    OK  UNNEEDED, same version is already published
kjohnson3macOS 13.7.1 Ventura / arm64  OK    OK    OK    OK  UNNEEDED, same version is already published
taishanLinux (openEuler 24.03 LTS) / aarch64  OK    OK    OK  
Package 144/179HostnameOS / ArchINSTALLBUILDCHECKBUILD BIN
scanMiRApp 1.15.0  (landing page)
Pierre-Luc Germain
git_last_commit: c6101ee
git_last_commit_date: 2025-04-15 12:36:07 -0400
nebbiolo2Linux (Ubuntu 24.04.1 LTS) / x86_64  OK    OK    OK  UNNEEDED, same version is already published
palomino8Windows Server 2022 Datacenter / x64  OK    OK    OK    OK  UNNEEDED, same version is already published
lconwaymacOS 12.7.1 Monterey / x86_64  OK    OK    OK    OK  UNNEEDED, same version is already published
kjohnson3macOS 13.7.1 Ventura / arm64  OK    OK    OK    OK  UNNEEDED, same version is already published
taishanLinux (openEuler 24.03 LTS) / aarch64  OK    OK    ERROR  
Package 145/179HostnameOS / ArchINSTALLBUILDCHECKBUILD BIN
SCANVIS 1.23.0  (landing page)
Phaedra Agius
git_last_commit: f253afc
git_last_commit_date: 2025-04-15 11:48:02 -0400
nebbiolo2Linux (Ubuntu 24.04.1 LTS) / x86_64  OK    OK    OK  UNNEEDED, same version is already published
palomino8Windows Server 2022 Datacenter / x64  OK    OK    OK    OK  UNNEEDED, same version is already published
lconwaymacOS 12.7.1 Monterey / x86_64  OK    OK    OK    OK  UNNEEDED, same version is already published
kjohnson3macOS 13.7.1 Ventura / arm64  OK    OK    OK    OK  UNNEEDED, same version is already published
taishanLinux (openEuler 24.03 LTS) / aarch64  OK    OK    OK  
Package 146/179HostnameOS / ArchINSTALLBUILDCHECKBUILD BIN
scDblFinder 1.23.0  (landing page)
Pierre-Luc Germain
git_last_commit: 140aaad
git_last_commit_date: 2025-04-15 11:52:04 -0400
nebbiolo2Linux (Ubuntu 24.04.1 LTS) / x86_64  OK    OK    OK  UNNEEDED, same version is already published
palomino8Windows Server 2022 Datacenter / x64  OK    OK    ERROR    OK  
lconwaymacOS 12.7.1 Monterey / x86_64  OK    OK    OK    OK  UNNEEDED, same version is already published
kjohnson3macOS 13.7.1 Ventura / arm64  OK    OK    OK    OK  NO, package depends on 'BiocSingular' which is only available as a source package that needs compilation
taishanLinux (openEuler 24.03 LTS) / aarch64  OK    OK    OK  
Package 147/179HostnameOS / ArchINSTALLBUILDCHECKBUILD BIN
scPipe 2.9.0  (landing page)
Shian Su
git_last_commit: f3a6ca4
git_last_commit_date: 2025-04-15 11:15:16 -0400
nebbiolo2Linux (Ubuntu 24.04.1 LTS) / x86_64  OK    OK    OK  UNNEEDED, same version is already published
palomino8Windows Server 2022 Datacenter / x64  OK    OK    OK    OK  UNNEEDED, same version is already published
lconwaymacOS 12.7.1 Monterey / x86_64  OK    OK    OK    OK  UNNEEDED, same version is already published
kjohnson3macOS 13.7.1 Ventura / arm64  OK    OK    OK    OK  NO, package depends on 'DropletUtils' which is only available as a source package that needs compilation
taishanLinux (openEuler 24.03 LTS) / aarch64  OK    OK    OK  
Package 148/179HostnameOS / ArchINSTALLBUILDCHECKBUILD BIN
scRNAseqApp 1.9.6  (landing page)
Jianhong Ou
git_last_commit: 4e7e9b9
git_last_commit_date: 2025-05-07 11:41:22 -0400
nebbiolo2Linux (Ubuntu 24.04.1 LTS) / x86_64  OK    OK    OK  UNNEEDED, same version is already published
palomino8Windows Server 2022 Datacenter / x64  OK    OK    OK    OK  UNNEEDED, same version is already published
lconwaymacOS 12.7.1 Monterey / x86_64  OK    OK    OK    OK  UNNEEDED, same version is already published
kjohnson3macOS 13.7.1 Ventura / arm64  OK    OK    OK    OK  UNNEEDED, same version is already published
taishanLinux (openEuler 24.03 LTS) / aarch64  OK    OK    OK  
Package 149/179HostnameOS / ArchINSTALLBUILDCHECKBUILD BIN
scruff 1.27.0  (landing page)
Zhe Wang
git_last_commit: f98263f
git_last_commit_date: 2025-04-15 11:35:26 -0400
nebbiolo2Linux (Ubuntu 24.04.1 LTS) / x86_64  OK    OK    OK  UNNEEDED, same version is already published
palomino8Windows Server 2022 Datacenter / x64  OK    OK    OK    OK  UNNEEDED, same version is already published
lconwaymacOS 12.7.1 Monterey / x86_64  OK    OK    OK    OK  UNNEEDED, same version is already published
kjohnson3macOS 13.7.1 Ventura / arm64  OK    OK    OK    OK  UNNEEDED, same version is already published
taishanLinux (openEuler 24.03 LTS) / aarch64  OK    OK    OK  
Package 150/179HostnameOS / ArchINSTALLBUILDCHECKBUILD BIN
seqCAT 1.31.0  (landing page)
Erik Fasterius
git_last_commit: 116312f
git_last_commit_date: 2025-04-15 11:14:28 -0400
nebbiolo2Linux (Ubuntu 24.04.1 LTS) / x86_64  OK    OK    OK  UNNEEDED, same version is already published
palomino8Windows Server 2022 Datacenter / x64  OK    OK    OK    OK  UNNEEDED, same version is already published
lconwaymacOS 12.7.1 Monterey / x86_64  OK    OK    OK    OK  UNNEEDED, same version is already published
kjohnson3macOS 13.7.1 Ventura / arm64  OK    OK    OK    OK  UNNEEDED, same version is already published
taishanLinux (openEuler 24.03 LTS) / aarch64  OK    OK    OK  
Package 151/179HostnameOS / ArchINSTALLBUILDCHECKBUILD BIN
seqsetvis 1.29.0  (landing page)
Joseph R Boyd
git_last_commit: e6d922f
git_last_commit_date: 2025-04-15 11:20:09 -0400
nebbiolo2Linux (Ubuntu 24.04.1 LTS) / x86_64  OK    OK    OK  UNNEEDED, same version is already published
palomino8Windows Server 2022 Datacenter / x64  OK    OK    OK    OK  UNNEEDED, same version is already published
lconwaymacOS 12.7.1 Monterey / x86_64  OK    OK    OK    OK  UNNEEDED, same version is already published
kjohnson3macOS 13.7.1 Ventura / arm64  OK    OK    OK    OK  UNNEEDED, same version is already published
taishanLinux (openEuler 24.03 LTS) / aarch64  OK    OK    OK  
Package 152/179HostnameOS / ArchINSTALLBUILDCHECKBUILD BIN
sevenC 1.29.0  (landing page)
Jonas Ibn-Salem
git_last_commit: 2fa3573
git_last_commit_date: 2025-04-15 11:33:14 -0400
nebbiolo2Linux (Ubuntu 24.04.1 LTS) / x86_64  OK    OK    OK  UNNEEDED, same version is already published
palomino8Windows Server 2022 Datacenter / x64  OK    OK    OK    OK  UNNEEDED, same version is already published
lconwaymacOS 12.7.1 Monterey / x86_64  OK    OK    OK    OK  UNNEEDED, same version is already published
kjohnson3macOS 13.7.1 Ventura / arm64  OK    OK    OK    OK  UNNEEDED, same version is already published
taishanLinux (openEuler 24.03 LTS) / aarch64  OK    OK    OK  
Package 153/179HostnameOS / ArchINSTALLBUILDCHECKBUILD BIN
SGSeq 1.43.0  (landing page)
Leonard Goldstein
git_last_commit: 5decc57
git_last_commit_date: 2025-04-15 10:35:46 -0400
nebbiolo2Linux (Ubuntu 24.04.1 LTS) / x86_64  OK    OK    OK  UNNEEDED, same version is already published
palomino8Windows Server 2022 Datacenter / x64  OK    OK    OK    OK  UNNEEDED, same version is already published
lconwaymacOS 12.7.1 Monterey / x86_64  OK    OK    OK    OK  UNNEEDED, same version is already published
kjohnson3macOS 13.7.1 Ventura / arm64  OK    OK    OK    OK  UNNEEDED, same version is already published
taishanLinux (openEuler 24.03 LTS) / aarch64  OK    OK    OK  
Package 154/179HostnameOS / ArchINSTALLBUILDCHECKBUILD BIN
shinyepico 1.17.0  (landing page)
Octavio Morante-Palacios
git_last_commit: b911db9
git_last_commit_date: 2025-04-15 12:15:09 -0400
nebbiolo2Linux (Ubuntu 24.04.1 LTS) / x86_64  OK    OK    OK  UNNEEDED, same version is already published
palomino8Windows Server 2022 Datacenter / x64  OK    OK    OK    OK  UNNEEDED, same version is already published
lconwaymacOS 12.7.1 Monterey / x86_64  OK    OK    OK    OK  UNNEEDED, same version is already published
kjohnson3macOS 13.7.1 Ventura / arm64  OK    OK    OK    OK  UNNEEDED, same version is already published
taishanLinux (openEuler 24.03 LTS) / aarch64  OK    OK    OK  
Package 155/179HostnameOS / ArchINSTALLBUILDCHECKBUILD BIN
signeR 2.11.0  (landing page)
Renan Valieris
git_last_commit: 2e79be9
git_last_commit_date: 2025-04-15 11:05:00 -0400
nebbiolo2Linux (Ubuntu 24.04.1 LTS) / x86_64  OK    OK    OK  UNNEEDED, same version is already published
palomino8Windows Server 2022 Datacenter / x64  OK    OK    OK    OK  UNNEEDED, same version is already published
lconwaymacOS 12.7.1 Monterey / x86_64  OK    OK    OK    OK  UNNEEDED, same version is already published
kjohnson3macOS 13.7.1 Ventura / arm64  OK    OK    OK    OK  UNNEEDED, same version is already published
taishanLinux (openEuler 24.03 LTS) / aarch64  OK    OK    OK  
Package 156/179HostnameOS / ArchINSTALLBUILDCHECKBUILD BIN
SigsPack 1.23.0  (landing page)
Franziska Schumann
git_last_commit: 958f645
git_last_commit_date: 2025-04-15 11:48:59 -0400
nebbiolo2Linux (Ubuntu 24.04.1 LTS) / x86_64  OK    OK    OK  UNNEEDED, same version is already published
palomino8Windows Server 2022 Datacenter / x64  OK    OK    OK    OK  UNNEEDED, same version is already published
lconwaymacOS 12.7.1 Monterey / x86_64  OK    OK    OK    OK  UNNEEDED, same version is already published
kjohnson3macOS 13.7.1 Ventura / arm64  OK    OK    OK    OK  UNNEEDED, same version is already published
taishanLinux (openEuler 24.03 LTS) / aarch64  OK    OK    OK  
Package 157/179HostnameOS / ArchINSTALLBUILDCHECKBUILD BIN
sitadela 1.17.0  (landing page)
Panagiotis Moulos
git_last_commit: ed8db39
git_last_commit_date: 2025-04-15 12:22:46 -0400
nebbiolo2Linux (Ubuntu 24.04.1 LTS) / x86_64  OK    OK    ERROR  
palomino8Windows Server 2022 Datacenter / x64  OK    OK    OK    OK  UNNEEDED, same version is already published
lconwaymacOS 12.7.1 Monterey / x86_64  OK    OK    ERROR    OK  
kjohnson3macOS 13.7.1 Ventura / arm64  OK    OK    ERROR    OK  
taishanLinux (openEuler 24.03 LTS) / aarch64  OK    OK    ERROR  
Package 158/179HostnameOS / ArchINSTALLBUILDCHECKBUILD BIN
soGGi 1.41.0  (landing page)
Tom Carroll
git_last_commit: f849a46
git_last_commit_date: 2025-04-15 10:50:26 -0400
nebbiolo2Linux (Ubuntu 24.04.1 LTS) / x86_64  OK    OK    OK  UNNEEDED, same version is already published
palomino8Windows Server 2022 Datacenter / x64  OK    OK    OK    OK  UNNEEDED, same version is already published
lconwaymacOS 12.7.1 Monterey / x86_64  OK    OK    OK    OK  UNNEEDED, same version is already published
kjohnson3macOS 13.7.1 Ventura / arm64  OK    OK    OK    OK  UNNEEDED, same version is already published
taishanLinux (openEuler 24.03 LTS) / aarch64  OK    OK    OK  
Package 159/179HostnameOS / ArchINSTALLBUILDCHECKBUILD BIN
SOMNiBUS 1.17.0  (landing page)
Kathleen Klein
git_last_commit: 83171d7
git_last_commit_date: 2025-04-15 12:18:18 -0400
nebbiolo2Linux (Ubuntu 24.04.1 LTS) / x86_64  OK    OK    OK  NO, package depends on 'annotatr' which is not available
palomino8Windows Server 2022 Datacenter / x64  OK    OK    OK    OK  NO, package depends on 'annotatr' which is not available
lconwaymacOS 12.7.1 Monterey / x86_64  OK    OK    OK    OK  NO, package depends on 'annotatr' which is not available
kjohnson3macOS 13.7.1 Ventura / arm64  OK    OK    OK    OK  NO, package depends on 'annotatr' which is not available
taishanLinux (openEuler 24.03 LTS) / aarch64  OK    OK    OK  
Package 160/179HostnameOS / ArchINSTALLBUILDCHECKBUILD BIN
SpliceWiz 1.11.0  (landing page)
Alex Chit Hei Wong
git_last_commit: ff5b222
git_last_commit_date: 2025-04-15 12:53:12 -0400
nebbiolo2Linux (Ubuntu 24.04.1 LTS) / x86_64  OK    OK    OK  UNNEEDED, same version is already published
palomino8Windows Server 2022 Datacenter / x64  OK    OK    OK    OK  UNNEEDED, same version is already published
lconwaymacOS 12.7.1 Monterey / x86_64  OK    OK    OK    OK  UNNEEDED, same version is already published
kjohnson3macOS 13.7.1 Ventura / arm64  OK    OK    OK    OK  NO, package depends on 'DelayedArray' which is only available as a source package that needs compilation
taishanLinux (openEuler 24.03 LTS) / aarch64  OK    OK    OK  
Package 161/179HostnameOS / ArchINSTALLBUILDCHECKBUILD BIN
srnadiff 1.29.0  (landing page)
Zytnicki Matthias
git_last_commit: 89eb662
git_last_commit_date: 2025-04-15 11:17:37 -0400
nebbiolo2Linux (Ubuntu 24.04.1 LTS) / x86_64  OK    OK    WARNINGS  UNNEEDED, same version is already published
palomino8Windows Server 2022 Datacenter / x64  OK    OK    WARNINGS    OK  UNNEEDED, same version is already published
lconwaymacOS 12.7.1 Monterey / x86_64  OK    OK    WARNINGS    OK  UNNEEDED, same version is already published
kjohnson3macOS 13.7.1 Ventura / arm64  OK    OK    WARNINGS    OK  UNNEEDED, same version is already published
taishanLinux (openEuler 24.03 LTS) / aarch64  OK    OK    WARNINGS  
Package 162/179HostnameOS / ArchINSTALLBUILDCHECKBUILD BIN
StructuralVariantAnnotation 1.25.0  (landing page)
Daniel Cameron
git_last_commit: 9429df7
git_last_commit_date: 2025-04-15 11:46:44 -0400
nebbiolo2Linux (Ubuntu 24.04.1 LTS) / x86_64  OK    OK    OK  UNNEEDED, same version is already published
palomino8Windows Server 2022 Datacenter / x64  OK    OK    OK    OK  UNNEEDED, same version is already published
lconwaymacOS 12.7.1 Monterey / x86_64  OK    OK    OK    OK  UNNEEDED, same version is already published
kjohnson3macOS 13.7.1 Ventura / arm64  OK    OK    OK    OK  UNNEEDED, same version is already published
taishanLinux (openEuler 24.03 LTS) / aarch64  OK    OK    OK  
Package 163/179HostnameOS / ArchINSTALLBUILDCHECKBUILD BIN
svaNUMT 1.15.0  (landing page)
Ruining Dong
git_last_commit: 8d6da17
git_last_commit_date: 2025-04-15 12:34:37 -0400
nebbiolo2Linux (Ubuntu 24.04.1 LTS) / x86_64  OK    OK    OK  UNNEEDED, same version is already published
palomino8Windows Server 2022 Datacenter / x64  OK    OK    OK    OK  UNNEEDED, same version is already published
lconwaymacOS 12.7.1 Monterey / x86_64  OK    OK    OK    OK  UNNEEDED, same version is already published
kjohnson3macOS 13.7.1 Ventura / arm64  OK    OK    OK    OK  UNNEEDED, same version is already published
taishanLinux (openEuler 24.03 LTS) / aarch64  OK    OK    OK  
Package 164/179HostnameOS / ArchINSTALLBUILDCHECKBUILD BIN
svaRetro 1.15.0  (landing page)
Ruining Dong
git_last_commit: f920a00
git_last_commit_date: 2025-04-15 12:37:27 -0400
nebbiolo2Linux (Ubuntu 24.04.1 LTS) / x86_64  OK    OK    OK  UNNEEDED, same version is already published
palomino8Windows Server 2022 Datacenter / x64  OK    OK    OK    OK  UNNEEDED, same version is already published
lconwaymacOS 12.7.1 Monterey / x86_64  OK    OK    OK    OK  UNNEEDED, same version is already published
kjohnson3macOS 13.7.1 Ventura / arm64  OK    OK    OK    OK  UNNEEDED, same version is already published
taishanLinux (openEuler 24.03 LTS) / aarch64  OK    OK    OK  
Package 165/179HostnameOS / ArchINSTALLBUILDCHECKBUILD BIN
syntenet 1.11.0  (landing page)
Fabrício Almeida-Silva
git_last_commit: b93b114
git_last_commit_date: 2025-04-15 12:52:39 -0400
nebbiolo2Linux (Ubuntu 24.04.1 LTS) / x86_64  OK    OK    OK  UNNEEDED, same version is already published
palomino8Windows Server 2022 Datacenter / x64  OK    OK    OK    OK  UNNEEDED, same version is already published
lconwaymacOS 12.7.1 Monterey / x86_64  OK    OK    OK    OK  UNNEEDED, same version is already published
kjohnson3macOS 13.7.1 Ventura / arm64  OK    OK    OK    OK  UNNEEDED, same version is already published
taishanLinux (openEuler 24.03 LTS) / aarch64  OK    OK    OK  
Package 166/179HostnameOS / ArchINSTALLBUILDCHECKBUILD BIN
TEKRABber 1.13.0  (landing page)
Yao-Chung Chen
git_last_commit: 0d2fc40
git_last_commit_date: 2025-04-15 12:45:51 -0400
nebbiolo2Linux (Ubuntu 24.04.1 LTS) / x86_64  OK    OK    OK  UNNEEDED, same version is already published
palomino8Windows Server 2022 Datacenter / x64  OK    OK    OK    OK  UNNEEDED, same version is already published
lconwaymacOS 12.7.1 Monterey / x86_64  OK    OK    ERROR    OK  
kjohnson3macOS 13.7.1 Ventura / arm64  OK    OK    ERROR    OK  
taishanLinux (openEuler 24.03 LTS) / aarch64  OK    OK    OK  
Package 167/179HostnameOS / ArchINSTALLBUILDCHECKBUILD BIN
TENET 1.1.1  (landing page)
Rhie Lab at the University of Southern California
git_last_commit: 52aa25d
git_last_commit_date: 2025-05-06 20:14:17 -0400
nebbiolo2Linux (Ubuntu 24.04.1 LTS) / x86_64  OK    OK    OK  UNNEEDED, same version is already published
palomino8Windows Server 2022 Datacenter / x64  OK    OK    OK    OK  UNNEEDED, same version is already published
lconwaymacOS 12.7.1 Monterey / x86_64  OK    OK    OK    OK  UNNEEDED, same version is already published
kjohnson3macOS 13.7.1 Ventura / arm64  OK    OK    OK    OK  UNNEEDED, same version is already published
taishanLinux (openEuler 24.03 LTS) / aarch64  OK    OK    OK  
Package 168/179HostnameOS / ArchINSTALLBUILDCHECKBUILD BIN
TFBSTools 1.47.0  (landing page)
Ge Tan
git_last_commit: 2411624
git_last_commit_date: 2025-04-15 10:27:15 -0400
nebbiolo2Linux (Ubuntu 24.04.1 LTS) / x86_64  OK    OK    OK  UNNEEDED, same version is already published
palomino8Windows Server 2022 Datacenter / x64  OK    OK    OK    OK  UNNEEDED, same version is already published
lconwaymacOS 12.7.1 Monterey / x86_64  OK    OK    OK    OK  UNNEEDED, same version is already published
kjohnson3macOS 13.7.1 Ventura / arm64  OK    OK    OK    OK  UNNEEDED, same version is already published
taishanLinux (openEuler 24.03 LTS) / aarch64  OK    OK    OK  
Package 169/179HostnameOS / ArchINSTALLBUILDCHECKBUILD BIN
tidyCoverage 1.5.0  (landing page)
Jacques Serizay
git_last_commit: 7130a9e
git_last_commit_date: 2025-04-15 13:27:07 -0400
nebbiolo2Linux (Ubuntu 24.04.1 LTS) / x86_64  OK    OK    OK  UNNEEDED, same version is already published
palomino8Windows Server 2022 Datacenter / x64  OK    OK    OK    OK  UNNEEDED, same version is already published
lconwaymacOS 12.7.1 Monterey / x86_64  OK    OK    OK    OK  UNNEEDED, same version is already published
kjohnson3macOS 13.7.1 Ventura / arm64  OK    OK    OK    OK  UNNEEDED, same version is already published
taishanLinux (openEuler 24.03 LTS) / aarch64  OK    TIMEOUT  skipped
Package 170/179HostnameOS / ArchINSTALLBUILDCHECKBUILD BIN
trackViewer 1.45.0  (landing page)
Jianhong Ou
git_last_commit: bec65d1
git_last_commit_date: 2025-04-15 10:28:30 -0400
nebbiolo2Linux (Ubuntu 24.04.1 LTS) / x86_64  OK    OK    OK  UNNEEDED, same version is already published
palomino8Windows Server 2022 Datacenter / x64  OK    OK    OK    OK  UNNEEDED, same version is already published
lconwaymacOS 12.7.1 Monterey / x86_64  OK    OK    OK    OK  UNNEEDED, same version is already published
kjohnson3macOS 13.7.1 Ventura / arm64  OK    OK    OK    OK  UNNEEDED, same version is already published
taishanLinux (openEuler 24.03 LTS) / aarch64  OK    OK    OK  
Package 171/179HostnameOS / ArchINSTALLBUILDCHECKBUILD BIN
transcriptR 1.37.0  (landing page)
Armen R. Karapetyan
git_last_commit: cdc425b
git_last_commit_date: 2025-04-15 10:57:04 -0400
nebbiolo2Linux (Ubuntu 24.04.1 LTS) / x86_64  OK    OK    OK  UNNEEDED, same version is already published
palomino8Windows Server 2022 Datacenter / x64  OK    OK    OK    OK  UNNEEDED, same version is already published
lconwaymacOS 12.7.1 Monterey / x86_64  OK    OK    OK    OK  UNNEEDED, same version is already published
kjohnson3macOS 13.7.1 Ventura / arm64  OK    OK    OK    OK  UNNEEDED, same version is already published
taishanLinux (openEuler 24.03 LTS) / aarch64  OK    OK    OK  
Package 172/179HostnameOS / ArchINSTALLBUILDCHECKBUILD BIN
TRESS 1.15.0  (landing page)
Zhenxing Guo
git_last_commit: 75fcb0a
git_last_commit_date: 2025-04-15 12:40:12 -0400
nebbiolo2Linux (Ubuntu 24.04.1 LTS) / x86_64  OK    OK    OK  UNNEEDED, same version is already published
palomino8Windows Server 2022 Datacenter / x64  OK    OK    OK    OK  UNNEEDED, same version is already published
lconwaymacOS 12.7.1 Monterey / x86_64  OK    OK    OK    OK  UNNEEDED, same version is already published
kjohnson3macOS 13.7.1 Ventura / arm64  OK    OK    OK    OK  UNNEEDED, same version is already published
taishanLinux (openEuler 24.03 LTS) / aarch64  OK    OK    OK  
Package 173/179HostnameOS / ArchINSTALLBUILDCHECKBUILD BIN
tRNAscanImport 1.29.0  (landing page)
Felix G.M. Ernst
git_last_commit: 0d10f87
git_last_commit_date: 2025-04-15 11:18:32 -0400
nebbiolo2Linux (Ubuntu 24.04.1 LTS) / x86_64  OK    OK    OK  UNNEEDED, same version is already published
palomino8Windows Server 2022 Datacenter / x64  OK    OK    OK    OK  UNNEEDED, same version is already published
lconwaymacOS 12.7.1 Monterey / x86_64  OK    OK    OK    OK  UNNEEDED, same version is already published
kjohnson3macOS 13.7.1 Ventura / arm64  OK    OK    OK    OK  UNNEEDED, same version is already published
taishanLinux (openEuler 24.03 LTS) / aarch64  OK    OK    OK  
Package 174/179HostnameOS / ArchINSTALLBUILDCHECKBUILD BIN
txcutr 1.15.0  (landing page)
Mervin Fansler
git_last_commit: 89bdb42
git_last_commit_date: 2025-04-15 12:42:23 -0400
nebbiolo2Linux (Ubuntu 24.04.1 LTS) / x86_64  OK    OK    ERROR  
palomino8Windows Server 2022 Datacenter / x64  OK    OK    OK    OK  UNNEEDED, same version is already published
lconwaymacOS 12.7.1 Monterey / x86_64  OK    OK    OK    OK  UNNEEDED, same version is already published
kjohnson3macOS 13.7.1 Ventura / arm64  OK    OK    OK    OK  UNNEEDED, same version is already published
taishanLinux (openEuler 24.03 LTS) / aarch64  OK    TIMEOUT  skipped
Package 175/179HostnameOS / ArchINSTALLBUILDCHECKBUILD BIN
txdbmaker 1.5.1  (landing page)
H. Pagès
git_last_commit: 63550a2
git_last_commit_date: 2025-04-30 12:36:49 -0400
nebbiolo2Linux (Ubuntu 24.04.1 LTS) / x86_64  OK    OK    ERROR  
palomino8Windows Server 2022 Datacenter / x64  OK    OK    ERROR    OK  
lconwaymacOS 12.7.1 Monterey / x86_64  OK    OK    ERROR    OK  
kjohnson3macOS 13.7.1 Ventura / arm64  OK    OK    ERROR    OK  
taishanLinux (openEuler 24.03 LTS) / aarch64  OK    OK    ERROR  
Package 176/179HostnameOS / ArchINSTALLBUILDCHECKBUILD BIN
VariantAnnotation 1.55.0  (landing page)
Bioconductor Package Maintainer
git_last_commit: 4e5e6a2
git_last_commit_date: 2025-04-15 10:09:35 -0400
nebbiolo2Linux (Ubuntu 24.04.1 LTS) / x86_64  OK    OK    WARNINGS  UNNEEDED, same version is already published
palomino8Windows Server 2022 Datacenter / x64  OK    ERROR  skippedskipped
lconwaymacOS 12.7.1 Monterey / x86_64  OK    OK    WARNINGS    OK  UNNEEDED, same version is already published
kjohnson3macOS 13.7.1 Ventura / arm64  OK    OK    WARNINGS    OK  UNNEEDED, same version is already published
taishanLinux (openEuler 24.03 LTS) / aarch64  OK    OK    WARNINGS  
Package 177/179HostnameOS / ArchINSTALLBUILDCHECKBUILD BIN
VariantTools 1.51.0  (landing page)
Michael Lawrence
git_last_commit: 1425785
git_last_commit_date: 2025-04-15 10:16:18 -0400
nebbiolo2Linux (Ubuntu 24.04.1 LTS) / x86_64  OK    OK    WARNINGS  UNNEEDED, same version is already published
palomino8Windows Server 2022 Datacenter / x64  OK    OK    WARNINGS    OK  UNNEEDED, same version is already published
lconwaymacOS 12.7.1 Monterey / x86_64  OK    OK    WARNINGS    OK  UNNEEDED, same version is already published
kjohnson3macOS 13.7.1 Ventura / arm64  OK    OK    ERROR    OK  
taishanLinux (openEuler 24.03 LTS) / aarch64  OK    OK    WARNINGS  
Package 178/179HostnameOS / ArchINSTALLBUILDCHECKBUILD BIN
wavClusteR 2.43.0  (landing page)
Federico Comoglio
git_last_commit: d3893ef
git_last_commit_date: 2025-04-15 10:31:43 -0400
nebbiolo2Linux (Ubuntu 24.04.1 LTS) / x86_64  OK    OK    OK  UNNEEDED, same version is already published
palomino8Windows Server 2022 Datacenter / x64  OK    OK    OK    OK  UNNEEDED, same version is already published
lconwaymacOS 12.7.1 Monterey / x86_64  OK    OK    OK    OK  UNNEEDED, same version is already published
kjohnson3macOS 13.7.1 Ventura / arm64  OK    OK    OK    OK  UNNEEDED, same version is already published
taishanLinux (openEuler 24.03 LTS) / aarch64  OK    OK    OK  
Package 179/179HostnameOS / ArchINSTALLBUILDCHECKBUILD BIN
wiggleplotr 1.33.0  (landing page)
Kaur Alasoo
git_last_commit: f669792
git_last_commit_date: 2025-04-15 11:09:52 -0400
nebbiolo2Linux (Ubuntu 24.04.1 LTS) / x86_64  OK    OK    ERROR  
palomino8Windows Server 2022 Datacenter / x64  OK    OK    OK    OK  UNNEEDED, same version is already published
lconwaymacOS 12.7.1 Monterey / x86_64  OK    OK    OK    OK  UNNEEDED, same version is already published
kjohnson3macOS 13.7.1 Ventura / arm64  OK    OK    OK    OK  UNNEEDED, same version is already published
taishanLinux (openEuler 24.03 LTS) / aarch64  OK    OK    OK