| Back to Build/check report for BioC 3.23: simplified long |
|
This page was generated on 2025-11-12 11:32 -0500 (Wed, 12 Nov 2025).
| Hostname | OS | Arch (*) | R version | Installed pkgs |
|---|---|---|---|---|
| nebbiolo1 | Linux (Ubuntu 24.04.3 LTS) | x86_64 | R Under development (unstable) (2025-10-20 r88955) -- "Unsuffered Consequences" | 4823 |
| Click on any hostname to see more info about the system (e.g. compilers) (*) as reported by 'uname -p', except on Windows and Mac OS X | ||||
| Package 265/2325 | Hostname | OS / Arch | INSTALL | BUILD | CHECK | BUILD BIN | ||||||||
| CAGEfightR 1.31.0 (landing page) Malte Thodberg
| nebbiolo1 | Linux (Ubuntu 24.04.3 LTS) / x86_64 | OK | OK | OK | |||||||||
|
To the developers/maintainers of the CAGEfightR package: - Allow up to 24 hours (and sometimes 48 hours) for your latest push to git@git.bioconductor.org:packages/CAGEfightR.git to reflect on this report. See Troubleshooting Build Report for more information. - Use the following Renviron settings to reproduce errors and warnings. - If 'R CMD check' started to fail recently on the Linux builder(s) over a missing dependency, add the missing dependency to 'Suggests:' in your DESCRIPTION file. See Renviron.bioc for more information. |
| Package: CAGEfightR |
| Version: 1.31.0 |
| Command: /home/biocbuild/bbs-3.23-bioc/R/bin/R CMD check --install=check:CAGEfightR.install-out.txt --library=/home/biocbuild/bbs-3.23-bioc/R/site-library --timings CAGEfightR_1.31.0.tar.gz |
| StartedAt: 2025-11-11 21:45:32 -0500 (Tue, 11 Nov 2025) |
| EndedAt: 2025-11-11 21:54:39 -0500 (Tue, 11 Nov 2025) |
| EllapsedTime: 546.7 seconds |
| RetCode: 0 |
| Status: OK |
| CheckDir: CAGEfightR.Rcheck |
| Warnings: 0 |
##############################################################################
##############################################################################
###
### Running command:
###
### /home/biocbuild/bbs-3.23-bioc/R/bin/R CMD check --install=check:CAGEfightR.install-out.txt --library=/home/biocbuild/bbs-3.23-bioc/R/site-library --timings CAGEfightR_1.31.0.tar.gz
###
##############################################################################
##############################################################################
* using log directory ‘/home/biocbuild/bbs-3.23-bioc/meat/CAGEfightR.Rcheck’
* using R Under development (unstable) (2025-10-20 r88955)
* using platform: x86_64-pc-linux-gnu
* R was compiled by
gcc (Ubuntu 13.3.0-6ubuntu2~24.04) 13.3.0
GNU Fortran (Ubuntu 13.3.0-6ubuntu2~24.04) 13.3.0
* running under: Ubuntu 24.04.3 LTS
* using session charset: UTF-8
* checking for file ‘CAGEfightR/DESCRIPTION’ ... OK
* checking extension type ... Package
* this is package ‘CAGEfightR’ version ‘1.31.0’
* package encoding: UTF-8
* checking package namespace information ... OK
* checking package dependencies ... OK
* checking if this is a source package ... OK
* checking if there is a namespace ... OK
* checking for hidden files and directories ... OK
* checking for portable file names ... OK
* checking for sufficient/correct file permissions ... OK
* checking whether package ‘CAGEfightR’ can be installed ... OK
* checking installed package size ... OK
* checking package directory ... OK
* checking ‘build’ directory ... OK
* checking DESCRIPTION meta-information ... OK
* checking top-level files ... OK
* checking for left-over files ... OK
* checking index information ... OK
* checking package subdirectories ... OK
* checking code files for non-ASCII characters ... OK
* checking R files for syntax errors ... OK
* checking whether the package can be loaded ... OK
* checking whether the package can be loaded with stated dependencies ... OK
* checking whether the package can be unloaded cleanly ... OK
* checking whether the namespace can be loaded with stated dependencies ... OK
* checking whether the namespace can be unloaded cleanly ... OK
* checking loading without being on the library search path ... OK
* checking whether startup messages can be suppressed ... OK
* checking dependencies in R code ... OK
* checking S3 generic/method consistency ... OK
* checking replacement functions ... OK
* checking foreign function calls ... OK
* checking R code for possible problems ... OK
* checking Rd files ... OK
* checking Rd metadata ... OK
* checking Rd cross-references ... OK
* checking for missing documentation entries ... OK
* checking for code/documentation mismatches ... OK
* checking Rd \usage sections ... OK
* checking Rd contents ... OK
* checking for unstated dependencies in examples ... OK
* checking contents of ‘data’ directory ... OK
* checking data for non-ASCII characters ... OK
* checking LazyData ... OK
* checking data for ASCII and uncompressed saves ... OK
* checking files in ‘vignettes’ ... OK
* checking examples ... OK
Examples with CPU (user + system) or elapsed time > 5s
user system elapsed
findLinks 5.505 0.994 5.921
* checking for unstated dependencies in vignettes ... OK
* checking package vignettes ... OK
* checking re-building of vignette outputs ... OK
* checking PDF version of manual ... OK
* DONE
Status: OK
CAGEfightR.Rcheck/00install.out
############################################################################## ############################################################################## ### ### Running command: ### ### /home/biocbuild/bbs-3.23-bioc/R/bin/R CMD INSTALL CAGEfightR ### ############################################################################## ############################################################################## * installing to library ‘/home/biocbuild/bbs-3.23-bioc/R/site-library’ * installing *source* package ‘CAGEfightR’ ... ** this is package ‘CAGEfightR’ version ‘1.31.0’ ** using staged installation ** R ** data *** moving datasets to lazyload DB ** inst ** byte-compile and prepare package for lazy loading ** help *** installing help indices ** building package indices ** installing vignettes ** testing if installed package can be loaded from temporary location ** testing if installed package can be loaded from final location ** testing if installed package keeps a record of temporary installation path * DONE (CAGEfightR)
CAGEfightR.Rcheck/CAGEfightR-Ex.timings
| name | user | system | elapsed | |
| assignGeneID | 3.426 | 0.100 | 3.537 | |
| assignMissingID | 0.957 | 0.021 | 0.980 | |
| assignTxID | 0.761 | 0.020 | 0.781 | |
| assignTxType | 0 | 0 | 0 | |
| balanceBC | 0.000 | 0.001 | 0.000 | |
| balanceD | 0 | 0 | 0 | |
| bwCommonGenome | 0.032 | 0.001 | 0.036 | |
| bwGenomeCompatibility | 0.015 | 0.001 | 0.016 | |
| bwValid | 0.007 | 0.001 | 0.008 | |
| calcBidirectionality | 0.375 | 0.002 | 0.377 | |
| calcComposition | 1.171 | 0.011 | 1.183 | |
| calcPooled | 0.078 | 0.004 | 0.082 | |
| calcShape | 2.129 | 0.081 | 2.211 | |
| calcSupport | 0.117 | 0.000 | 0.117 | |
| calcTPM | 0.105 | 0.001 | 0.106 | |
| calcTotalTags | 0.053 | 0.003 | 0.056 | |
| checkCTSSs | 0.220 | 0.001 | 0.221 | |
| checkPeaked | 0.056 | 0.005 | 0.060 | |
| checkPooled | 0.053 | 0.002 | 0.055 | |
| clusterBidirectionally | 0.000 | 0.000 | 0.001 | |
| clusterUnidirectionally | 1.434 | 0.047 | 1.481 | |
| combineClusters | 0.692 | 0.007 | 0.699 | |
| convertBAM2BigWig | 0.000 | 0.001 | 0.000 | |
| convertBED2BigWig | 0.000 | 0.001 | 0.000 | |
| convertGRanges2GPos | 0.065 | 0.001 | 0.066 | |
| exampleDesign | 0.002 | 0.003 | 0.004 | |
| findLinks | 5.505 | 0.994 | 5.921 | |
| findStretches | 0.339 | 0.033 | 0.374 | |
| quantifyCTSSs | 0.000 | 0.001 | 0.001 | |
| quantifyCTSSs2 | 0.001 | 0.000 | 0.000 | |
| quantifyClusters | 0.329 | 0.061 | 0.390 | |
| quantifyGenes | 1.070 | 0.130 | 1.202 | |
| quickEnhancers | 0 | 0 | 0 | |
| quickGenes | 0 | 0 | 0 | |
| quickTSSs | 0 | 0 | 0 | |
| shapeEntropy | 0.001 | 0.000 | 0.001 | |
| shapeIQR | 0.001 | 0.000 | 0.001 | |
| shapeMean | 0.000 | 0.001 | 0.000 | |
| shapeMultimodality | 0.000 | 0.001 | 0.000 | |
| subsetByBidirectionality | 0.387 | 0.059 | 0.445 | |
| subsetByComposition | 1.060 | 0.049 | 1.108 | |
| subsetBySupport | 0.067 | 0.001 | 0.067 | |
| swapRanges | 0.152 | 0.005 | 0.157 | |
| swapScores | 0.082 | 0.001 | 0.083 | |
| trackBalance | 0.000 | 0.001 | 0.000 | |
| trackCTSS | 3.124 | 0.507 | 3.631 | |
| trackClusters | 2.044 | 0.206 | 2.249 | |
| trackLinks | 0.810 | 0.477 | 1.015 | |
| trimToPeak | 0.756 | 0.139 | 0.895 | |
| trimToPercentiles | 1.968 | 0.183 | 2.151 | |
| tuneTagClustering | 0 | 0 | 0 | |
| utilsAggregateRows | 0.276 | 0.435 | 0.710 | |
| utilsDeStrand | 0.103 | 0.007 | 0.109 | |
| utilsScoreOverlaps | 0.054 | 0.003 | 0.057 | |
| utilsSimplifyTxDb | 0.000 | 0.001 | 0.000 | |